Workbook

Sheet Config
A1: PriceMinimumCenterBase Settings
A2: PriceMinimumCenterBase.Consumable | B2: 1000
A3: PriceMinimumCenterBase.Gem | B3: 1000
A4: PriceMinimumCenterBase.TradeGood | B4: 850
A5: PriceMinimumCenterBase.Misc | B5: 1000
A6: PriceMinimumCenterBase.Glyph | B6: 1000
A8: Buyout Variation Percent Settings
A9: BuyoutVariationReducePercent | B9: 0.15
A10: BuyoutVariationAddPercent | B10: 0.25
A12: Broad Category Multipliers
A13: PriceMultiplier.Category.Consumable | B13: 1
A14: PriceMultiplier.Category.Gem | B14: 1
A15: PriceMultiplier.Category.TradeGood | B15: 1
A16: PriceMultiplier.Category.Misc | B16: 1
A17: PriceMultiplier.Category.Glyph | B17: 1
A19: Broad Quality Multipliers
A20: PriceMultiplier.Quality.Poor | B20: 1
A21: PriceMultiplier.Quality.Normal | B21: 1
A22: PriceMultiplier.Quality.Uncommon | B22: 1.8
A23: PriceMultiplier.Quality.Rare | B23: 1.9
A24: PriceMultiplier.Quality.Epic | B24: 2.1
A25: PriceMultiplier.Quality.Legendary | B25: 3
A26: PriceMultiplier.Quality.Artifact | B26: 3
A27: PriceMultiplier.Quality.Heirloom | B27: 3
A29: Consumable
A30: PriceMultiplier.CategoryConsumable.QualityPoor | B30: 1
A31: PriceMultiplier.CategoryConsumable.QualityNormal | B31: 1
A32: PriceMultiplier.CategoryConsumable.QualityUncommon | B32: 1
A33: PriceMultiplier.CategoryConsumable.QualityRare | B33: 1
A34: PriceMultiplier.CategoryConsumable.QualityEpic | B34: 1
A35: PriceMultiplier.CategoryConsumable.QualityLegendary | B35: 1
A36: PriceMultiplier.CategoryConsumable.QualityArtifact | B36: 1
A37: PriceMultiplier.CategoryConsumable.QualityHeirloom | B37: 1
A39: Gem
A40: PriceMultiplier.CategoryGem.QualityPoor | B40: 1
A41: PriceMultiplier.CategoryGem.QualityNormal | B41: 1
A42: PriceMultiplier.CategoryGem.QualityUncommon | B42: 1.2
A43: PriceMultiplier.CategoryGem.QualityRare | B43: 1.2
A44: PriceMultiplier.CategoryGem.QualityEpic | B44: 0.9
A45: PriceMultiplier.CategoryGem.QualityLegendary | B45: 1
...

Sheet Jewelcrafting
A1: a | B1: Quality Multiplier | C1: Quality | D1: NAME | E1: vendor price | F1: itemLevel | G1: Min Price | H1: Avg Price | I1: Low | J1: High | K1: Low End | L1: Average | M1: High End | N1: NAME
A2: 10 | B2: =IF(C2=0, Config!$B$15*Config!$B$20*Config!$B$50, IF(C2=1, Config!$B$15*Config!$B$21*Config!$B$51, IF(C2=2, Config!$B$15*Config!$B$22*Config!$B$52, IF(C2=3, Config!$B$15*Config!$B$23*Config!$B$53, IF(C2=4, Config!$B$15*Config!$B$24*Config!$B$54, IF(C2=5, Config!$B$15*Config!$B$25*Config!$B$55, IF(C2=6, Config!$B$15*Config!$B$26*Config!$B$56, IF(C2=7, Config!$B$15*Config!$B$27*Config!$B$57, "")))))))) -> 2.16 | C2: 2 | D2: Malachite | E2: 15 | F2: 7 | G2: =IF(E2 < Config!$B$4, Config!$B$4, E2) -> 850 | H2: =G2 * B2 * ( (LN(1 + ($A$5 * F2))^$A$8)/(1 + $A$2 * LN(1 + ($A$5 * F2))) + ($A$11 * LN(1 + ($A$5 * F2))^$A$14) - $A$17) -> 187.33587 | I2: =H2 * (1 - Config!$B$9) -> 159.23549 | J2: =H2 * (1 + Config!$B$10) -> 234.16983 | K2: =IF(I2<0,"-","") & INT(ABS(I2)/10000) & "g " & INT(MOD(ABS(I2),10000)/100) & "s " & ROUND(MOD(ABS(I2),100),0) & "c" -> 0g 1s 59c | L2: =IF(H2<0,"-","") & INT(ABS(H2)/10000) & "g " & INT(MOD(ABS(H2),10000)/100) & "s " & ROUND(MOD(ABS(H2),100),0) & "c" -> 0g 1s 87c | M2: =IF(J2<0,"-","") & INT(ABS(J2)/10000) & "g " & INT(MOD(ABS(J2),10000)/100) & "s " & ROUND(MOD(ABS(J2),100),0) & "c" -> 0g 2s 34c | N2: =D2 -> Malachite
B3: =IF(C3=0, Config!$B$15*Config!$B$20*Config!$B$50, IF(C3=1, Config!$B$15*Config!$B$21*Config!$B$51, IF(C3=2, Config!$B$15*Config!$B$22*Config!$B$52, IF(C3=3, Config!$B$15*Config!$B$23*Config!$B$53, IF(C3=4, Config!$B$15*Config!$B$24*Config!$B$54, IF(C3=5, Config!$B$15*Config!$B$25*Config!$B$55, IF(C3=6, Config!$B$15*Config!$B$26*Config!$B$56, IF(C3=7, Config!$B$15*Config!$B$27*Config!$B$57, "")))))))) -> 2.16 | C3: 2 | D3: Tigerseye | E3: 100 | F3: 15 | G3: =IF(E3 < Config!$B$4, Config!$B$4, E3) -> 850 | H3: =G3 * B3 * ( (LN(1 + ($A$5 * F3))^$A$8)/(1 + $A$2 * LN(1 + ($A$5 * F3))) + ($A$11 * LN(1 + ($A$5 * F3))^$A$14) - $A$17) -> 477.53339 | I3: =H3 * (1 - Config!$B$9) -> 405.90338 | J3: =H3 * (1 + Config!$B$10) -> 596.91674 | K3: =IF(I3<0,"-","") & INT(ABS(I3)/10000) & "g " & INT(MOD(ABS(I3),10000)/100) & "s " & ROUND(MOD(ABS(I3),100),0) & "c" -> 0g 4s 6c | L3: =IF(H3<0,"-","") & INT(ABS(H3)/10000) & "g " & INT(MOD(ABS(H3),10000)/100) & "s " & ROUND(MOD(ABS(H3),100),0) & "c" -> 0g 4s 78c | M3: =IF(J3<0,"-","") & INT(ABS(J3)/10000) & "g " & INT(MOD(ABS(J3),10000)/100) & "s " & ROUND(MOD(ABS(J3),100),0) & "c" -> 0g 5s 97c | N3: =D3 -> Tigerseye
A4: b | B4: =IF(C4=0, Config!$B$15*Config!$B$20*Config!$B$50, IF(C4=1, Config!$B$15*Config!$B$21*Config!$B$51, IF(C4=2, Config!$B$15*Config!$B$22*Config!$B$52, IF(C4=3, Config!$B$15*Config!$B$23*Config!$B$53, IF(C4=4, Config!$B$15*Config!$B$24*Config!$B$54, IF(C4=5, Config!$B$15*Config!$B$25*Config!$B$55, IF(C4=6, Config!$B$15*Config!$B$26*Config!$B$56, IF(C4=7, Config!$B$15*Config!$B$27*Config!$B$57, "")))))))) -> 2.16 | C4: 2 | D4: Small Lustrous Pearl | E4: 200 | F4: 15 | G4: =IF(E4 < Config!$B$4, Config!$B$4, E4) -> 850 | H4: =G4 * B4 * ( (LN(1 + ($A$5 * F4))^$A$8)/(1 + $A$2 * LN(1 + ($A$5 * F4))) + ($A$11 * LN(1 + ($A$5 * F4))^$A$14) - $A$17) -> 477.53339 | I4: =H4 * (1 - Config!$B$9) -> 405.90338 | J4: =H4 * (1 + Config!$B$10) -> 596.91674 | K4: =IF(I4<0,"-","") & INT(ABS(I4)/10000) & "g " & INT(MOD(ABS(I4),10000)/100) & "s " & ROUND(MOD(ABS(I4),100),0) & "c" -> 0g 4s 6c | L4: =IF(H4<0,"-","") & INT(ABS(H4)/10000) & "g " & INT(MOD(ABS(H4),10000)/100) & "s " & ROUND(MOD(ABS(H4),100),0) & "c" -> 0g 4s 78c | M4: =IF(J4<0,"-","") & INT(ABS(J4)/10000) & "g " & INT(MOD(ABS(J4),10000)/100) & "s " & ROUND(MOD(ABS(J4),100),0) & "c" -> 0g 5s 97c | N4: =D4 -> Small Lustrous Pearl
A5: 0.05 | B5: =IF(C5=0, Config!$B$15*Config!$B$20*Config!$B$50, IF(C5=1, Config!$B$15*Config!$B$21*Config!$B$51, IF(C5=2, Config!$B$15*Config!$B$22*Config!$B$52, IF(C5=3, Config!$B$15*Config!$B$23*Config!$B$53, IF(C5=4, Config!$B$15*Config!$B$24*Config!$B$54, IF(C5=5, Config!$B$15*Config!$B$25*Config!$B$55, IF(C5=6, Config!$B$15*Config!$B$26*Config!$B$56, IF(C5=7, Config!$B$15*Config!$B$27*Config!$B$57, "")))))))) -> 2.16 | C5: 2 | D5: Shadowgem | E5: 250 | F5: 20 | G5: =IF(E5 < Config!$B$4, Config!$B$4, E5) -> 850 | H5: =G5 * B5 * ( (LN(1 + ($A$5 * F5))^$A$8)/(1 + $A$2 * LN(1 + ($A$5 * F5))) + ($A$11 * LN(1 + ($A$5 * F5))^$A$14) - $A$17) -> 771.88497 | I5: =H5 * (1 - Config!$B$9) -> 656.10223 | J5: =H5 * (1 + Config!$B$10) -> 964.85622 | K5: =IF(I5<0,"-","") & INT(ABS(I5)/10000) & "g " & INT(MOD(ABS(I5),10000)/100) & "s " & ROUND(MOD(ABS(I5),100),0) & "c" -> 0g 6s 56c | L5: =IF(H5<0,"-","") & INT(ABS(H5)/10000) & "g " & INT(MOD(ABS(H5),10000)/100) & "s " & ROUND(MOD(ABS(H5),100),0) & "c" -> 0g 7s 72c | M5: =IF(J5<0,"-","") & INT(ABS(J5)/10000) & "g " & INT(MOD(ABS(J5),10000)/100) & "s " & ROUND(MOD(ABS(J5),100),0) & "c" -> 0g 9s 65c | N5: =D5 -> Shadowgem
B6: =IF(C6=0, Config!$B$15*Config!$B$20*Config!$B$50, IF(C6=1, Config!$B$15*Config!$B$21*Config!$B$51, IF(C6=2, Config!$B$15*Config!$B$22*Config!$B$52, IF(C6=3, Config!$B$15*Config!$B$23*Config!$B$53, IF(C6=4, Config!$B$15*Config!$B$24*Config!$B$54, IF(C6=5, Config!$B$15*Config!$B$25*Config!$B$55, IF(C6=6, Config!$B$15*Config!$B$26*Config!$B$56, IF(C6=7, Config!$B$15*Config!$B$27*Config!$B$57, "")))))))) -> 2.16 | C6: 2 | D6: Moss Agate | E6: 400 | F6: 25 | G6: =IF(E6 < Config!$B$4, Config!$B$4, E6) -> 850 | H6: =G6 * B6 * ( (LN(1 + ($A$5 * F6))^$A$8)/(1 + $A$2 * LN(1 + ($A$5 * F6))) + ($A$11 * LN(1 + ($A$5 * F6))^$A$14) - $A$17) -> 1142.5359 | I6: =H6 * (1 - Config!$B$9) -> 971.15554 | J6: =H6 * (1 + Config!$B$10) -> 1428.1699 | K6: =IF(I6<0,"-","") & INT(ABS(I6)/10000) & "g " & INT(MOD(ABS(I6),10000)/100) & "s " & ROUND(MOD(ABS(I6),100),0) & "c" -> 0g 9s 71c | L6: =IF(H6<0,"-","") & INT(ABS(H6)/10000) & "g " & INT(MOD(ABS(H6),10000)/100) & "s " & ROUND(MOD(ABS(H6),100),0) & "c" -> 0g 11s 43c | M6: =IF(J6<0,"-","") & INT(ABS(J6)/10000) & "g " & INT(MOD(ABS(J6),10000)/100) & "s " & ROUND(MOD(ABS(J6),100),0) & "c" -> 0g 14s 28c | N6: =D6 -> Moss Agate
A7: p | B7: =IF(C7=0, Config!$B$15*Config!$B$20*Config!$B$50, IF(C7=1, Config!$B$15*Config!$B$21*Config!$B$51, IF(C7=2, Config!$B$15*Config!$B$22*Config!$B$52, IF(C7=3, Config!$B$15*Config!$B$23*Config!$B$53, IF(C7=4, Config!$B$15*Config!$B$24*Config!$B$54, IF(C7=5, Config!$B$15*Config!$B$25*Config!$B$55, IF(C7=6, Config!$B$15*Config!$B$26*Config!$B$56, IF(C7=7, Config!$B$15*Config!$B$27*Config!$B$57, "")))))))) -> 2.16 | C7: 2 | D7: Iridescent Pearl | E7: 750 | F7: 25 | G7: =IF(E7 < Config!$B$4, Config!$B$4, E7) -> 850 | H7: =G7 * B7 * ( (LN(1 + ($A$5 * F7))^$A$8)/(1 + $A$2 * LN(1 + ($A$5 * F7))) + ($A$11 * LN(1 + ($A$5 * F7))^$A$14) - $A$17) -> 1142.5359 | I7: =H7 * (1 - Config!$B$9) -> 971.15554 | J7: =H7 * (1 + Config!$B$10) -> 1428.1699 | K7: =IF(I7<0,"-","") & INT(ABS(I7)/10000) & "g " & INT(MOD(ABS(I7),10000)/100) & "s " & ROUND(MOD(ABS(I7),100),0) & "c" -> 0g 9s 71c | L7: =IF(H7<0,"-","") & INT(ABS(H7)/10000) & "g " & INT(MOD(ABS(H7),10000)/100) & "s " & ROUND(MOD(ABS(H7),100),0) & "c" -> 0g 11s 43c | M7: =IF(J7<0,"-","") & INT(ABS(J7)/10000) & "g " & INT(MOD(ABS(J7),10000)/100) & "s " & ROUND(MOD(ABS(J7),100),0) & "c" -> 0g 14s 28c | N7: =D7 -> Iridescent Pearl
A8: 1 | B8: =IF(C8=0, Config!$B$15*Config!$B$20*Config!$B$50, IF(C8=1, Config!$B$15*Config!$B$21*Config!$B$51, IF(C8=2, Config!$B$15*Config!$B$22*Config!$B$52, IF(C8=3, Config!$B$15*Config!$B$23*Config!$B$53, IF(C8=4, Config!$B$15*Config!$B$24*Config!$B$54, IF(C8=5, Config!$B$15*Config!$B$25*Config!$B$55, IF(C8=6, Config!$B$15*Config!$B$26*Config!$B$56, IF(C8=7, Config!$B$15*Config!$B$27*Config!$B$57, "")))))))) -> 2.16 | C8: 2 | D8: Lesser Moonstone | E8: 600 | F8: 30 | G8: =IF(E8 < Config!$B$4, Config!$B$4, E8) -> 850 | H8: =G8 * B8 * ( (LN(1 + ($A$5 * F8))^$A$8)/(1 + $A$2 * LN(1 + ($A$5 * F8))) + ($A$11 * LN(1 + ($A$5 * F8))^$A$14) - $A$17) -> 1577.9826 | I8: =H8 * (1 - Config!$B$9) -> 1341.2852 | J8: =H8 * (1 + Config!$B$10) -> 1972.4782 | K8: =IF(I8<0,"-","") & INT(ABS(I8)/10000) & "g " & INT(MOD(ABS(I8),10000)/100) & "s " & ROUND(MOD(ABS(I8),100),0) & "c" -> 0g 13s 41c | L8: =IF(H8<0,"-","") & INT(ABS(H8)/10000) & "g " & INT(MOD(ABS(H8),10000)/100) & "s " & ROUND(MOD(ABS(H8),100),0) & "c" -> 0g 15s 78c | M8: =IF(J8<0,"-","") & INT(ABS(J8)/10000) & "g " & INT(MOD(ABS(J8),10000)/100) & "s " & ROUND(MOD(ABS(J8),100),0) & "c" -> 0g 19s 72c | N8: =D8 -> Lesser Moonstone
B9: =IF(C9=0, Config!$B$15*Config!$B$20*Config!$B$50, IF(C9=1, Config!$B$15*Config!$B$21*Config!$B$51, IF(C9=2, Config!$B$15*Config!$B$22*Config!$B$52, IF(C9=3, Config!$B$15*Config!$B$23*Config!$B$53, IF(C9=4, Config!$B$15*Config!$B$24*Config!$B$54, IF(C9=5, Config!$B$15*Config!$B$25*Config!$B$55, IF(C9=6, Config!$B$15*Config!$B$26*Config!$B$56, IF(C9=7, Config!$B$15*Config!$B$27*Config!$B$57, "")))))))) -> 2.16 | C9: 2 | D9: Jade | E9: 700 | F9: 35 | G9: =IF(E9 < Config!$B$4, Config!$B$4, E9) -> 850 | H9: =G9 * B9 * ( (LN(1 + ($A$5 * F9))^$A$8)/(1 + $A$2 * LN(1 + ($A$5 * F9))) + ($A$11 * LN(1 + ($A$5 * F9))^$A$14) - $A$17) -> 2067.7252 | I9: =H9 * (1 - Config!$B$9) -> 1757.5665 | J9: =H9 * (1 + Config!$B$10) -> 2584.6566 | K9: =IF(I9<0,"-","") & INT(ABS(I9)/10000) & "g " & INT(MOD(ABS(I9),10000)/100) & "s " & ROUND(MOD(ABS(I9),100),0) & "c" -> 0g 17s 58c | L9: =IF(H9<0,"-","") & INT(ABS(H9)/10000) & "g " & INT(MOD(ABS(H9),10000)/100) & "s " & ROUND(MOD(ABS(H9),100),0) & "c" -> 0g 20s 68c | M9: =IF(J9<0,"-","") & INT(ABS(J9)/10000) & "g " & INT(MOD(ABS(J9),10000)/100) & "s " & ROUND(MOD(ABS(J9),100),0) & "c" -> 0g 25s 85c | N9: =D9 -> Jade
A10: c | B10: =IF(C10=0, Config!$B$15*Config!$B$20*Config!$B$50, IF(C10=1, Config!$B$15*Config!$B$21*Config!$B$51, IF(C10=2, Config!$B$15*Config!$B$22*Config!$B$52, IF(C10=3, Config!$B$15*Config!$B$23*Config!$B$53, IF(C10=4, Config!$B$15*Config!$B$24*Config!$B$54, IF(C10=5, Config!$B$15*Config!$B$25*Config!$B$55, IF(C10=6, Config!$B$15*Config!$B$26*Config!$B$56, IF(C10=7, Config!$B$15*Config!$B$27*Config!$B$57, "")))))))) -> 2.16 | C10: 2 | D10: Citrine | E10: 800 | F10: 40 | G10: =IF(E10 < Config!$B$4, Config!$B$4, E10) -> 850 | H10: =G10 * B10 * ( (LN(1 + ($A$5 * F10))^$A$8)/(1 + $A$2 * LN(1 + ($A$5 * F10))) + ($A$11 * LN(1 + ($A$5 * F10))^$A$14) - $A$17) -> 2602.7613 | I10: =H10 * (1 - Config!$B$9) -> 2212.3471 | J10: =H10 * (1 + Config!$B$10) -> 3253.4516 | K10: =IF(I10<0,"-","") & INT(ABS(I10)/10000) & "g " & INT(MOD(ABS(I10),10000)/100) & "s " & ROUND(MOD(ABS(I10),100),0) & "c" -> 0g 22s 12c | L10: =IF(H10<0,"-","") & INT(ABS(H10)/10000) & "g " & INT(MOD(ABS(H10),10000)/100) & "s " & ROUND(MOD(ABS(H10),100),0) & "c" -> 0g 26s 3c | M10: =IF(J10<0,"-","") & INT(ABS(J10)/10000) & "g " & INT(MOD(ABS(J10),10000)/100) & "s " & ROUND(MOD(ABS(J10),100),0) & "c" -> 0g 32s 53c | N10: =D10 -> Citrine
A11: 1 | B11: =IF(C11=0, Config!$B$15*Config!$B$20*Config!$B$50, IF(C11=1, Config!$B$15*Config!$B$21*Config!$B$51, IF(C11=2, Config!$B$15*Config!$B$22*Config!$B$52, IF(C11=3, Config!$B$15*Config!$B$23*Config!$B$53, IF(C11=4, Config!$B$15*Config!$B$24*Config!$B$54, IF(C11=5, Config!$B$15*Config!$B$25*Config!$B$55, IF(C11=6, Config!$B$15*Config!$B$26*Config!$B$56, IF(C11=7, Config!$B$15*Config!$B$27*Config!$B$57, "")))))))) -> 2.16 | C11: 2 | D11: Black Pearl | E11: 1000 | F11: 40 | G11: =IF(E11 < Config!$B$4, Config!$B$4, E11) -> 1000 | H11: =G11 * B11 * ( (LN(1 + ($A$5 * F11))^$A$8)/(1 + $A$2 * LN(1 + ($A$5 * F11))) + ($A$11 * LN(1 + ($A$5 * F11))^$A$14) - $A$17) -> 3062.0721 | I11: =H11 * (1 - Config!$B$9) -> 2602.7613 | J11: =H11 * (1 + Config!$B$10) -> 3827.5901 | K11: =IF(I11<0,"-","") & INT(ABS(I11)/10000) & "g " & INT(MOD(ABS(I11),10000)/100) & "s " & ROUND(MOD(ABS(I11),100),0) & "c" -> 0g 26s 3c | L11: =IF(H11<0,"-","") & INT(ABS(H11)/10000) & "g " & INT(MOD(ABS(H11),10000)/100) & "s " & ROUND(MOD(ABS(H11),100),0) & "c" -> 0g 30s 62c | M11: =IF(J11<0,"-","") & INT(ABS(J11)/10000) & "g " & INT(MOD(ABS(J11),10000)/100) & "s " & ROUND(MOD(ABS(J11),100),0) & "c" -> 0g 38s 28c | N11: =D11 -> Black Pearl
B12: =IF(C12=0, Config!$B$15*Config!$B$20*Config!$B$50, IF(C12=1, Config!$B$15*Config!$B$21*Config!$B$51, IF(C12=2, Config!$B$15*Config!$B$22*Config!$B$52, IF(C12=3, Config!$B$15*Config!$B$23*Config!$B$53, IF(C12=4, Config!$B$15*Config!$B$24*Config!$B$54, IF(C12=5, Config!$B$15*Config!$B$25*Config!$B$55, IF(C12=6, Config!$B$15*Config!$B$26*Config!$B$56, IF(C12=7, Config!$B$15*Config!$B$27*Config!$B$57, "")))))))) -> 2.16 | C12: 2 | D12: Golden Pearl | E12: 10000 | F12: 40 | G12: =IF(E12 < Config!$B$4, Config!$B$4, E12) -> 10000 | H12: =G12 * B12 * ( (LN(1 + ($A$5 * F12))^$A$8)/(1 + $A$2 * LN(1 + ($A$5 * F12))) + ($A$11 * LN(1 + ($A$5 * F12))^$A$14) - $A$17) -> 30620.721 | I12: =H12 * (1 - Config!$B$9) -> 26027.613 | J12: =H12 * (1 + Config!$B$10) -> 38275.901 | K12: =IF(I12<0,"-","") & INT(ABS(I12)/10000) & "g " & INT(MOD(ABS(I12),10000)/100) & "s " & ROUND(MOD(ABS(I12),100),0) & "c" -> 2g 60s 28c | L12: =IF(H12<0,"-","") & INT(ABS(H12)/10000) & "g " & INT(MOD(ABS(H12),10000)/100) & "s " & ROUND(MOD(ABS(H12),100),0) & "c" -> 3g 6s 21c | M12: =IF(J12<0,"-","") & INT(ABS(J12)/10000) & "g " & INT(MOD(ABS(J12),10000)/100) & "s " & ROUND(MOD(ABS(J12),100),0) & "c" -> 3g 82s 76c | N12: =D12 -> Golden Pearl
A13: r | B13: =IF(C13=0, Config!$B$15*Config!$B$20*Config!$B$50, IF(C13=1, Config!$B$15*Config!$B$21*Config!$B$51, IF(C13=2, Config!$B$15*Config!$B$22*Config!$B$52, IF(C13=3, Config!$B$15*Config!$B$23*Config!$B$53, IF(C13=4, Config!$B$15*Config!$B$24*Config!$B$54, IF(C13=5, Config!$B$15*Config!$B$25*Config!$B$55, IF(C13=6, Config!$B$15*Config!$B$26*Config!$B$56, IF(C13=7, Config!$B$15*Config!$B$27*Config!$B$57, "")))))))) -> 2.16 | C13: 2 | D13: Jaggal Pearl | E13: 1000 | F13: 40 | G13: =IF(E13 < Config!$B$4, Config!$B$4, E13) -> 1000 | H13: =G13 * B13 * ( (LN(1 + ($A$5 * F13))^$A$8)/(1 + $A$2 * LN(1 + ($A$5 * F13))) + ($A$11 * LN(1 + ($A$5 * F13))^$A$14) - $A$17) -> 3062.0721 | I13: =H13 * (1 - Config!$B$9) -> 2602.7613 | J13: =H13 * (1 + Config!$B$10) -> 3827.5901 | K13: =IF(I13<0,"-","") & INT(ABS(I13)/10000) & "g " & INT(MOD(ABS(I13),10000)/100) & "s " & ROUND(MOD(ABS(I13),100),0) & "c" -> 0g 26s 3c | L13: =IF(H13<0,"-","") & INT(ABS(H13)/10000) & "g " & INT(MOD(ABS(H13),10000)/100) & "s " & ROUND(MOD(ABS(H13),100),0) & "c" -> 0g 30s 62c | M13: =IF(J13<0,"-","") & INT(ABS(J13)/10000) & "g " & INT(MOD(ABS(J13),10000)/100) & "s " & ROUND(MOD(ABS(J13),100),0) & "c" -> 0g 38s 28c | N13: =D13 -> Jaggal Pearl
A14: 3 | B14: =IF(C14=0, Config!$B$15*Config!$B$20*Config!$B$50, IF(C14=1, Config!$B$15*Config!$B$21*Config!$B$51, IF(C14=2, Config!$B$15*Config!$B$22*Config!$B$52, IF(C14=3, Config!$B$15*Config!$B$23*Config!$B$53, IF(C14=4, Config!$B$15*Config!$B$24*Config!$B$54, IF(C14=5, Config!$B$15*Config!$B$25*Config!$B$55, IF(C14=6, Config!$B$15*Config!$B$26*Config!$B$56, IF(C14=7, Config!$B$15*Config!$B$27*Config!$B$57, "")))))))) -> 2.16 | C14: 2 | D14: Shadow Pearl | E14: 1000 | F14: 40 | G14: =IF(E14 < Config!$B$4, Config!$B$4, E14) -> 1000 | H14: =G14 * B14 * ( (LN(1 + ($A$5 * F14))^$A$8)/(1 + $A$2 * LN(1 + ($A$5 * F14))) + ($A$11 * LN(1 + ($A$5 * F14))^$A$14) - $A$17) -> 3062.0721 | I14: =H14 * (1 - Config!$B$9) -> 2602.7613 | J14: =H14 * (1 + Config!$B$10) -> 3827.5901 | K14: =IF(I14<0,"-","") & INT(ABS(I14)/10000) & "g " & INT(MOD(ABS(I14),10000)/100) & "s " & ROUND(MOD(ABS(I14),100),0) & "c" -> 0g 26s 3c | L14: =IF(H14<0,"-","") & INT(ABS(H14)/10000) & "g " & INT(MOD(ABS(H14),10000)/100) & "s " & ROUND(MOD(ABS(H14),100),0) & "c" -> 0g 30s 62c | M14: =IF(J14<0,"-","") & INT(ABS(J14)/10000) & "g " & INT(MOD(ABS(J14),10000)/100) & "s " & ROUND(MOD(ABS(J14),100),0) & "c" -> 0g 38s 28c | N14: =D14 -> Shadow Pearl
B15: =IF(C15=0, Config!$B$15*Config!$B$20*Config!$B$50, IF(C15=1, Config!$B$15*Config!$B$21*Config!$B$51, IF(C15=2, Config!$B$15*Config!$B$22*Config!$B$52, IF(C15=3, Config!$B$15*Config!$B$23*Config!$B$53, IF(C15=4, Config!$B$15*Config!$B$24*Config!$B$54, IF(C15=5, Config!$B$15*Config!$B$25*Config!$B$55, IF(C15=6, Config!$B$15*Config!$B$26*Config!$B$56, IF(C15=7, Config!$B$15*Config!$B$27*Config!$B$57, "")))))))) -> 2.16 | C15: 2 | D15: Aquamarine | E15: 1000 | F15: 45 | G15: =IF(E15 < Config!$B$4, Config!$B$4, E15) -> 1000 | H15: =G15 * B15 * ( (LN(1 + ($A$5 * F15))^$A$8)/(1 + $A$2 * LN(1 + ($A$5 * F15))) + ($A$11 * LN(1 + ($A$5 * F15))^$A$14) - $A$17) -> 3735.9346 | I15: =H15 * (1 - Config!$B$9) -> 3175.5444 | J15: =H15 * (1 + Config!$B$10) -> 4669.9182 | K15: =IF(I15<0,"-","") & INT(ABS(I15)/10000) & "g " & INT(MOD(ABS(I15),10000)/100) & "s " & ROUND(MOD(ABS(I15),100),0) & "c" -> 0g 31s 76c | L15: =IF(H15<0,"-","") & INT(ABS(H15)/10000) & "g " & INT(MOD(ABS(H15),10000)/100) & "s " & ROUND(MOD(ABS(H15),100),0) & "c" -> 0g 37s 36c | M15: =IF(J15<0,"-","") & INT(ABS(J15)/10000) & "g " & INT(MOD(ABS(J15),10000)/100) & "s " & ROUND(MOD(ABS(J15),100),0) & "c" -> 0g 46s 70c | N15: =D15 -> Aquamarine
A16: offset | B16: =IF(C16=0, Config!$B$15*Config!$B$20*Config!$B$50, IF(C16=1, Config!$B$15*Config!$B$21*Config!$B$51, IF(C16=2, Config!$B$15*Config!$B$22*Config!$B$52, IF(C16=3, Config!$B$15*Config!$B$23*Config!$B$53, IF(C16=4, Config!$B$15*Config!$B$24*Config!$B$54, IF(C16=5, Config!$B$15*Config!$B$25*Config!$B$55, IF(C16=6, Config!$B$15*Config!$B$26*Config!$B$56, IF(C16=7, Config!$B$15*Config!$B$27*Config!$B$57, "")))))))) -> 2.16 | C16: 2 | D16: Star Ruby | E16: 5000 | F16: 50 | G16: =IF(E16 < Config!$B$4, Config!$B$4, E16) -> 5000 | H16: =G16 * B16 * ( (LN(1 + ($A$5 * F16))^$A$8)/(1 + $A$2 * LN(1 + ($A$5 * F16))) + ($A$11 * LN(1 + ($A$5 * F16))^$A$14) - $A$17) -> 22234.098 | I16: =H16 * (1 - Config!$B$9) -> 18898.983 | J16: =H16 * (1 + Config!$B$10) -> 27792.623 | K16: =IF(I16<0,"-","") & INT(ABS(I16)/10000) & "g " & INT(MOD(ABS(I16),10000)/100) & "s " & ROUND(MOD(ABS(I16),100),0) & "c" -> 1g 88s 99c | L16: =IF(H16<0,"-","") & INT(ABS(H16)/10000) & "g " & INT(MOD(ABS(H16),10000)/100) & "s " & ROUND(MOD(ABS(H16),100),0) & "c" -> 2g 22s 34c | M16: =IF(J16<0,"-","") & INT(ABS(J16)/10000) & "g " & INT(MOD(ABS(J16),10000)/100) & "s " & ROUND(MOD(ABS(J16),100),0) & "c" -> 2g 77s 93c | N16: =D16 -> Star Ruby
A17: 0 | B17: =IF(C17=0, Config!$B$15*Config!$B$20*Config!$B$50, IF(C17=1, Config!$B$15*Config!$B$21*Config!$B$51, IF(C17=2, Config!$B$15*Config!$B$22*Config!$B$52, IF(C17=3, Config!$B$15*Config!$B$23*Config!$B$53, IF(C17=4, Config!$B$15*Config!$B$24*Config!$B$54, IF(C17=5, Config!$B$15*Config!$B$25*Config!$B$55, IF(C17=6, Config!$B$15*Config!$B$26*Config!$B$56, IF(C17=7, Config!$B$15*Config!$B$27*Config!$B$57, "")))))))) -> 2.16 | C17: 2 | D17: Blood of the Mountain | E17: 750 | F17: 50 | G17: =IF(E17 < Config!$B$4, Config!$B$4, E17) -> 850 | H17: =G17 * B17 * ( (LN(1 + ($A$5 * F17))^$A$8)/(1 + $A$2 * LN(1 + ($A$5 * F17))) + ($A$11 * LN(1 + ($A$5 * F17))^$A$14) - $A$17) -> 3779.7967 | I17: =H17 * (1 - Config!$B$9) -> 3212.8272 | J17: =H17 * (1 + Config!$B$10) -> 4724.7458 | K17: =IF(I17<0,"-","") & INT(ABS(I17)/10000) & "g " & INT(MOD(ABS(I17),10000)/100) & "s " & ROUND(MOD(ABS(I17),100),0) & "c" -> 0g 32s 13c | L17: =IF(H17<0,"-","") & INT(ABS(H17)/10000) & "g " & INT(MOD(ABS(H17),10000)/100) & "s " & ROUND(MOD(ABS(H17),100),0) & "c" -> 0g 37s 80c | M17: =IF(J17<0,"-","") & INT(ABS(J17)/10000) & "g " & INT(MOD(ABS(J17),10000)/100) & "s " & ROUND(MOD(ABS(J17),100),0) & "c" -> 0g 47s 25c | N17: =D17 -> Blood of the Mountain
B18: =IF(C18=0, Config!$B$15*Config!$B$20*Config!$B$50, IF(C18=1, Config!$B$15*Config!$B$21*Config!$B$51, IF(C18=2, Config!$B$15*Config!$B$22*Config!$B$52, IF(C18=3, Config!$B$15*Config!$B$23*Config!$B$53, IF(C18=4, Config!$B$15*Config!$B$24*Config!$B$54, IF(C18=5, Config!$B$15*Config!$B$25*Config!$B$55, IF(C18=6, Config!$B$15*Config!$B$26*Config!$B$56, IF(C18=7, Config!$B$15*Config!$B$27*Config!$B$57, "")))))))) -> 2.16 | C18: 2 | D18: Souldarite | E18: 5000 | F18: 50 | G18: =IF(E18 < Config!$B$4, Config!$B$4, E18) -> 5000 | H18: =G18 * B18 * ( (LN(1 + ($A$5 * F18))^$A$8)/(1 + $A$2 * LN(1 + ($A$5 * F18))) + ($A$11 * LN(1 + ($A$5 * F18))^$A$14) - $A$17) -> 22234.098 | I18: =H18 * (1 - Config!$B$9) -> 18898.983 | J18: =H18 * (1 + Config!$B$10) -> 27792.623 | K18: =IF(I18<0,"-","") & INT(ABS(I18)/10000) & "g " & INT(MOD(ABS(I18),10000)/100) & "s " & ROUND(MOD(ABS(I18),100),0) & "c" -> 1g 88s 99c | L18: =IF(H18<0,"-","") & INT(ABS(H18)/10000) & "g " & INT(MOD(ABS(H18),10000)/100) & "s " & ROUND(MOD(ABS(H18),100),0) & "c" -> 2g 22s 34c | M18: =IF(J18<0,"-","") & INT(ABS(J18)/10000) & "g " & INT(MOD(ABS(J18),10000)/100) & "s " & ROUND(MOD(ABS(J18),100),0) & "c" -> 2g 77s 93c | N18: =D18 -> Souldarite
B19: =IF(C19=0, Config!$B$15*Config!$B$20*Config!$B$50, IF(C19=1, Config!$B$15*Config!$B$21*Config!$B$51, IF(C19=2, Config!$B$15*Config!$B$22*Config!$B$52, IF(C19=3, Config!$B$15*Config!$B$23*Config!$B$53, IF(C19=4, Config!$B$15*Config!$B$24*Config!$B$54, IF(C19=5, Config!$B$15*Config!$B$25*Config!$B$55, IF(C19=6, Config!$B$15*Config!$B$26*Config!$B$56, IF(C19=7, Config!$B$15*Config!$B$27*Config!$B$57, "")))))))) -> 2.16 | C19: 2 | D19: Blue Sapphire | E19: 7000 | F19: 55 | G19: =IF(E19 < Config!$B$4, Config!$B$4, E19) -> 7000 | H19: =G19 * B19 * ( (LN(1 + ($A$5 * F19))^$A$8)/(1 + $A$2 * LN(1 + ($A$5 * F19))) + ($A$11 * LN(1 + ($A$5 * F19))^$A$14) - $A$17) -> 36320.127 | I19: =H19 * (1 - Config!$B$9) -> 30872.108 | J19: =H19 * (1 + Config!$B$10) -> 45400.158 | K19: =IF(I19<0,"-","") & INT(ABS(I19)/10000) & "g " & INT(MOD(ABS(I19),10000)/100) & "s " & ROUND(MOD(ABS(I19),100),0) & "c" -> 3g 8s 72c | L19: =IF(H19<0,"-","") & INT(ABS(H19)/10000) & "g " & INT(MOD(ABS(H19),10000)/100) & "s " & ROUND(MOD(ABS(H19),100),0) & "c" -> 3g 63s 20c | M19: =IF(J19<0,"-","") & INT(ABS(J19)/10000) & "g " & INT(MOD(ABS(J19),10000)/100) & "s " & ROUND(MOD(ABS(J19),100),0) & "c" -> 4g 54s 0c | N19: =D19 -> Blue Sapphire
B20: =IF(C20=0, Config!$B$15*Config!$B$20*Config!$B$50, IF(C20=1, Config!$B$15*Config!$B$21*Config!$B$51, IF(C20=2, Config!$B$15*Config!$B$22*Config!$B$52, IF(C20=3, Config!$B$15*Config!$B$23*Config!$B$53, IF(C20=4, Config!$B$15*Config!$B$24*Config!$B$54, IF(C20=5, Config!$B$15*Config!$B$25*Config!$B$55, IF(C20=6, Config!$B$15*Config!$B$26*Config!$B$56, IF(C20=7, Config!$B$15*Config!$B$27*Config!$B$57, "")))))))) -> 2.16 | C20: 2 | D20: Large Opal | E20: 7000 | F20: 55 | G20: =IF(E20 < Config!$B$4, Config!$B$4, E20) -> 7000 | H20: =G20 * B20 * ( (LN(1 + ($A$5 * F20))^$A$8)/(1 + $A$2 * LN(1 + ($A$5 * F20))) + ($A$11 * LN(1 + ($A$5 * F20))^$A$14) - $A$17) -> 36320.127 | I20: =H20 * (1 - Config!$B$9) -> 30872.108 | J20: =H20 * (1 + Config!$B$10) -> 45400.158 | K20: =IF(I20<0,"-","") & INT(ABS(I20)/10000) & "g " & INT(MOD(ABS(I20),10000)/100) & "s " & ROUND(MOD(ABS(I20),100),0) & "c" -> 3g 8s 72c | L20: =IF(H20<0,"-","") & INT(ABS(H20)/10000) & "g " & INT(MOD(ABS(H20),10000)/100) & "s " & ROUND(MOD(ABS(H20),100),0) & "c" -> 3g 63s 20c | M20: =IF(J20<0,"-","") & INT(ABS(J20)/10000) & "g " & INT(MOD(ABS(J20),10000)/100) & "s " & ROUND(MOD(ABS(J20),100),0) & "c" -> 4g 54s 0c | N20: =D20 -> Large Opal
B21: =IF(C21=0, Config!$B$15*Config!$B$20*Config!$B$50, IF(C21=1, Config!$B$15*Config!$B$21*Config!$B$51, IF(C21=2, Config!$B$15*Config!$B$22*Config!$B$52, IF(C21=3, Config!$B$15*Config!$B$23*Config!$B$53, IF(C21=4, Config!$B$15*Config!$B$24*Config!$B$54, IF(C21=5, Config!$B$15*Config!$B$25*Config!$B$55, IF(C21=6, Config!$B$15*Config!$B$26*Config!$B$56, IF(C21=7, Config!$B$15*Config!$B$27*Config!$B$57, "")))))))) -> 0.8 | C21: 1 | D21: Bold Tourmaline | E21: 5000 | F21: 55 | G21: =IF(E21 < Config!$B$4, Config!$B$4, E21) -> 5000 | H21: =G21 * B21 * ( (LN(1 + ($A$5 * F21))^$A$8)/(1 + $A$2 * LN(1 + ($A$5 * F21))) + ($A$11 * LN(1 + ($A$5 * F21))^$A$14) - $A$17) -> 9608.4991 | I21: =H21 * (1 - Config!$B$9) -> 8167.2243 | J21: =H21 * (1 + Config!$B$10) -> 12010.624 | K21: =IF(I21<0,"-","") & INT(ABS(I21)/10000) & "g " & INT(MOD(ABS(I21),10000)/100) & "s " & ROUND(MOD(ABS(I21),100),0) & "c" -> 0g 81s 67c | L21: =IF(H21<0,"-","") & INT(ABS(H21)/10000) & "g " & INT(MOD(ABS(H21),10000)/100) & "s " & ROUND(MOD(ABS(H21),100),0) & "c" -> 0g 96s 8c | M21: =IF(J21<0,"-","") & INT(ABS(J21)/10000) & "g " & INT(MOD(ABS(J21),10000)/100) & "s " & ROUND(MOD(ABS(J21),100),0) & "c" -> 1g 20s 11c | N21: =D21 -> Bold Tourmaline
B22: =IF(C22=0, Config!$B$15*Config!$B$20*Config!$B$50, IF(C22=1, Config!$B$15*Config!$B$21*Config!$B$51, IF(C22=2, Config!$B$15*Config!$B$22*Config!$B$52, IF(C22=3, Config!$B$15*Config!$B$23*Config!$B$53, IF(C22=4, Config!$B$15*Config!$B$24*Config!$B$54, IF(C22=5, Config!$B$15*Config!$B$25*Config!$B$55, IF(C22=6, Config!$B$15*Config!$B$26*Config!$B$56, IF(C22=7, Config!$B$15*Config!$B$27*Config!$B$57, "")))))))) -> 0.8 | C22: 1 | D22: Delicate Tourmaline | E22: 5000 | F22: 55 | G22: =IF(E22 < Config!$B$4, Config!$B$4, E22) -> 5000 | H22: =G22 * B22 * ( (LN(1 + ($A$5 * F22))^$A$8)/(1 + $A$2 * LN(1 + ($A$5 * F22))) + ($A$11 * LN(1 + ($A$5 * F22))^$A$14) - $A$17) -> 9608.4991 | I22: =H22 * (1 - Config!$B$9) -> 8167.2243 | J22: =H22 * (1 + Config!$B$10) -> 12010.624 | K22: =IF(I22<0,"-","") & INT(ABS(I22)/10000) & "g " & INT(MOD(ABS(I22),10000)/100) & "s " & ROUND(MOD(ABS(I22),100),0) & "c" -> 0g 81s 67c | L22: =IF(H22<0,"-","") & INT(ABS(H22)/10000) & "g " & INT(MOD(ABS(H22),10000)/100) & "s " & ROUND(MOD(ABS(H22),100),0) & "c" -> 0g 96s 8c | M22: =IF(J22<0,"-","") & INT(ABS(J22)/10000) & "g " & INT(MOD(ABS(J22),10000)/100) & "s " & ROUND(MOD(ABS(J22),100),0) & "c" -> 1g 20s 11c | N22: =D22 -> Delicate Tourmaline
B23: =IF(C23=0, Config!$B$15*Config!$B$20*Config!$B$50, IF(C23=1, Config!$B$15*Config!$B$21*Config!$B$51, IF(C23=2, Config!$B$15*Config!$B$22*Config!$B$52, IF(C23=3, Config!$B$15*Config!$B$23*Config!$B$53, IF(C23=4, Config!$B$15*Config!$B$24*Config!$B$54, IF(C23=5, Config!$B$15*Config!$B$25*Config!$B$55, IF(C23=6, Config!$B$15*Config!$B$26*Config!$B$56, IF(C23=7, Config!$B$15*Config!$B$27*Config!$B$57, "")))))))) -> 0.8 | C23: 1 | D23: Teardrop Tourmaline | E23: 5000 | F23: 55 | G23: =IF(E23 < Config!$B$4, Config!$B$4, E23) -> 5000 | H23: =G23 * B23 * ( (LN(1 + ($A$5 * F23))^$A$8)/(1 + $A$2 * LN(1 + ($A$5 * F23))) + ($A$11 * LN(1 + ($A$5 * F23))^$A$14) - $A$17) -> 9608.4991 | I23: =H23 * (1 - Config!$B$9) -> 8167.2243 | J23: =H23 * (1 + Config!$B$10) -> 12010.624 | K23: =IF(I23<0,"-","") & INT(ABS(I23)/10000) & "g " & INT(MOD(ABS(I23),10000)/100) & "s " & ROUND(MOD(ABS(I23),100),0) & "c" -> 0g 81s 67c | L23: =IF(H23<0,"-","") & INT(ABS(H23)/10000) & "g " & INT(MOD(ABS(H23),10000)/100) & "s " & ROUND(MOD(ABS(H23),100),0) & "c" -> 0g 96s 8c | M23: =IF(J23<0,"-","") & INT(ABS(J23)/10000) & "g " & INT(MOD(ABS(J23),10000)/100) & "s " & ROUND(MOD(ABS(J23),100),0) & "c" -> 1g 20s 11c | N23: =D23 -> Teardrop Tourmaline
B24: =IF(C24=0, Config!$B$15*Config!$B$20*Config!$B$50, IF(C24=1, Config!$B$15*Config!$B$21*Config!$B$51, IF(C24=2, Config!$B$15*Config!$B$22*Config!$B$52, IF(C24=3, Config!$B$15*Config!$B$23*Config!$B$53, IF(C24=4, Config!$B$15*Config!$B$24*Config!$B$54, IF(C24=5, Config!$B$15*Config!$B$25*Config!$B$55, IF(C24=6, Config!$B$15*Config!$B$26*Config!$B$56, IF(C24=7, Config!$B$15*Config!$B$27*Config!$B$57, "")))))))) -> 0.8 | C24: 1 | D24: Runed Tourmaline | E24: 5000 | F24: 55 | G24: =IF(E24 < Config!$B$4, Config!$B$4, E24) -> 5000 | H24: =G24 * B24 * ( (LN(1 + ($A$5 * F24))^$A$8)/(1 + $A$2 * LN(1 + ($A$5 * F24))) + ($A$11 * LN(1 + ($A$5 * F24))^$A$14) - $A$17) -> 9608.4991 | I24: =H24 * (1 - Config!$B$9) -> 8167.2243 | J24: =H24 * (1 + Config!$B$10) -> 12010.624 | K24: =IF(I24<0,"-","") & INT(ABS(I24)/10000) & "g " & INT(MOD(ABS(I24),10000)/100) & "s " & ROUND(MOD(ABS(I24),100),0) & "c" -> 0g 81s 67c | L24: =IF(H24<0,"-","") & INT(ABS(H24)/10000) & "g " & INT(MOD(ABS(H24),10000)/100) & "s " & ROUND(MOD(ABS(H24),100),0) & "c" -> 0g 96s 8c | M24: =IF(J24<0,"-","") & INT(ABS(J24)/10000) & "g " & INT(MOD(ABS(J24),10000)/100) & "s " & ROUND(MOD(ABS(J24),100),0) & "c" -> 1g 20s 11c | N24: =D24 -> Runed Tourmaline
B25: =IF(C25=0, Config!$B$15*Config!$B$20*Config!$B$50, IF(C25=1, Config!$B$15*Config!$B$21*Config!$B$51, IF(C25=2, Config!$B$15*Config!$B$22*Config!$B$52, IF(C25=3, Config!$B$15*Config!$B$23*Config!$B$53, IF(C25=4, Config!$B$15*Config!$B$24*Config!$B$54, IF(C25=5, Config!$B$15*Config!$B$25*Config!$B$55, IF(C25=6, Config!$B$15*Config!$B$26*Config!$B$56, IF(C25=7, Config!$B$15*Config!$B$27*Config!$B$57, "")))))))) -> 0.8 | C25: 1 | D25: Bright Tourmaline | E25: 5000 | F25: 55 | G25: =IF(E25 < Config!$B$4, Config!$B$4, E25) -> 5000 | H25: =G25 * B25 * ( (LN(1 + ($A$5 * F25))^$A$8)/(1 + $A$2 * LN(1 + ($A$5 * F25))) + ($A$11 * LN(1 + ($A$5 * F25))^$A$14) - $A$17) -> 9608.4991 | I25: =H25 * (1 - Config!$B$9) -> 8167.2243 | J25: =H25 * (1 + Config!$B$10) -> 12010.624 | K25: =IF(I25<0,"-","") & INT(ABS(I25)/10000) & "g " & INT(MOD(ABS(I25),10000)/100) & "s " & ROUND(MOD(ABS(I25),100),0) & "c" -> 0g 81s 67c | L25: =IF(H25<0,"-","") & INT(ABS(H25)/10000) & "g " & INT(MOD(ABS(H25),10000)/100) & "s " & ROUND(MOD(ABS(H25),100),0) & "c" -> 0g 96s 8c | M25: =IF(J25<0,"-","") & INT(ABS(J25)/10000) & "g " & INT(MOD(ABS(J25),10000)/100) & "s " & ROUND(MOD(ABS(J25),100),0) & "c" -> 1g 20s 11c | N25: =D25 -> Bright Tourmaline
B26: =IF(C26=0, Config!$B$15*Config!$B$20*Config!$B$50, IF(C26=1, Config!$B$15*Config!$B$21*Config!$B$51, IF(C26=2, Config!$B$15*Config!$B$22*Config!$B$52, IF(C26=3, Config!$B$15*Config!$B$23*Config!$B$53, IF(C26=4, Config!$B$15*Config!$B$24*Config!$B$54, IF(C26=5, Config!$B$15*Config!$B$25*Config!$B$55, IF(C26=6, Config!$B$15*Config!$B$26*Config!$B$56, IF(C26=7, Config!$B$15*Config!$B$27*Config!$B$57, "")))))))) -> 0.8 | C26: 1 | D26: Solid Zircon | E26: 5000 | F26: 55 | G26: =IF(E26 < Config!$B$4, Config!$B$4, E26) -> 5000 | H26: =G26 * B26 * ( (LN(1 + ($A$5 * F26))^$A$8)/(1 + $A$2 * LN(1 + ($A$5 * F26))) + ($A$11 * LN(1 + ($A$5 * F26))^$A$14) - $A$17) -> 9608.4991 | I26: =H26 * (1 - Config!$B$9) -> 8167.2243 | J26: =H26 * (1 + Config!$B$10) -> 12010.624 | K26: =IF(I26<0,"-","") & INT(ABS(I26)/10000) & "g " & INT(MOD(ABS(I26),10000)/100) & "s " & ROUND(MOD(ABS(I26),100),0) & "c" -> 0g 81s 67c | L26: =IF(H26<0,"-","") & INT(ABS(H26)/10000) & "g " & INT(MOD(ABS(H26),10000)/100) & "s " & ROUND(MOD(ABS(H26),100),0) & "c" -> 0g 96s 8c | M26: =IF(J26<0,"-","") & INT(ABS(J26)/10000) & "g " & INT(MOD(ABS(J26),10000)/100) & "s " & ROUND(MOD(ABS(J26),100),0) & "c" -> 1g 20s 11c | N26: =D26 -> Solid Zircon
B27: =IF(C27=0, Config!$B$15*Config!$B$20*Config!$B$50, IF(C27=1, Config!$B$15*Config!$B$21*Config!$B$51, IF(C27=2, Config!$B$15*Config!$B$22*Config!$B$52, IF(C27=3, Config!$B$15*Config!$B$23*Config!$B$53, IF(C27=4, Config!$B$15*Config!$B$24*Config!$B$54, IF(C27=5, Config!$B$15*Config!$B$25*Config!$B$55, IF(C27=6, Config!$B$15*Config!$B$26*Config!$B$56, IF(C27=7, Config!$B$15*Config!$B$27*Config!$B$57, "")))))))) -> 0.8 | C27: 1 | D27: Sparkling Zircon | E27: 5000 | F27: 55 | G27: =IF(E27 < Config!$B$4, Config!$B$4, E27) -> 5000 | H27: =G27 * B27 * ( (LN(1 + ($A$5 * F27))^$A$8)/(1 + $A$2 * LN(1 + ($A$5 * F27))) + ($A$11 * LN(1 + ($A$5 * F27))^$A$14) - $A$17) -> 9608.4991 | I27: =H27 * (1 - Config!$B$9) -> 8167.2243 | J27: =H27 * (1 + Config!$B$10) -> 12010.624 | K27: =IF(I27<0,"-","") & INT(ABS(I27)/10000) & "g " & INT(MOD(ABS(I27),10000)/100) & "s " & ROUND(MOD(ABS(I27),100),0) & "c" -> 0g 81s 67c | L27: =IF(H27<0,"-","") & INT(ABS(H27)/10000) & "g " & INT(MOD(ABS(H27),10000)/100) & "s " & ROUND(MOD(ABS(H27),100),0) & "c" -> 0g 96s 8c | M27: =IF(J27<0,"-","") & INT(ABS(J27)/10000) & "g " & INT(MOD(ABS(J27),10000)/100) & "s " & ROUND(MOD(ABS(J27),100),0) & "c" -> 1g 20s 11c | N27: =D27 -> Sparkling Zircon
B28: =IF(C28=0, Config!$B$15*Config!$B$20*Config!$B$50, IF(C28=1, Config!$B$15*Config!$B$21*Config!$B$51, IF(C28=2, Config!$B$15*Config!$B$22*Config!$B$52, IF(C28=3, Config!$B$15*Config!$B$23*Config!$B$53, IF(C28=4, Config!$B$15*Config!$B$24*Config!$B$54, IF(C28=5, Config!$B$15*Config!$B$25*Config!$B$55, IF(C28=6, Config!$B$15*Config!$B$26*Config!$B$56, IF(C28=7, Config!$B$15*Config!$B$27*Config!$B$57, "")))))))) -> 0.8 | C28: 1 | D28: Lustrous Zircon | E28: 5000 | F28: 55 | G28: =IF(E28 < Config!$B$4, Config!$B$4, E28) -> 5000 | H28: =G28 * B28 * ( (LN(1 + ($A$5 * F28))^$A$8)/(1 + $A$2 * LN(1 + ($A$5 * F28))) + ($A$11 * LN(1 + ($A$5 * F28))^$A$14) - $A$17) -> 9608.4991 | I28: =H28 * (1 - Config!$B$9) -> 8167.2243 | J28: =H28 * (1 + Config!$B$10) -> 12010.624 | K28: =IF(I28<0,"-","") & INT(ABS(I28)/10000) & "g " & INT(MOD(ABS(I28),10000)/100) & "s " & ROUND(MOD(ABS(I28),100),0) & "c" -> 0g 81s 67c | L28: =IF(H28<0,"-","") & INT(ABS(H28)/10000) & "g " & INT(MOD(ABS(H28),10000)/100) & "s " & ROUND(MOD(ABS(H28),100),0) & "c" -> 0g 96s 8c | M28: =IF(J28<0,"-","") & INT(ABS(J28)/10000) & "g " & INT(MOD(ABS(J28),10000)/100) & "s " & ROUND(MOD(ABS(J28),100),0) & "c" -> 1g 20s 11c | N28: =D28 -> Lustrous Zircon
B29: =IF(C29=0, Config!$B$15*Config!$B$20*Config!$B$50, IF(C29=1, Config!$B$15*Config!$B$21*Config!$B$51, IF(C29=2, Config!$B$15*Config!$B$22*Config!$B$52, IF(C29=3, Config!$B$15*Config!$B$23*Config!$B$53, IF(C29=4, Config!$B$15*Config!$B$24*Config!$B$54, IF(C29=5, Config!$B$15*Config!$B$25*Config!$B$55, IF(C29=6, Config!$B$15*Config!$B$26*Config!$B$56, IF(C29=7, Config!$B$15*Config!$B$27*Config!$B$57, "")))))))) -> 0.8 | C29: 1 | D29: Brilliant Amber | E29: 5000 | F29: 55 | G29: =IF(E29 < Config!$B$4, Config!$B$4, E29) -> 5000 | H29: =G29 * B29 * ( (LN(1 + ($A$5 * F29))^$A$8)/(1 + $A$2 * LN(1 + ($A$5 * F29))) + ($A$11 * LN(1 + ($A$5 * F29))^$A$14) - $A$17) -> 9608.4991 | I29: =H29 * (1 - Config!$B$9) -> 8167.2243 | J29: =H29 * (1 + Config!$B$10) -> 12010.624 | K29: =IF(I29<0,"-","") & INT(ABS(I29)/10000) & "g " & INT(MOD(ABS(I29),10000)/100) & "s " & ROUND(MOD(ABS(I29),100),0) & "c" -> 0g 81s 67c | L29: =IF(H29<0,"-","") & INT(ABS(H29)/10000) & "g " & INT(MOD(ABS(H29),10000)/100) & "s " & ROUND(MOD(ABS(H29),100),0) & "c" -> 0g 96s 8c | M29: =IF(J29<0,"-","") & INT(ABS(J29)/10000) & "g " & INT(MOD(ABS(J29),10000)/100) & "s " & ROUND(MOD(ABS(J29),100),0) & "c" -> 1g 20s 11c | N29: =D29 -> Brilliant Amber
... B395: =IF(C395=0, Config!$B$15*Config!$B$20*Config!$B$50, IF(C395=1, Config!$B$15*Config!$B$21*Config!$B$51, IF(C395=2, Config!$B$15*Config!$B$22*Config!$B$52, IF(C395=3, Config!$B$15*Config!$B$23*Config!$B$53, IF(C395=4, Config!$B$15*Config!$B$24*Config!$B$54, IF(C395=5, Config!$B$15*Config!$B$25*Config!$B$55, IF(C395=6, Config!$B$15*Config!$B$26*Config!$B$56, IF(C395=7, Config!$B$15*Config!$B$27*Config!$B$57, "")))))))) -> 2.28 | C395: 3 | D395: Insightful Earthsiege Diamond | E395: 60000 | F395: 80 | G395: =IF(E395 < Config!$B$4, Config!$B$4, E395) -> 60000 | H395: =G395 * B395 * ( (LN(1 + ($A$5 * F395))^$A$8)/(1 + $A$2 * LN(1 + ($A$5 * F395))) + ($A$11 * LN(1 + ($A$5 * F395))^$A$14) - $A$17) -> 583186.84 | I395: =H395 * (1 - Config!$B$9) -> 495708.81 | J395: =H395 * (1 + Config!$B$10) -> 728983.55 | K395: =IF(I395<0,"-","") & INT(ABS(I395)/10000) & "g " & INT(MOD(ABS(I395),10000)/100) & "s " & ROUND(MOD(ABS(I395),100),0) & "c" -> 49g 57s 9c | L395: =IF(H395<0,"-","") & INT(ABS(H395)/10000) & "g " & INT(MOD(ABS(H395),10000)/100) & "s " & ROUND(MOD(ABS(H395),100),0) & "c" -> 58g 31s 87c | M395: =IF(J395<0,"-","") & INT(ABS(J395)/10000) & "g " & INT(MOD(ABS(J395),10000)/100) & "s " & ROUND(MOD(ABS(J395),100),0) & "c" -> 72g 89s 84c | N395: =D395 -> Insightful Earthsiege Diamond

Sheet Cloth
A1: a | B1: Quality Multiplier | C1: Quality | D1: NAME | E1: vendor price | F1: itemLevel | G1: Min Price | H1: Avg Price | I1: Low | J1: High | K1: Low End | L1: Average | M1: High End | N1: NAME
A2: 0.8 | B2: =IF(C2=0, Config!$B$15*Config!$B$20*Config!$B$50, IF(C2=1, Config!$B$15*Config!$B$21*Config!$B$51, IF(C2=2, Config!$B$15*Config!$B$22*Config!$B$52, IF(C2=3, Config!$B$15*Config!$B$23*Config!$B$53, IF(C2=4, Config!$B$15*Config!$B$24*Config!$B$54, IF(C2=5, Config!$B$15*Config!$B$25*Config!$B$55, IF(C2=6, Config!$B$15*Config!$B$26*Config!$B$56, IF(C2=7, Config!$B$15*Config!$B$27*Config!$B$57, "")))))))) -> 0.8 | C2: 1 | D2: Linen Cloth | E2: 13 | F2: 5 | G2: =IF(E2 < Config!$B$4, Config!$B$4, E2) -> 850 | H2: =G2 * B2 * ( (LN(1 + ($A$5 * F2))^$A$8)/(1 + $A$2 * LN(1 + ($A$5 * F2))) + ($A$11 * LN(1 + ($A$5 * F2))^$A$14) - $A$17) -> 698.36192 | I2: =H2 * (1 - Config!$B$9) -> 593.60763 | J2: =H2 * (1 + Config!$B$10) -> 872.9524 | K2: =IF(I2<0,"-","") & INT(ABS(I2)/10000) & "g " & INT(MOD(ABS(I2),10000)/100) & "s " & ROUND(MOD(ABS(I2),100),0) & "c" -> 0g 5s 94c | L2: =IF(H2<0,"-","") & INT(ABS(H2)/10000) & "g " & INT(MOD(ABS(H2),10000)/100) & "s " & ROUND(MOD(ABS(H2),100),0) & "c" -> 0g 6s 98c | M2: =IF(J2<0,"-","") & INT(ABS(J2)/10000) & "g " & INT(MOD(ABS(J2),10000)/100) & "s " & ROUND(MOD(ABS(J2),100),0) & "c" -> 0g 8s 73c | N2: =D2 -> Linen Cloth
B3: =IF(C3=0, Config!$B$15*Config!$B$20*Config!$B$50, IF(C3=1, Config!$B$15*Config!$B$21*Config!$B$51, IF(C3=2, Config!$B$15*Config!$B$22*Config!$B$52, IF(C3=3, Config!$B$15*Config!$B$23*Config!$B$53, IF(C3=4, Config!$B$15*Config!$B$24*Config!$B$54, IF(C3=5, Config!$B$15*Config!$B$25*Config!$B$55, IF(C3=6, Config!$B$15*Config!$B$26*Config!$B$56, IF(C3=7, Config!$B$15*Config!$B$27*Config!$B$57, "")))))))) -> 0.8 | C3: 1 | D3: Coarse Thread | E3: 2 | F3: 5 | G3: =IF(E3 < Config!$B$4, Config!$B$4, E3) -> 850 | H3: =G3 * B3 * ( (LN(1 + ($A$5 * F3))^$A$8)/(1 + $A$2 * LN(1 + ($A$5 * F3))) + ($A$11 * LN(1 + ($A$5 * F3))^$A$14) - $A$17) -> 698.36192 | I3: =H3 * (1 - Config!$B$9) -> 593.60763 | J3: =H3 * (1 + Config!$B$10) -> 872.9524 | K3: =IF(I3<0,"-","") & INT(ABS(I3)/10000) & "g " & INT(MOD(ABS(I3),10000)/100) & "s " & ROUND(MOD(ABS(I3),100),0) & "c" -> 0g 5s 94c | L3: =IF(H3<0,"-","") & INT(ABS(H3)/10000) & "g " & INT(MOD(ABS(H3),10000)/100) & "s " & ROUND(MOD(ABS(H3),100),0) & "c" -> 0g 6s 98c | M3: =IF(J3<0,"-","") & INT(ABS(J3)/10000) & "g " & INT(MOD(ABS(J3),10000)/100) & "s " & ROUND(MOD(ABS(J3),100),0) & "c" -> 0g 8s 73c | N3: =D3 -> Coarse Thread
A4: b | B4: =IF(C4=0, Config!$B$15*Config!$B$20*Config!$B$50, IF(C4=1, Config!$B$15*Config!$B$21*Config!$B$51, IF(C4=2, Config!$B$15*Config!$B$22*Config!$B$52, IF(C4=3, Config!$B$15*Config!$B$23*Config!$B$53, IF(C4=4, Config!$B$15*Config!$B$24*Config!$B$54, IF(C4=5, Config!$B$15*Config!$B$25*Config!$B$55, IF(C4=6, Config!$B$15*Config!$B$26*Config!$B$56, IF(C4=7, Config!$B$15*Config!$B$27*Config!$B$57, "")))))))) -> 0.8 | C4: 1 | D4: Bolt of Linen Cloth | E4: 40 | F4: 10 | G4: =IF(E4 < Config!$B$4, Config!$B$4, E4) -> 850 | H4: =G4 * B4 * ( (LN(1 + ($A$5 * F4))^$A$8)/(1 + $A$2 * LN(1 + ($A$5 * F4))) + ($A$11 * LN(1 + ($A$5 * F4))^$A$14) - $A$17) -> 1150.3091 | I4: =H4 * (1 - Config!$B$9) -> 977.76269 | J4: =H4 * (1 + Config!$B$10) -> 1437.8863 | K4: =IF(I4<0,"-","") & INT(ABS(I4)/10000) & "g " & INT(MOD(ABS(I4),10000)/100) & "s " & ROUND(MOD(ABS(I4),100),0) & "c" -> 0g 9s 78c | L4: =IF(H4<0,"-","") & INT(ABS(H4)/10000) & "g " & INT(MOD(ABS(H4),10000)/100) & "s " & ROUND(MOD(ABS(H4),100),0) & "c" -> 0g 11s 50c | M4: =IF(J4<0,"-","") & INT(ABS(J4)/10000) & "g " & INT(MOD(ABS(J4),10000)/100) & "s " & ROUND(MOD(ABS(J4),100),0) & "c" -> 0g 14s 38c | N4: =D4 -> Bolt of Linen Cloth
A5: 1 | B5: =IF(C5=0, Config!$B$15*Config!$B$20*Config!$B$50, IF(C5=1, Config!$B$15*Config!$B$21*Config!$B$51, IF(C5=2, Config!$B$15*Config!$B$22*Config!$B$52, IF(C5=3, Config!$B$15*Config!$B$23*Config!$B$53, IF(C5=4, Config!$B$15*Config!$B$24*Config!$B$54, IF(C5=5, Config!$B$15*Config!$B$25*Config!$B$55, IF(C5=6, Config!$B$15*Config!$B$26*Config!$B$56, IF(C5=7, Config!$B$15*Config!$B$27*Config!$B$57, "")))))))) -> 0.8 | C5: 1 | D5: Wool Cloth | E5: 33 | F5: 15 | G5: =IF(E5 < Config!$B$4, Config!$B$4, E5) -> 850 | H5: =G5 * B5 * ( (LN(1 + ($A$5 * F5))^$A$8)/(1 + $A$2 * LN(1 + ($A$5 * F5))) + ($A$11 * LN(1 + ($A$5 * F5))^$A$14) - $A$17) -> 1444.5 | I5: =H5 * (1 - Config!$B$9) -> 1227.825 | J5: =H5 * (1 + Config!$B$10) -> 1805.625 | K5: =IF(I5<0,"-","") & INT(ABS(I5)/10000) & "g " & INT(MOD(ABS(I5),10000)/100) & "s " & ROUND(MOD(ABS(I5),100),0) & "c" -> 0g 12s 28c | L5: =IF(H5<0,"-","") & INT(ABS(H5)/10000) & "g " & INT(MOD(ABS(H5),10000)/100) & "s " & ROUND(MOD(ABS(H5),100),0) & "c" -> 0g 14s 44c | M5: =IF(J5<0,"-","") & INT(ABS(J5)/10000) & "g " & INT(MOD(ABS(J5),10000)/100) & "s " & ROUND(MOD(ABS(J5),100),0) & "c" -> 0g 18s 6c | N5: =D5 -> Wool Cloth
B6: =IF(C6=0, Config!$B$15*Config!$B$20*Config!$B$50, IF(C6=1, Config!$B$15*Config!$B$21*Config!$B$51, IF(C6=2, Config!$B$15*Config!$B$22*Config!$B$52, IF(C6=3, Config!$B$15*Config!$B$23*Config!$B$53, IF(C6=4, Config!$B$15*Config!$B$24*Config!$B$54, IF(C6=5, Config!$B$15*Config!$B$25*Config!$B$55, IF(C6=6, Config!$B$15*Config!$B$26*Config!$B$56, IF(C6=7, Config!$B$15*Config!$B$27*Config!$B$57, "")))))))) -> 0.8 | C6: 1 | D6: Fine Thread | E6: 25 | F6: 20 | G6: =IF(E6 < Config!$B$4, Config!$B$4, E6) -> 850 | H6: =G6 * B6 * ( (LN(1 + ($A$5 * F6))^$A$8)/(1 + $A$2 * LN(1 + ($A$5 * F6))) + ($A$11 * LN(1 + ($A$5 * F6))^$A$14) - $A$17) -> 1664.0874 | I6: =H6 * (1 - Config!$B$9) -> 1414.4743 | J6: =H6 * (1 + Config!$B$10) -> 2080.1093 | K6: =IF(I6<0,"-","") & INT(ABS(I6)/10000) & "g " & INT(MOD(ABS(I6),10000)/100) & "s " & ROUND(MOD(ABS(I6),100),0) & "c" -> 0g 14s 14c | L6: =IF(H6<0,"-","") & INT(ABS(H6)/10000) & "g " & INT(MOD(ABS(H6),10000)/100) & "s " & ROUND(MOD(ABS(H6),100),0) & "c" -> 0g 16s 64c | M6: =IF(J6<0,"-","") & INT(ABS(J6)/10000) & "g " & INT(MOD(ABS(J6),10000)/100) & "s " & ROUND(MOD(ABS(J6),100),0) & "c" -> 0g 20s 80c | N6: =D6 -> Fine Thread
A7: p | B7: =IF(C7=0, Config!$B$15*Config!$B$20*Config!$B$50, IF(C7=1, Config!$B$15*Config!$B$21*Config!$B$51, IF(C7=2, Config!$B$15*Config!$B$22*Config!$B$52, IF(C7=3, Config!$B$15*Config!$B$23*Config!$B$53, IF(C7=4, Config!$B$15*Config!$B$24*Config!$B$54, IF(C7=5, Config!$B$15*Config!$B$25*Config!$B$55, IF(C7=6, Config!$B$15*Config!$B$26*Config!$B$56, IF(C7=7, Config!$B$15*Config!$B$27*Config!$B$57, "")))))))) -> 0.8 | C7: 1 | D7: Spider's Silk | E7: 387 | F7: 20 | G7: =IF(E7 < Config!$B$4, Config!$B$4, E7) -> 850 | H7: =G7 * B7 * ( (LN(1 + ($A$5 * F7))^$A$8)/(1 + $A$2 * LN(1 + ($A$5 * F7))) + ($A$11 * LN(1 + ($A$5 * F7))^$A$14) - $A$17) -> 1664.0874 | I7: =H7 * (1 - Config!$B$9) -> 1414.4743 | J7: =H7 * (1 + Config!$B$10) -> 2080.1093 | K7: =IF(I7<0,"-","") & INT(ABS(I7)/10000) & "g " & INT(MOD(ABS(I7),10000)/100) & "s " & ROUND(MOD(ABS(I7),100),0) & "c" -> 0g 14s 14c | L7: =IF(H7<0,"-","") & INT(ABS(H7)/10000) & "g " & INT(MOD(ABS(H7),10000)/100) & "s " & ROUND(MOD(ABS(H7),100),0) & "c" -> 0g 16s 64c | M7: =IF(J7<0,"-","") & INT(ABS(J7)/10000) & "g " & INT(MOD(ABS(J7),10000)/100) & "s " & ROUND(MOD(ABS(J7),100),0) & "c" -> 0g 20s 80c | N7: =D7 -> Spider's Silk
A8: 2 | B8: =IF(C8=0, Config!$B$15*Config!$B$20*Config!$B$50, IF(C8=1, Config!$B$15*Config!$B$21*Config!$B$51, IF(C8=2, Config!$B$15*Config!$B$22*Config!$B$52, IF(C8=3, Config!$B$15*Config!$B$23*Config!$B$53, IF(C8=4, Config!$B$15*Config!$B$24*Config!$B$54, IF(C8=5, Config!$B$15*Config!$B$25*Config!$B$55, IF(C8=6, Config!$B$15*Config!$B$26*Config!$B$56, IF(C8=7, Config!$B$15*Config!$B$27*Config!$B$57, "")))))))) -> 0.8 | C8: 1 | D8: Bolt of Woolen Cloth | E8: 100 | F8: 25 | G8: =IF(E8 < Config!$B$4, Config!$B$4, E8) -> 850 | H8: =G8 * B8 * ( (LN(1 + ($A$5 * F8))^$A$8)/(1 + $A$2 * LN(1 + ($A$5 * F8))) + ($A$11 * LN(1 + ($A$5 * F8))^$A$14) - $A$17) -> 1839.9414 | I8: =H8 * (1 - Config!$B$9) -> 1563.9502 | J8: =H8 * (1 + Config!$B$10) -> 2299.9267 | K8: =IF(I8<0,"-","") & INT(ABS(I8)/10000) & "g " & INT(MOD(ABS(I8),10000)/100) & "s " & ROUND(MOD(ABS(I8),100),0) & "c" -> 0g 15s 64c | L8: =IF(H8<0,"-","") & INT(ABS(H8)/10000) & "g " & INT(MOD(ABS(H8),10000)/100) & "s " & ROUND(MOD(ABS(H8),100),0) & "c" -> 0g 18s 40c | M8: =IF(J8<0,"-","") & INT(ABS(J8)/10000) & "g " & INT(MOD(ABS(J8),10000)/100) & "s " & ROUND(MOD(ABS(J8),100),0) & "c" -> 0g 22s 100c | N8: =D8 -> Bolt of Woolen Cloth
B9: =IF(C9=0, Config!$B$15*Config!$B$20*Config!$B$50, IF(C9=1, Config!$B$15*Config!$B$21*Config!$B$51, IF(C9=2, Config!$B$15*Config!$B$22*Config!$B$52, IF(C9=3, Config!$B$15*Config!$B$23*Config!$B$53, IF(C9=4, Config!$B$15*Config!$B$24*Config!$B$54, IF(C9=5, Config!$B$15*Config!$B$25*Config!$B$55, IF(C9=6, Config!$B$15*Config!$B$26*Config!$B$56, IF(C9=7, Config!$B$15*Config!$B$27*Config!$B$57, "")))))))) -> 0.8 | C9: 1 | D9: Silken Thread | E9: 125 | F9: 30 | G9: =IF(E9 < Config!$B$4, Config!$B$4, E9) -> 850 | H9: =G9 * B9 * ( (LN(1 + ($A$5 * F9))^$A$8)/(1 + $A$2 * LN(1 + ($A$5 * F9))) + ($A$11 * LN(1 + ($A$5 * F9))^$A$14) - $A$17) -> 1986.9624 | I9: =H9 * (1 - Config!$B$9) -> 1688.9181 | J9: =H9 * (1 + Config!$B$10) -> 2483.7031 | K9: =IF(I9<0,"-","") & INT(ABS(I9)/10000) & "g " & INT(MOD(ABS(I9),10000)/100) & "s " & ROUND(MOD(ABS(I9),100),0) & "c" -> 0g 16s 89c | L9: =IF(H9<0,"-","") & INT(ABS(H9)/10000) & "g " & INT(MOD(ABS(H9),10000)/100) & "s " & ROUND(MOD(ABS(H9),100),0) & "c" -> 0g 19s 87c | M9: =IF(J9<0,"-","") & INT(ABS(J9)/10000) & "g " & INT(MOD(ABS(J9),10000)/100) & "s " & ROUND(MOD(ABS(J9),100),0) & "c" -> 0g 24s 84c | N9: =D9 -> Silken Thread
A10: c | B10: =IF(C10=0, Config!$B$15*Config!$B$20*Config!$B$50, IF(C10=1, Config!$B$15*Config!$B$21*Config!$B$51, IF(C10=2, Config!$B$15*Config!$B$22*Config!$B$52, IF(C10=3, Config!$B$15*Config!$B$23*Config!$B$53, IF(C10=4, Config!$B$15*Config!$B$24*Config!$B$54, IF(C10=5, Config!$B$15*Config!$B$25*Config!$B$55, IF(C10=6, Config!$B$15*Config!$B$26*Config!$B$56, IF(C10=7, Config!$B$15*Config!$B$27*Config!$B$57, "")))))))) -> 0.8 | C10: 1 | D10: Silk Cloth | E10: 150 | F10: 30 | G10: =IF(E10 < Config!$B$4, Config!$B$4, E10) -> 850 | H10: =G10 * B10 * ( (LN(1 + ($A$5 * F10))^$A$8)/(1 + $A$2 * LN(1 + ($A$5 * F10))) + ($A$11 * LN(1 + ($A$5 * F10))^$A$14) - $A$17) -> 1986.9624 | I10: =H10 * (1 - Config!$B$9) -> 1688.9181 | J10: =H10 * (1 + Config!$B$10) -> 2483.7031 | K10: =IF(I10<0,"-","") & INT(ABS(I10)/10000) & "g " & INT(MOD(ABS(I10),10000)/100) & "s " & ROUND(MOD(ABS(I10),100),0) & "c" -> 0g 16s 89c | L10: =IF(H10<0,"-","") & INT(ABS(H10)/10000) & "g " & INT(MOD(ABS(H10),10000)/100) & "s " & ROUND(MOD(ABS(H10),100),0) & "c" -> 0g 19s 87c | M10: =IF(J10<0,"-","") & INT(ABS(J10)/10000) & "g " & INT(MOD(ABS(J10),10000)/100) & "s " & ROUND(MOD(ABS(J10),100),0) & "c" -> 0g 24s 84c | N10: =D10 -> Silk Cloth
A11: 0.001 | B11: =IF(C11=0, Config!$B$15*Config!$B$20*Config!$B$50, IF(C11=1, Config!$B$15*Config!$B$21*Config!$B$51, IF(C11=2, Config!$B$15*Config!$B$22*Config!$B$52, IF(C11=3, Config!$B$15*Config!$B$23*Config!$B$53, IF(C11=4, Config!$B$15*Config!$B$24*Config!$B$54, IF(C11=5, Config!$B$15*Config!$B$25*Config!$B$55, IF(C11=6, Config!$B$15*Config!$B$26*Config!$B$56, IF(C11=7, Config!$B$15*Config!$B$27*Config!$B$57, "")))))))) -> 0.8 | C11: 1 | D11: Bolt of Silk Cloth | E11: 600 | F11: 35 | G11: =IF(E11 < Config!$B$4, Config!$B$4, E11) -> 850 | H11: =G11 * B11 * ( (LN(1 + ($A$5 * F11))^$A$8)/(1 + $A$2 * LN(1 + ($A$5 * F11))) + ($A$11 * LN(1 + ($A$5 * F11))^$A$14) - $A$17) -> 2113.502 | I11: =H11 * (1 - Config!$B$9) -> 1796.4767 | J11: =H11 * (1 + Config!$B$10) -> 2641.8775 | K11: =IF(I11<0,"-","") & INT(ABS(I11)/10000) & "g " & INT(MOD(ABS(I11),10000)/100) & "s " & ROUND(MOD(ABS(I11),100),0) & "c" -> 0g 17s 96c | L11: =IF(H11<0,"-","") & INT(ABS(H11)/10000) & "g " & INT(MOD(ABS(H11),10000)/100) & "s " & ROUND(MOD(ABS(H11),100),0) & "c" -> 0g 21s 14c | M11: =IF(J11<0,"-","") & INT(ABS(J11)/10000) & "g " & INT(MOD(ABS(J11),10000)/100) & "s " & ROUND(MOD(ABS(J11),100),0) & "c" -> 0g 26s 42c | N11: =D11 -> Bolt of Silk Cloth
B12: =IF(C12=0, Config!$B$15*Config!$B$20*Config!$B$50, IF(C12=1, Config!$B$15*Config!$B$21*Config!$B$51, IF(C12=2, Config!$B$15*Config!$B$22*Config!$B$52, IF(C12=3, Config!$B$15*Config!$B$23*Config!$B$53, IF(C12=4, Config!$B$15*Config!$B$24*Config!$B$54, IF(C12=5, Config!$B$15*Config!$B$25*Config!$B$55, IF(C12=6, Config!$B$15*Config!$B$26*Config!$B$56, IF(C12=7, Config!$B$15*Config!$B$27*Config!$B$57, "")))))))) -> 0.8 | C12: 1 | D12: Thick Spider's Silk | E12: 750 | F12: 35 | G12: =IF(E12 < Config!$B$4, Config!$B$4, E12) -> 850 | H12: =G12 * B12 * ( (LN(1 + ($A$5 * F12))^$A$8)/(1 + $A$2 * LN(1 + ($A$5 * F12))) + ($A$11 * LN(1 + ($A$5 * F12))^$A$14) - $A$17) -> 2113.502 | I12: =H12 * (1 - Config!$B$9) -> 1796.4767 | J12: =H12 * (1 + Config!$B$10) -> 2641.8775 | K12: =IF(I12<0,"-","") & INT(ABS(I12)/10000) & "g " & INT(MOD(ABS(I12),10000)/100) & "s " & ROUND(MOD(ABS(I12),100),0) & "c" -> 0g 17s 96c | L12: =IF(H12<0,"-","") & INT(ABS(H12)/10000) & "g " & INT(MOD(ABS(H12),10000)/100) & "s " & ROUND(MOD(ABS(H12),100),0) & "c" -> 0g 21s 14c | M12: =IF(J12<0,"-","") & INT(ABS(J12)/10000) & "g " & INT(MOD(ABS(J12),10000)/100) & "s " & ROUND(MOD(ABS(J12),100),0) & "c" -> 0g 26s 42c | N12: =D12 -> Thick Spider's Silk
A13: r | B13: =IF(C13=0, Config!$B$15*Config!$B$20*Config!$B$50, IF(C13=1, Config!$B$15*Config!$B$21*Config!$B$51, IF(C13=2, Config!$B$15*Config!$B$22*Config!$B$52, IF(C13=3, Config!$B$15*Config!$B$23*Config!$B$53, IF(C13=4, Config!$B$15*Config!$B$24*Config!$B$54, IF(C13=5, Config!$B$15*Config!$B$25*Config!$B$55, IF(C13=6, Config!$B$15*Config!$B$26*Config!$B$56, IF(C13=7, Config!$B$15*Config!$B$27*Config!$B$57, "")))))))) -> 0.8 | C13: 1 | D13: Mageweave Cloth | E13: 250 | F13: 40 | G13: =IF(E13 < Config!$B$4, Config!$B$4, E13) -> 850 | H13: =G13 * B13 * ( (LN(1 + ($A$5 * F13))^$A$8)/(1 + $A$2 * LN(1 + ($A$5 * F13))) + ($A$11 * LN(1 + ($A$5 * F13))^$A$14) - $A$17) -> 2224.7196 | I13: =H13 * (1 - Config!$B$9) -> 1891.0117 | J13: =H13 * (1 + Config!$B$10) -> 2780.8995 | K13: =IF(I13<0,"-","") & INT(ABS(I13)/10000) & "g " & INT(MOD(ABS(I13),10000)/100) & "s " & ROUND(MOD(ABS(I13),100),0) & "c" -> 0g 18s 91c | L13: =IF(H13<0,"-","") & INT(ABS(H13)/10000) & "g " & INT(MOD(ABS(H13),10000)/100) & "s " & ROUND(MOD(ABS(H13),100),0) & "c" -> 0g 22s 25c | M13: =IF(J13<0,"-","") & INT(ABS(J13)/10000) & "g " & INT(MOD(ABS(J13),10000)/100) & "s " & ROUND(MOD(ABS(J13),100),0) & "c" -> 0g 27s 81c | N13: =D13 -> Mageweave Cloth
A14: 3.5 | B14: =IF(C14=0, Config!$B$15*Config!$B$20*Config!$B$50, IF(C14=1, Config!$B$15*Config!$B$21*Config!$B$51, IF(C14=2, Config!$B$15*Config!$B$22*Config!$B$52, IF(C14=3, Config!$B$15*Config!$B$23*Config!$B$53, IF(C14=4, Config!$B$15*Config!$B$24*Config!$B$54, IF(C14=5, Config!$B$15*Config!$B$25*Config!$B$55, IF(C14=6, Config!$B$15*Config!$B$26*Config!$B$56, IF(C14=7, Config!$B$15*Config!$B$27*Config!$B$57, "")))))))) -> 0.8 | C14: 1 | D14: Heavy Silken Thread | E14: 500 | F14: 40 | G14: =IF(E14 < Config!$B$4, Config!$B$4, E14) -> 850 | H14: =G14 * B14 * ( (LN(1 + ($A$5 * F14))^$A$8)/(1 + $A$2 * LN(1 + ($A$5 * F14))) + ($A$11 * LN(1 + ($A$5 * F14))^$A$14) - $A$17) -> 2224.7196 | I14: =H14 * (1 - Config!$B$9) -> 1891.0117 | J14: =H14 * (1 + Config!$B$10) -> 2780.8995 | K14: =IF(I14<0,"-","") & INT(ABS(I14)/10000) & "g " & INT(MOD(ABS(I14),10000)/100) & "s " & ROUND(MOD(ABS(I14),100),0) & "c" -> 0g 18s 91c | L14: =IF(H14<0,"-","") & INT(ABS(H14)/10000) & "g " & INT(MOD(ABS(H14),10000)/100) & "s " & ROUND(MOD(ABS(H14),100),0) & "c" -> 0g 22s 25c | M14: =IF(J14<0,"-","") & INT(ABS(J14)/10000) & "g " & INT(MOD(ABS(J14),10000)/100) & "s " & ROUND(MOD(ABS(J14),100),0) & "c" -> 0g 27s 81c | N14: =D14 -> Heavy Silken Thread
B15: =IF(C15=0, Config!$B$15*Config!$B$20*Config!$B$50, IF(C15=1, Config!$B$15*Config!$B$21*Config!$B$51, IF(C15=2, Config!$B$15*Config!$B$22*Config!$B$52, IF(C15=3, Config!$B$15*Config!$B$23*Config!$B$53, IF(C15=4, Config!$B$15*Config!$B$24*Config!$B$54, IF(C15=5, Config!$B$15*Config!$B$25*Config!$B$55, IF(C15=6, Config!$B$15*Config!$B$26*Config!$B$56, IF(C15=7, Config!$B$15*Config!$B$27*Config!$B$57, "")))))))) -> 0.8 | C15: 1 | D15: Shadow Silk | E15: 1000 | F15: 40 | G15: =IF(E15 < Config!$B$4, Config!$B$4, E15) -> 1000 | H15: =G15 * B15 * ( (LN(1 + ($A$5 * F15))^$A$8)/(1 + $A$2 * LN(1 + ($A$5 * F15))) + ($A$11 * LN(1 + ($A$5 * F15))^$A$14) - $A$17) -> 2617.3172 | I15: =H15 * (1 - Config!$B$9) -> 2224.7196 | J15: =H15 * (1 + Config!$B$10) -> 3271.6465 | K15: =IF(I15<0,"-","") & INT(ABS(I15)/10000) & "g " & INT(MOD(ABS(I15),10000)/100) & "s " & ROUND(MOD(ABS(I15),100),0) & "c" -> 0g 22s 25c | L15: =IF(H15<0,"-","") & INT(ABS(H15)/10000) & "g " & INT(MOD(ABS(H15),10000)/100) & "s " & ROUND(MOD(ABS(H15),100),0) & "c" -> 0g 26s 17c | M15: =IF(J15<0,"-","") & INT(ABS(J15)/10000) & "g " & INT(MOD(ABS(J15),10000)/100) & "s " & ROUND(MOD(ABS(J15),100),0) & "c" -> 0g 32s 72c | N15: =D15 -> Shadow Silk
A16: offset | B16: =IF(C16=0, Config!$B$15*Config!$B$20*Config!$B$50, IF(C16=1, Config!$B$15*Config!$B$21*Config!$B$51, IF(C16=2, Config!$B$15*Config!$B$22*Config!$B$52, IF(C16=3, Config!$B$15*Config!$B$23*Config!$B$53, IF(C16=4, Config!$B$15*Config!$B$24*Config!$B$54, IF(C16=5, Config!$B$15*Config!$B$25*Config!$B$55, IF(C16=6, Config!$B$15*Config!$B$26*Config!$B$56, IF(C16=7, Config!$B$15*Config!$B$27*Config!$B$57, "")))))))) -> 0.8 | C16: 1 | D16: Bolt of Mageweave | E16: 1250 | F16: 45 | G16: =IF(E16 < Config!$B$4, Config!$B$4, E16) -> 1250 | H16: =G16 * B16 * ( (LN(1 + ($A$5 * F16))^$A$8)/(1 + $A$2 * LN(1 + ($A$5 * F16))) + ($A$11 * LN(1 + ($A$5 * F16))^$A$14) - $A$17) -> 3417.6917 | I16: =H16 * (1 - Config!$B$9) -> 2905.0379 | J16: =H16 * (1 + Config!$B$10) -> 4272.1146 | K16: =IF(I16<0,"-","") & INT(ABS(I16)/10000) & "g " & INT(MOD(ABS(I16),10000)/100) & "s " & ROUND(MOD(ABS(I16),100),0) & "c" -> 0g 29s 5c | L16: =IF(H16<0,"-","") & INT(ABS(H16)/10000) & "g " & INT(MOD(ABS(H16),10000)/100) & "s " & ROUND(MOD(ABS(H16),100),0) & "c" -> 0g 34s 18c | M16: =IF(J16<0,"-","") & INT(ABS(J16)/10000) & "g " & INT(MOD(ABS(J16),10000)/100) & "s " & ROUND(MOD(ABS(J16),100),0) & "c" -> 0g 42s 72c | N16: =D16 -> Bolt of Mageweave
A17: 0.3 | B17: =IF(C17=0, Config!$B$15*Config!$B$20*Config!$B$50, IF(C17=1, Config!$B$15*Config!$B$21*Config!$B$51, IF(C17=2, Config!$B$15*Config!$B$22*Config!$B$52, IF(C17=3, Config!$B$15*Config!$B$23*Config!$B$53, IF(C17=4, Config!$B$15*Config!$B$24*Config!$B$54, IF(C17=5, Config!$B$15*Config!$B$25*Config!$B$55, IF(C17=6, Config!$B$15*Config!$B$26*Config!$B$56, IF(C17=7, Config!$B$15*Config!$B$27*Config!$B$57, "")))))))) -> 0.8 | C17: 1 | D17: Rune Thread | E17: 1250 | F17: 50 | G17: =IF(E17 < Config!$B$4, Config!$B$4, E17) -> 1250 | H17: =G17 * B17 * ( (LN(1 + ($A$5 * F17))^$A$8)/(1 + $A$2 * LN(1 + ($A$5 * F17))) + ($A$11 * LN(1 + ($A$5 * F17))^$A$14) - $A$17) -> 3549.7261 | I17: =H17 * (1 - Config!$B$9) -> 3017.2672 | J17: =H17 * (1 + Config!$B$10) -> 4437.1576 | K17: =IF(I17<0,"-","") & INT(ABS(I17)/10000) & "g " & INT(MOD(ABS(I17),10000)/100) & "s " & ROUND(MOD(ABS(I17),100),0) & "c" -> 0g 30s 17c | L17: =IF(H17<0,"-","") & INT(ABS(H17)/10000) & "g " & INT(MOD(ABS(H17),10000)/100) & "s " & ROUND(MOD(ABS(H17),100),0) & "c" -> 0g 35s 50c | M17: =IF(J17<0,"-","") & INT(ABS(J17)/10000) & "g " & INT(MOD(ABS(J17),10000)/100) & "s " & ROUND(MOD(ABS(J17),100),0) & "c" -> 0g 44s 37c | N17: =D17 -> Rune Thread
B18: =IF(C18=0, Config!$B$15*Config!$B$20*Config!$B$50, IF(C18=1, Config!$B$15*Config!$B$21*Config!$B$51, IF(C18=2, Config!$B$15*Config!$B$22*Config!$B$52, IF(C18=3, Config!$B$15*Config!$B$23*Config!$B$53, IF(C18=4, Config!$B$15*Config!$B$24*Config!$B$54, IF(C18=5, Config!$B$15*Config!$B$25*Config!$B$55, IF(C18=6, Config!$B$15*Config!$B$26*Config!$B$56, IF(C18=7, Config!$B$15*Config!$B$27*Config!$B$57, "")))))))) -> 0.8 | C18: 1 | D18: Felcloth | E18: 2000 | F18: 50 | G18: =IF(E18 < Config!$B$4, Config!$B$4, E18) -> 2000 | H18: =G18 * B18 * ( (LN(1 + ($A$5 * F18))^$A$8)/(1 + $A$2 * LN(1 + ($A$5 * F18))) + ($A$11 * LN(1 + ($A$5 * F18))^$A$14) - $A$17) -> 5679.5618 | I18: =H18 * (1 - Config!$B$9) -> 4827.6275 | J18: =H18 * (1 + Config!$B$10) -> 7099.4522 | K18: =IF(I18<0,"-","") & INT(ABS(I18)/10000) & "g " & INT(MOD(ABS(I18),10000)/100) & "s " & ROUND(MOD(ABS(I18),100),0) & "c" -> 0g 48s 28c | L18: =IF(H18<0,"-","") & INT(ABS(H18)/10000) & "g " & INT(MOD(ABS(H18),10000)/100) & "s " & ROUND(MOD(ABS(H18),100),0) & "c" -> 0g 56s 80c | M18: =IF(J18<0,"-","") & INT(ABS(J18)/10000) & "g " & INT(MOD(ABS(J18),10000)/100) & "s " & ROUND(MOD(ABS(J18),100),0) & "c" -> 0g 70s 99c | N18: =D18 -> Felcloth
B19: =IF(C19=0, Config!$B$15*Config!$B$20*Config!$B$50, IF(C19=1, Config!$B$15*Config!$B$21*Config!$B$51, IF(C19=2, Config!$B$15*Config!$B$22*Config!$B$52, IF(C19=3, Config!$B$15*Config!$B$23*Config!$B$53, IF(C19=4, Config!$B$15*Config!$B$24*Config!$B$54, IF(C19=5, Config!$B$15*Config!$B$25*Config!$B$55, IF(C19=6, Config!$B$15*Config!$B$26*Config!$B$56, IF(C19=7, Config!$B$15*Config!$B$27*Config!$B$57, "")))))))) -> 0.8 | C19: 1 | D19: Runecloth | E19: 400 | F19: 50 | G19: =IF(E19 < Config!$B$4, Config!$B$4, E19) -> 850 | H19: =G19 * B19 * ( (LN(1 + ($A$5 * F19))^$A$8)/(1 + $A$2 * LN(1 + ($A$5 * F19))) + ($A$11 * LN(1 + ($A$5 * F19))^$A$14) - $A$17) -> 2413.8138 | I19: =H19 * (1 - Config!$B$9) -> 2051.7417 | J19: =H19 * (1 + Config!$B$10) -> 3017.2672 | K19: =IF(I19<0,"-","") & INT(ABS(I19)/10000) & "g " & INT(MOD(ABS(I19),10000)/100) & "s " & ROUND(MOD(ABS(I19),100),0) & "c" -> 0g 20s 52c | L19: =IF(H19<0,"-","") & INT(ABS(H19)/10000) & "g " & INT(MOD(ABS(H19),10000)/100) & "s " & ROUND(MOD(ABS(H19),100),0) & "c" -> 0g 24s 14c | M19: =IF(J19<0,"-","") & INT(ABS(J19)/10000) & "g " & INT(MOD(ABS(J19),10000)/100) & "s " & ROUND(MOD(ABS(J19),100),0) & "c" -> 0g 30s 17c | N19: =D19 -> Runecloth
