Workbook

Sheet Config
A1: PriceMinimumCenterBase Settings
A2: PriceMinimumCenterBase.Consumable | B2: 1000
A3: PriceMinimumCenterBase.Gem | B3: 1000
A4: PriceMinimumCenterBase.TradeGood | B4: 850
A5: PriceMinimumCenterBase.Misc | B5: 1000
A6: PriceMinimumCenterBase.Glyph | B6: 1000
A8: Buyout Variation Percent Settings
A9: BuyoutVariationReducePercent | B9: 0.15
A10: BuyoutVariationAddPercent | B10: 0.25
A12: Broad Category Multipliers
A13: PriceMultiplier.Category.Consumable | B13: 1
A14: PriceMultiplier.Category.Gem | B14: 1
A15: PriceMultiplier.Category.TradeGood | B15: 1
A16: PriceMultiplier.Category.Misc | B16: 1
A17: PriceMultiplier.Category.Glyph | B17: 1
A19: Broad Quality Multipliers
A20: PriceMultiplier.Quality.Poor | B20: 1
A21: PriceMultiplier.Quality.Normal | B21: 1
A22: PriceMultiplier.Quality.Uncommon | B22: 1.8
A23: PriceMultiplier.Quality.Rare | B23: 1.9
A24: PriceMultiplier.Quality.Epic | B24: 2.1
A25: PriceMultiplier.Quality.Legendary | B25: 3
A26: PriceMultiplier.Quality.Artifact | B26: 3
A27: PriceMultiplier.Quality.Heirloom | B27: 3
A29: Consumable
A30: PriceMultiplier.CategoryConsumable.QualityPoor | B30: 1
A31: PriceMultiplier.CategoryConsumable.QualityNormal | B31: 1
A32: PriceMultiplier.CategoryConsumable.QualityUncommon | B32: 1
A33: PriceMultiplier.CategoryConsumable.QualityRare | B33: 1
A34: PriceMultiplier.CategoryConsumable.QualityEpic | B34: 1
A35: PriceMultiplier.CategoryConsumable.QualityLegendary | B35: 1
A36: PriceMultiplier.CategoryConsumable.QualityArtifact | B36: 1
A37: PriceMultiplier.CategoryConsumable.QualityHeirloom | B37: 1
A39: Gem
A40: PriceMultiplier.CategoryGem.QualityPoor | B40: 1
A41: PriceMultiplier.CategoryGem.QualityNormal | B41: 1
A42: PriceMultiplier.CategoryGem.QualityUncommon | B42: 1.2
A43: PriceMultiplier.CategoryGem.QualityRare | B43: 1.2
A44: PriceMultiplier.CategoryGem.QualityEpic | B44: 0.9
A45: PriceMultiplier.CategoryGem.QualityLegendary | B45: 1
A46: PriceMultiplier.CategoryGem.QualityArtifact | B46: 1
A47: PriceMultiplier.CategoryGem.QualityHeirloom | B47: 1
A49: TradeGood
A50: PriceMultiplier.CategoryTradeGood.QualityPoor | B50: 1
A51: PriceMultiplier.CategoryTradeGood.QualityNormal | B51: 0.8
A52: PriceMultiplier.CategoryTradeGood.QualityUncommon | B52: 1.2
A53: PriceMultiplier.CategoryTradeGood.QualityRare | B53: 1.2
A54: PriceMultiplier.CategoryTradeGood.QualityEpic | B54: 0.9
A55: PriceMultiplier.CategoryTradeGood.QualityLegendary | B55: 1.4
A56: PriceMultiplier.CategoryTradeGood.QualityArtifact | B56: 1
A57: PriceMultiplier.CategoryTradeGood.QualityHeirloom | B57: 1
A59: Misc
A60: PriceMultiplier.CategoryMisc.QualityPoor | B60: 0
A61: PriceMultiplier.CategoryMisc.QualityNormal | B61: 2
A62: PriceMultiplier.CategoryMisc.QualityUncommon | B62: 2
A63: PriceMultiplier.CategoryMisc.QualityRare | B63: 1
A64: PriceMultiplier.CategoryMisc.QualityEpic | B64: 1
A65: PriceMultiplier.CategoryMisc.QualityLegendary | B65: 0
A66: PriceMultiplier.CategoryMisc.QualityArtifact | B66: 0
A67: PriceMultiplier.CategoryMisc.QualityHeirloom | B67: 0
A69: Glyph
A70: PriceMultiplier.CategoryGlyph.QualityPoor | B70: 1
A71: PriceMultiplier.CategoryGlyph.QualityNormal | B71: 14
A72: PriceMultiplier.CategoryGlyph.QualityUncommon | B72: 1
A73: PriceMultiplier.CategoryGlyph.QualityRare | B73: 1
A74: PriceMultiplier.CategoryGlyph.QualityEpic | B74: 1
A75: PriceMultiplier.CategoryGlyph.QualityLegendary | B75: 1
A76: PriceMultiplier.CategoryGlyph.QualityArtifact | B76: 1
A77: PriceMultiplier.CategoryGlyph.QualityHeirloom | B77: 1
A79: Mount
A80: PriceMultiplier.CategoryMount.QualityPoor | B80: 1
A81: PriceMultiplier.CategoryMount.QualityNormal | B81: 1
A82: PriceMultiplier.CategoryMount.QualityUncommon | B82: 1
A83: PriceMultiplier.CategoryMount.QualityRare | B83: 3000
A84: PriceMultiplier.CategoryMount.QualityEpic | B84: 5750
A85: PriceMultiplier.CategoryMount.QualityLegendary | B85: 1
A86: PriceMultiplier.CategoryMount.QualityArtifact | B86: 1
A87: PriceMultiplier.CategoryMount.QualityHeirloom | B87: 1

Sheet Jewelcrafting
A1: a | B1: Quality Multiplier | C1: Quality | D1: NAME | E1: vendor price | F1: itemLevel | G1: Min Price | H1: Avg Price | I1: Low | J1: High | K1: Low End | L1: Average | M1: High End | N1: NAME
A2: 10 | B2: =IF(C2=0, Config!$B$15*Config!$B$20*Config!$B$50, IF(C2=1, Config!$B$15*Config!$B$21*Config!$B$51, IF(C2=2, Config!$B$15*Config!$B$22*Config!$B$52, IF(C2=3, Config!$B$15*Config!$B$23*Config!$B$53, IF(C2=4, Config!$B$15*Config!$B$24*Config!$B$54, IF(C2=5, Config!$B$15*Config!$B$25*Config!$B$55, IF(C2=6, Config!$B$15*Config!$B$26*Config!$B$56, IF(C2=7, Config!$B$15*Config!$B$27*Config!$B$57, "")))))))) -> 2.16 | C2: 2 | D2: Malachite | E2: 15 | F2: 7 | G2: =IF(E2 < Config!$B$4, Config!$B$4, E2) -> 850 | H2: =G2 * B2 * ( (LN(1 + ($A$5 * F2))^$A$8)/(1 + $A$2 * LN(1 + ($A$5 * F2))) + ($A$11 * LN(1 + ($A$5 * F2))^$A$14) - $A$17) -> 187.33587 | I2: =H2 * (1 - Config!$B$9) -> 159.23549 | J2: =H2 * (1 + Config!$B$10) -> 234.16983 | K2: =IF(I2<0,"-","") & INT(ABS(I2)/10000) & "g " & INT(MOD(ABS(I2),10000)/100) & "s " & ROUND(MOD(ABS(I2),100),0) & "c" -> 0g 1s 59c | L2: =IF(H2<0,"-","") & INT(ABS(H2)/10000) & "g " & INT(MOD(ABS(H2),10000)/100) & "s " & ROUND(MOD(ABS(H2),100),0) & "c" -> 0g 1s 87c | M2: =IF(J2<0,"-","") & INT(ABS(J2)/10000) & "g " & INT(MOD(ABS(J2),10000)/100) & "s " & ROUND(MOD(ABS(J2),100),0) & "c" -> 0g 2s 34c | N2: =D2 -> Malachite
B3: =IF(C3=0, Config!$B$15*Config!$B$20*Config!$B$50, IF(C3=1, Config!$B$15*Config!$B$21*Config!$B$51, IF(C3=2, Config!$B$15*Config!$B$22*Config!$B$52, IF(C3=3, Config!$B$15*Config!$B$23*Config!$B$53, IF(C3=4, Config!$B$15*Config!$B$24*Config!$B$54, IF(C3=5, Config!$B$15*Config!$B$25*Config!$B$55, IF(C3=6, Config!$B$15*Config!$B$26*Config!$B$56, IF(C3=7, Config!$B$15*Config!$B$27*Config!$B$57, "")))))))) -> 2.16 | C3: 2 | D3: Tigerseye | E3: 100 | F3: 15 | G3: =IF(E3 < Config!$B$4, Config!$B$4, E3) -> 850 | H3: =G3 * B3 * ( (LN(1 + ($A$5 * F3))^$A$8)/(1 + $A$2 * LN(1 + ($A$5 * F3))) + ($A$11 * LN(1 + ($A$5 * F3))^$A$14) - $A$17) -> 477.53339 | I3: =H3 * (1 - Config!$B$9) -> 405.90338 | J3: =H3 * (1 + Config!$B$10) -> 596.91674 | K3: =IF(I3<0,"-","") & INT(ABS(I3)/10000) & "g " & INT(MOD(ABS(I3),10000)/100) & "s " & ROUND(MOD(ABS(I3),100),0) & "c" -> 0g 4s 6c | L3: =IF(H3<0,"-","") & INT(ABS(H3)/10000) & "g " & INT(MOD(ABS(H3),10000)/100) & "s " & ROUND(MOD(ABS(H3),100),0) & "c" -> 0g 4s 78c | M3: =IF(J3<0,"-","") & INT(ABS(J3)/10000) & "g " & INT(MOD(ABS(J3),10000)/100) & "s " & ROUND(MOD(ABS(J3),100),0) & "c" -> 0g 5s 97c | N3: =D3 -> Tigerseye
A4: b | B4: =IF(C4=0, Config!$B$15*Config!$B$20*Config!$B$50, IF(C4=1, Config!$B$15*Config!$B$21*Config!$B$51, IF(C4=2, Config!$B$15*Config!$B$22*Config!$B$52, IF(C4=3, Config!$B$15*Config!$B$23*Config!$B$53, IF(C4=4, Config!$B$15*Config!$B$24*Config!$B$54, IF(C4=5, Config!$B$15*Config!$B$25*Config!$B$55, IF(C4=6, Config!$B$15*Config!$B$26*Config!$B$56, IF(C4=7, Config!$B$15*Config!$B$27*Config!$B$57, "")))))))) -> 2.16 | C4: 2 | D4: Small Lustrous Pearl | E4: 200 | F4: 15 | G4: =IF(E4 < Config!$B$4, Config!$B$4, E4) -> 850 | H4: =G4 * B4 * ( (LN(1 + ($A$5 * F4))^$A$8)/(1 + $A$2 * LN(1 + ($A$5 * F4))) + ($A$11 * LN(1 + ($A$5 * F4))^$A$14) - $A$17) -> 477.53339 | I4: =H4 * (1 - Config!$B$9) -> 405.90338 | J4: =H4 * (1 + Config!$B$10) -> 596.91674 | K4: =IF(I4<0,"-","") & INT(ABS(I4)/10000) & "g " & INT(MOD(ABS(I4),10000)/100) & "s " & ROUND(MOD(ABS(I4),100),0) & "c" -> 0g 4s 6c | L4: =IF(H4<0,"-","") & INT(ABS(H4)/10000) & "g " & INT(MOD(ABS(H4),10000)/100) & "s " & ROUND(MOD(ABS(H4),100),0) & "c" -> 0g 4s 78c | M4: =IF(J4<0,"-","") & INT(ABS(J4)/10000) & "g " & INT(MOD(ABS(J4),10000)/100) & "s " & ROUND(MOD(ABS(J4),100),0) & "c" -> 0g 5s 97c | N4: =D4 -> Small Lustrous Pearl
A5: 0.05 | B5: =IF(C5=0, Config!$B$15*Config!$B$20*Config!$B$50, IF(C5=1, Config!$B$15*Config!$B$21*Config!$B$51, IF(C5=2, Config!$B$15*Config!$B$22*Config!$B$52, IF(C5=3, Config!$B$15*Config!$B$23*Config!$B$53, IF(C5=4, Config!$B$15*Config!$B$24*Config!$B$54, IF(C5=5, Config!$B$15*Config!$B$25*Config!$B$55, IF(C5=6, Config!$B$15*Config!$B$26*Config!$B$56, IF(C5=7, Config!$B$15*Config!$B$27*Config!$B$57, "")))))))) -> 2.16 | C5: 2 | D5: Shadowgem | E5: 250 | F5: 20 | G5: =IF(E5 < Config!$B$4, Config!$B$4, E5) -> 850 | H5: =G5 * B5 * ( (LN(1 + ($A$5 * F5))^$A$8)/(1 + $A$2 * LN(1 + ($A$5 * F5))) + ($A$11 * LN(1 + ($A$5 * F5))^$A$14) - $A$17) -> 771.88497 | I5: =H5 * (1 - Config!$B$9) -> 656.10223 | J5: =H5 * (1 + Config!$B$10) -> 964.85622 | K5: =IF(I5<0,"-","") & INT(ABS(I5)/10000) & "g " & INT(MOD(ABS(I5),10000)/100) & "s " & ROUND(MOD(ABS(I5),100),0) & "c" -> 0g 6s 56c | L5: =IF(H5<0,"-","") & INT(ABS(H5)/10000) & "g " & INT(MOD(ABS(H5),10000)/100) & "s " & ROUND(MOD(ABS(H5),100),0) & "c" -> 0g 7s 72c | M5: =IF(J5<0,"-","") & INT(ABS(J5)/10000) & "g " & INT(MOD(ABS(J5),10000)/100) & "s " & ROUND(MOD(ABS(J5),100),0) & "c" -> 0g 9s 65c | N5: =D5 -> Shadowgem
B6: =IF(C6=0, Config!$B$15*Config!$B$20*Config!$B$50, IF(C6=1, Config!$B$15*Config!$B$21*Config!$B$51, IF(C6=2, Config!$B$15*Config!$B$22*Config!$B$52, IF(C6=3, Config!$B$15*Config!$B$23*Config!$B$53, IF(C6=4, Config!$B$15*Config!$B$24*Config!$B$54, IF(C6=5, Config!$B$15*Config!$B$25*Config!$B$55, IF(C6=6, Config!$B$15*Config!$B$26*Config!$B$56, IF(C6=7, Config!$B$15*Config!$B$27*Config!$B$57, "")))))))) -> 2.16 | C6: 2 | D6: Moss Agate | E6: 400 | F6: 25 | G6: =IF(E6 < Config!$B$4, Config!$B$4, E6) -> 850 | H6: =G6 * B6 * ( (LN(1 + ($A$5 * F6))^$A$8)/(1 + $A$2 * LN(1 + ($A$5 * F6))) + ($A$11 * LN(1 + ($A$5 * F6))^$A$14) - $A$17) -> 1142.5359 | I6: =H6 * (1 - Config!$B$9) -> 971.15554 | J6: =H6 * (1 + Config!$B$10) -> 1428.1699 | K6: =IF(I6<0,"-","") & INT(ABS(I6)/10000) & "g " & INT(MOD(ABS(I6),10000)/100) & "s " & ROUND(MOD(ABS(I6),100),0) & "c" -> 0g 9s 71c | L6: =IF(H6<0,"-","") & INT(ABS(H6)/10000) & "g " & INT(MOD(ABS(H6),10000)/100) & "s " & ROUND(MOD(ABS(H6),100),0) & "c" -> 0g 11s 43c | M6: =IF(J6<0,"-","") & INT(ABS(J6)/10000) & "g " & INT(MOD(ABS(J6),10000)/100) & "s " & ROUND(MOD(ABS(J6),100),0) & "c" -> 0g 14s 28c | N6: =D6 -> Moss Agate
A7: p | B7: =IF(C7=0, Config!$B$15*Config!$B$20*Config!$B$50, IF(C7=1, Config!$B$15*Config!$B$21*Config!$B$51, IF(C7=2, Config!$B$15*Config!$B$22*Config!$B$52, IF(C7=3, Config!$B$15*Config!$B$23*Config!$B$53, IF(C7=4, Config!$B$15*Config!$B$24*Config!$B$54, IF(C7=5, Config!$B$15*Config!$B$25*Config!$B$55, IF(C7=6, Config!$B$15*Config!$B$26*Config!$B$56, IF(C7=7, Config!$B$15*Config!$B$27*Config!$B$57, "")))))))) -> 2.16 | C7: 2 | D7: Iridescent Pearl | E7: 750 | F7: 25 | G7: =IF(E7 < Config!$B$4, Config!$B$4, E7) -> 850 | H7: =G7 * B7 * ( (LN(1 + ($A$5 * F7))^$A$8)/(1 + $A$2 * LN(1 + ($A$5 * F7))) + ($A$11 * LN(1 + ($A$5 * F7))^$A$14) - $A$17) -> 1142.5359 | I7: =H7 * (1 - Config!$B$9) -> 971.15554 | J7: =H7 * (1 + Config!$B$10) -> 1428.1699 | K7: =IF(I7<0,"-","") & INT(ABS(I7)/10000) & "g " & INT(MOD(ABS(I7),10000)/100) & "s " & ROUND(MOD(ABS(I7),100),0) & "c" -> 0g 9s 71c | L7: =IF(H7<0,"-","") & INT(ABS(H7)/10000) & "g " & INT(MOD(ABS(H7),10000)/100) & "s " & ROUND(MOD(ABS(H7),100),0) & "c" -> 0g 11s 43c | M7: =IF(J7<0,"-","") & INT(ABS(J7)/10000) & "g " & INT(MOD(ABS(J7),10000)/100) & "s " & ROUND(MOD(ABS(J7),100),0) & "c" -> 0g 14s 28c | N7: =D7 -> Iridescent Pearl
A8: 1 | B8: =IF(C8=0, Config!$B$15*Config!$B$20*Config!$B$50, IF(C8=1, Config!$B$15*Config!$B$21*Config!$B$51, IF(C8=2, Config!$B$15*Config!$B$22*Config!$B$52, IF(C8=3, Config!$B$15*Config!$B$23*Config!$B$53, IF(C8=4, Config!$B$15*Config!$B$24*Config!$B$54, IF(C8=5, Config!$B$15*Config!$B$25*Config!$B$55, IF(C8=6, Config!$B$15*Config!$B$26*Config!$B$56, IF(C8=7, Config!$B$15*Config!$B$27*Config!$B$57, "")))))))) -> 2.16 | C8: 2 | D8: Lesser Moonstone | E8: 600 | F8: 30 | G8: =IF(E8 < Config!$B$4, Config!$B$4, E8) -> 850 | H8: =G8 * B8 * ( (LN(1 + ($A$5 * F8))^$A$8)/(1 + $A$2 * LN(1 + ($A$5 * F8))) + ($A$11 * LN(1 + ($A$5 * F8))^$A$14) - $A$17) -> 1577.9826 | I8: =H8 * (1 - Config!$B$9) -> 1341.2852 | J8: =H8 * (1 + Config!$B$10) -> 1972.4782 | K8: =IF(I8<0,"-","") & INT(ABS(I8)/10000) & "g " & INT(MOD(ABS(I8),10000)/100) & "s " & ROUND(MOD(ABS(I8),100),0) & "c" -> 0g 13s 41c | L8: =IF(H8<0,"-","") & INT(ABS(H8)/10000) & "g " & INT(MOD(ABS(H8),10000)/100) & "s " & ROUND(MOD(ABS(H8),100),0) & "c" -> 0g 15s 78c | M8: =IF(J8<0,"-","") & INT(ABS(J8)/10000) & "g " & INT(MOD(ABS(J8),10000)/100) & "s " & ROUND(MOD(ABS(J8),100),0) & "c" -> 0g 19s 72c | N8: =D8 -> Lesser Moonstone
B9: =IF(C9=0, Config!$B$15*Config!$B$20*Config!$B$50, IF(C9=1, Config!$B$15*Config!$B$21*Config!$B$51, IF(C9=2, Config!$B$15*Config!$B$22*Config!$B$52, IF(C9=3, Config!$B$15*Config!$B$23*Config!$B$53, IF(C9=4, Config!$B$15*Config!$B$24*Config!$B$54, IF(C9=5, Config!$B$15*Config!$B$25*Config!$B$55, IF(C9=6, Config!$B$15*Config!$B$26*Config!$B$56, IF(C9=7, Config!$B$15*Config!$B$27*Config!$B$57, "")))))))) -> 2.16 | C9: 2 | D9: Jade | E9: 700 | F9: 35 | G9: =IF(E9 < Config!$B$4, Config!$B$4, E9) -> 850 | H9: =G9 * B9 * ( (LN(1 + ($A$5 * F9))^$A$8)/(1 + $A$2 * LN(1 + ($A$5 * F9))) + ($A$11 * LN(1 + ($A$5 * F9))^$A$14) - $A$17) -> 2067.7252 | I9: =H9 * (1 - Config!$B$9) -> 1757.5665 | J9: =H9 * (1 + Config!$B$10) -> 2584.6566 | K9: =IF(I9<0,"-","") & INT(ABS(I9)/10000) & "g " & INT(MOD(ABS(I9),10000)/100) & "s " & ROUND(MOD(ABS(I9),100),0) & "c" -> 0g 17s 58c | L9: =IF(H9<0,"-","") & INT(ABS(H9)/10000) & "g " & INT(MOD(ABS(H9),10000)/100) & "s " & ROUND(MOD(ABS(H9),100),0) & "c" -> 0g 20s 68c | M9: =IF(J9<0,"-","") & INT(ABS(J9)/10000) & "g " & INT(MOD(ABS(J9),10000)/100) & "s " & ROUND(MOD(ABS(J9),100),0) & "c" -> 0g 25s 85c | N9: =D9 -> Jade
A10: c | B10: =IF(C10=0, Config!$B$15*Config!$B$20*Config!$B$50, IF(C10=1, Config!$B$15*Config!$B$21*Config!$B$51, IF(C10=2, Config!$B$15*Config!$B$22*Config!$B$52, IF(C10=3, Config!$B$15*Config!$B$23*Config!$B$53, IF(C10=4, Config!$B$15*Config!$B$24*Config!$B$54, IF(C10=5, Config!$B$15*Config!$B$25*Config!$B$55, IF(C10=6, Config!$B$15*Config!$B$26*Config!$B$56, IF(C10=7, Config!$B$15*Config!$B$27*Config!$B$57, "")))))))) -> 2.16 | C10: 2 | D10: Citrine | E10: 800 | F10: 40 | G10: =IF(E10 < Config!$B$4, Config!$B$4, E10) -> 850 | H10: =G10 * B10 * ( (LN(1 + ($A$5 * F10))^$A$8)/(1 + $A$2 * LN(1 + ($A$5 * F10))) + ($A$11 * LN(1 + ($A$5 * F10))^$A$14) - $A$17) -> 2602.7613 | I10: =H10 * (1 - Config!$B$9) -> 2212.3471 | J10: =H10 * (1 + Config!$B$10) -> 3253.4516 | K10: =IF(I10<0,"-","") & INT(ABS(I10)/10000) & "g " & INT(MOD(ABS(I10),10000)/100) & "s " & ROUND(MOD(ABS(I10),100),0) & "c" -> 0g 22s 12c | L10: =IF(H10<0,"-","") & INT(ABS(H10)/10000) & "g " & INT(MOD(ABS(H10),10000)/100) & "s " & ROUND(MOD(ABS(H10),100),0) & "c" -> 0g 26s 3c | M10: =IF(J10<0,"-","") & INT(ABS(J10)/10000) & "g " & INT(MOD(ABS(J10),10000)/100) & "s " & ROUND(MOD(ABS(J10),100),0) & "c" -> 0g 32s 53c | N10: =D10 -> Citrine
A11: 1 | B11: =IF(C11=0, Config!$B$15*Config!$B$20*Config!$B$50, IF(C11=1, Config!$B$15*Config!$B$21*Config!$B$51, IF(C11=2, Config!$B$15*Config!$B$22*Config!$B$52, IF(C11=3, Config!$B$15*Config!$B$23*Config!$B$53, IF(C11=4, Config!$B$15*Config!$B$24*Config!$B$54, IF(C11=5, Config!$B$15*Config!$B$25*Config!$B$55, IF(C11=6, Config!$B$15*Config!$B$26*Config!$B$56, IF(C11=7, Config!$B$15*Config!$B$27*Config!$B$57, "")))))))) -> 2.16 | C11: 2 | D11: Black Pearl | E11: 1000 | F11: 40 | G11: =IF(E11 < Config!$B$4, Config!$B$4, E11) -> 1000 | H11: =G11 * B11 * ( (LN(1 + ($A$5 * F11))^$A$8)/(1 + $A$2 * LN(1 + ($A$5 * F11))) + ($A$11 * LN(1 + ($A$5 * F11))^$A$14) - $A$17) -> 3062.0721 | I11: =H11 * (1 - Config!$B$9) -> 2602.7613 | J11: =H11 * (1 + Config!$B$10) -> 3827.5901 | K11: =IF(I11<0,"-","") & INT(ABS(I11)/10000) & "g " & INT(MOD(ABS(I11),10000)/100) & "s " & ROUND(MOD(ABS(I11),100),0) & "c" -> 0g 26s 3c | L11: =IF(H11<0,"-","") & INT(ABS(H11)/10000) & "g " & INT(MOD(ABS(H11),10000)/100) & "s " & ROUND(MOD(ABS(H11),100),0) & "c" -> 0g 30s 62c | M11: =IF(J11<0,"-","") & INT(ABS(J11)/10000) & "g " & INT(MOD(ABS(J11),10000)/100) & "s " & ROUND(MOD(ABS(J11),100),0) & "c" -> 0g 38s 28c | N11: =D11 -> Black Pearl
B12: =IF(C12=0, Config!$B$15*Config!$B$20*Config!$B$50, IF(C12=1, Config!$B$15*Config!$B$21*Config!$B$51, IF(C12=2, Config!$B$15*Config!$B$22*Config!$B$52, IF(C12=3, Config!$B$15*Config!$B$23*Config!$B$53, IF(C12=4, Config!$B$15*Config!$B$24*Config!$B$54, IF(C12=5, Config!$B$15*Config!$B$25*Config!$B$55, IF(C12=6, Config!$B$15*Config!$B$26*Config!$B$56, IF(C12=7, Config!$B$15*Config!$B$27*Config!$B$57, "")))))))) -> 2.16 | C12: 2 | D12: Golden Pearl | E12: 10000 | F12: 40 | G12: =IF(E12 < Config!$B$4, Config!$B$4, E12) -> 10000 | H12: =G12 * B12 * ( (LN(1 + ($A$5 * F12))^$A$8)/(1 + $A$2 * LN(1 + ($A$5 * F12))) + ($A$11 * LN(1 + ($A$5 * F12))^$A$14) - $A$17) -> 30620.721 | I12: =H12 * (1 - Config!$B$9) -> 26027.613 | J12: =H12 * (1 + Config!$B$10) -> 38275.901 | K12: =IF(I12<0,"-","") & INT(ABS(I12)/10000) & "g " & INT(MOD(ABS(I12),10000)/100) & "s " & ROUND(MOD(ABS(I12),100),0) & "c" -> 2g 60s 28c | L12: =IF(H12<0,"-","") & INT(ABS(H12)/10000) & "g " & INT(MOD(ABS(H12),10000)/100) & "s " & ROUND(MOD(ABS(H12),100),0) & "c" -> 3g 6s 21c | M12: =IF(J12<0,"-","") & INT(ABS(J12)/10000) & "g " & INT(MOD(ABS(J12),10000)/100) & "s " & ROUND(MOD(ABS(J12),100),0) & "c" -> 3g 82s 76c | N12: =D12 -> Golden Pearl
A13: r | B13: =IF(C13=0, Config!$B$15*Config!$B$20*Config!$B$50, IF(C13=1, Config!$B$15*Config!$B$21*Config!$B$51, IF(C13=2, Config!$B$15*Config!$B$22*Config!$B$52, IF(C13=3, Config!$B$15*Config!$B$23*Config!$B$53, IF(C13=4, Config!$B$15*Config!$B$24*Config!$B$54, IF(C13=5, Config!$B$15*Config!$B$25*Config!$B$55, IF(C13=6, Config!$B$15*Config!$B$26*Config!$B$56, IF(C13=7, Config!$B$15*Config!$B$27*Config!$B$57, "")))))))) -> 2.16 | C13: 2 | D13: Jaggal Pearl | E13: 1000 | F13: 40 | G13: =IF(E13 < Config!$B$4, Config!$B$4, E13) -> 1000 | H13: =G13 * B13 * ( (LN(1 + ($A$5 * F13))^$A$8)/(1 + $A$2 * LN(1 + ($A$5 * F13))) + ($A$11 * LN(1 + ($A$5 * F13))^$A$14) - $A$17) -> 3062.0721 | I13: =H13 * (1 - Config!$B$9) -> 2602.7613 | J13: =H13 * (1 + Config!$B$10) -> 3827.5901 | K13: =IF(I13<0,"-","") & INT(ABS(I13)/10000) & "g " & INT(MOD(ABS(I13),10000)/100) & "s " & ROUND(MOD(ABS(I13),100),0) & "c" -> 0g 26s 3c | L13: =IF(H13<0,"-","") & INT(ABS(H13)/10000) & "g " & INT(MOD(ABS(H13),10000)/100) & "s " & ROUND(MOD(ABS(H13),100),0) & "c" -> 0g 30s 62c | M13: =IF(J13<0,"-","") & INT(ABS(J13)/10000) & "g " & INT(MOD(ABS(J13),10000)/100) & "s " & ROUND(MOD(ABS(J13),100),0) & "c" -> 0g 38s 28c | N13: =D13 -> Jaggal Pearl
A14: 3 | B14: =IF(C14=0, Config!$B$15*Config!$B$20*Config!$B$50, IF(C14=1, Config!$B$15*Config!$B$21*Config!$B$51, IF(C14=2, Config!$B$15*Config!$B$22*Config!$B$52, IF(C14=3, Config!$B$15*Config!$B$23*Config!$B$53, IF(C14=4, Config!$B$15*Config!$B$24*Config!$B$54, IF(C14=5, Config!$B$15*Config!$B$25*Config!$B$55, IF(C14=6, Config!$B$15*Config!$B$26*Config!$B$56, IF(C14=7, Config!$B$15*Config!$B$27*Config!$B$57, "")))))))) -> 2.16 | C14: 2 | D14: Shadow Pearl | E14: 1000 | F14: 40 | G14: =IF(E14 < Config!$B$4, Config!$B$4, E14) -> 1000 | H14: =G14 * B14 * ( (LN(1 + ($A$5 * F14))^$A$8)/(1 + $A$2 * LN(1 + ($A$5 * F14))) + ($A$11 * LN(1 + ($A$5 * F14))^$A$14) - $A$17) -> 3062.0721 | I14: =H14 * (1 - Config!$B$9) -> 2602.7613 | J14: =H14 * (1 + Config!$B$10) -> 3827.5901 | K14: =IF(I14<0,"-","") & INT(ABS(I14)/10000) & "g " & INT(MOD(ABS(I14),10000)/100) & "s " & ROUND(MOD(ABS(I14),100),0) & "c" -> 0g 26s 3c | L14: =IF(H14<0,"-","") & INT(ABS(H14)/10000) & "g " & INT(MOD(ABS(H14),10000)/100) & "s " & ROUND(MOD(ABS(H14),100),0) & "c" -> 0g 30s 62c | M14: =IF(J14<0,"-","") & INT(ABS(J14)/10000) & "g " & INT(MOD(ABS(J14),10000)/100) & "s " & ROUND(MOD(ABS(J14),100),0) & "c" -> 0g 38s 28c | N14: =D14 -> Shadow Pearl
B15: =IF(C15=0, Config!$B$15*Config!$B$20*Config!$B$50, IF(C15=1, Config!$B$15*Config!$B$21*Config!$B$51, IF(C15=2, Config!$B$15*Config!$B$22*Config!$B$52, IF(C15=3, Config!$B$15*Config!$B$23*Config!$B$53, IF(C15=4, Config!$B$15*Config!$B$24*Config!$B$54, IF(C15=5, Config!$B$15*Config!$B$25*Config!$B$55, IF(C15=6, Config!$B$15*Config!$B$26*Config!$B$56, IF(C15=7, Config!$B$15*Config!$B$27*Config!$B$57, "")))))))) -> 2.16 | C15: 2 | D15: Aquamarine | E15: 1000 | F15: 45 | G15: =IF(E15 < Config!$B$4, Config!$B$4, E15) -> 1000 | H15: =G15 * B15 * ( (LN(1 + ($A$5 * F15))^$A$8)/(1 + $A$2 * LN(1 + ($A$5 * F15))) + ($A$11 * LN(1 + ($A$5 * F15))^$A$14) - $A$17) -> 3735.9346 | I15: =H15 * (1 - Config!$B$9) -> 3175.5444 | J15: =H15 * (1 + Config!$B$10) -> 4669.9182 | K15: =IF(I15<0,"-","") & INT(ABS(I15)/10000) & "g " & INT(MOD(ABS(I15),10000)/100) & "s " & ROUND(MOD(ABS(I15),100),0) & "c" -> 0g 31s 76c | L15: =IF(H15<0,"-","") & INT(ABS(H15)/10000) & "g " & INT(MOD(ABS(H15),10000)/100) & "s " & ROUND(MOD(ABS(H15),100),0) & "c" -> 0g 37s 36c | M15: =IF(J15<0,"-","") & INT(ABS(J15)/10000) & "g " & INT(MOD(ABS(J15),10000)/100) & "s " & ROUND(MOD(ABS(J15),100),0) & "c" -> 0g 46s 70c | N15: =D15 -> Aquamarine
A16: offset | B16: =IF(C16=0, Config!$B$15*Config!$B$20*Config!$B$50, IF(C16=1, Config!$B$15*Config!$B$21*Config!$B$51, IF(C16=2, Config!$B$15*Config!$B$22*Config!$B$52, IF(C16=3, Config!$B$15*Config!$B$23*Config!$B$53, IF(C16=4, Config!$B$15*Config!$B$24*Config!$B$54, IF(C16=5, Config!$B$15*Config!$B$25*Config!$B$55, IF(C16=6, Config!$B$15*Config!$B$26*Config!$B$56, IF(C16=7, Config!$B$15*Config!$B$27*Config!$B$57, "")))))))) -> 2.16 | C16: 2 | D16: Star Ruby | E16: 5000 | F16: 50 | G16: =IF(E16 < Config!$B$4, Config!$B$4, E16) -> 5000 | H16: =G16 * B16 * ( (LN(1 + ($A$5 * F16))^$A$8)/(1 + $A$2 * LN(1 + ($A$5 * F16))) + ($A$11 * LN(1 + ($A$5 * F16))^$A$14) - $A$17) -> 22234.098 | I16: =H16 * (1 - Config!$B$9) -> 18898.983 | J16: =H16 * (1 + Config!$B$10) -> 27792.623 | K16: =IF(I16<0,"-","") & INT(ABS(I16)/10000) & "g " & INT(MOD(ABS(I16),10000)/100) & "s " & ROUND(MOD(ABS(I16),100),0) & "c" -> 1g 88s 99c | L16: =IF(H16<0,"-","") & INT(ABS(H16)/10000) & "g " & INT(MOD(ABS(H16),10000)/100) & "s " & ROUND(MOD(ABS(H16),100),0) & "c" -> 2g 22s 34c | M16: =IF(J16<0,"-","") & INT(ABS(J16)/10000) & "g " & INT(MOD(ABS(J16),10000)/100) & "s " & ROUND(MOD(ABS(J16),100),0) & "c" -> 2g 77s 93c | N16: =D16 -> Star Ruby
A17: 0 | B17: =IF(C17=0, Config!$B$15*Config!$B$20*Config!$B$50, IF(C17=1, Config!$B$15*Config!$B$21*Config!$B$51, IF(C17=2, Config!$B$15*Config!$B$22*Config!$B$52, IF(C17=3, Config!$B$15*Config!$B$23*Config!$B$53, IF(C17=4, Config!$B$15*Config!$B$24*Config!$B$54, IF(C17=5, Config!$B$15*Config!$B$25*Config!$B$55, IF(C17=6, Config!$B$15*Config!$B$26*Config!$B$56, IF(C17=7, Config!$B$15*Config!$B$27*Config!$B$57, "")))))))) -> 2.16 | C17: 2 | D17: Blood of the Mountain | E17: 750 | F17: 50 | G17: =IF(E17 < Config!$B$4, Config!$B$4, E17) -> 850 | H17: =G17 * B17 * ( (LN(1 + ($A$5 * F17))^$A$8)/(1 + $A$2 * LN(1 + ($A$5 * F17))) + ($A$11 * LN(1 + ($A$5 * F17))^$A$14) - $A$17) -> 3779.7967 | I17: =H17 * (1 - Config!$B$9) -> 3212.8272 | J17: =H17 * (1 + Config!$B$10) -> 4724.7458 | K17: =IF(I17<0,"-","") & INT(ABS(I17)/10000) & "g " & INT(MOD(ABS(I17),10000)/100) & "s " & ROUND(MOD(ABS(I17),100),0) & "c" -> 0g 32s 13c | L17: =IF(H17<0,"-","") & INT(ABS(H17)/10000) & "g " & INT(MOD(ABS(H17),10000)/100) & "s " & ROUND(MOD(ABS(H17),100),0) & "c" -> 0g 37s 80c | M17: =IF(J17<0,"-","") & INT(ABS(J17)/10000) & "g " & INT(MOD(ABS(J17),10000)/100) & "s " & ROUND(MOD(ABS(J17),100),0) & "c" -> 0g 47s 25c | N17: =D17 -> Blood of the Mountain
B18: =IF(C18=0, Config!$B$15*Config!$B$20*Config!$B$50, IF(C18=1, Config!$B$15*Config!$B$21*Config!$B$51, IF(C18=2, Config!$B$15*Config!$B$22*Config!$B$52, IF(C18=3, Config!$B$15*Config!$B$23*Config!$B$53, IF(C18=4, Config!$B$15*Config!$B$24*Config!$B$54, IF(C18=5, Config!$B$15*Config!$B$25*Config!$B$55, IF(C18=6, Config!$B$15*Config!$B$26*Config!$B$56, IF(C18=7, Config!$B$15*Config!$B$27*Config!$B$57, "")))))))) -> 2.16 | C18: 2 | D18: Souldarite | E18: 5000 | F18: 50 | G18: =IF(E18 < Config!$B$4, Config!$B$4, E18) -> 5000 | H18: =G18 * B18 * ( (LN(1 + ($A$5 * F18))^$A$8)/(1 + $A$2 * LN(1 + ($A$5 * F18))) + ($A$11 * LN(1 + ($A$5 * F18))^$A$14) - $A$17) -> 22234.098 | I18: =H18 * (1 - Config!$B$9) -> 18898.983 | J18: =H18 * (1 + Config!$B$10) -> 27792.623 | K18: =IF(I18<0,"-","") & INT(ABS(I18)/10000) & "g " & INT(MOD(ABS(I18),10000)/100) & "s " & ROUND(MOD(ABS(I18),100),0) & "c" -> 1g 88s 99c | L18: =IF(H18<0,"-","") & INT(ABS(H18)/10000) & "g " & INT(MOD(ABS(H18),10000)/100) & "s " & ROUND(MOD(ABS(H18),100),0) & "c" -> 2g 22s 34c | M18: =IF(J18<0,"-","") & INT(ABS(J18)/10000) & "g " & INT(MOD(ABS(J18),10000)/100) & "s " & ROUND(MOD(ABS(J18),100),0) & "c" -> 2g 77s 93c | N18: =D18 -> Souldarite
B19: =IF(C19=0, Config!$B$15*Config!$B$20*Config!$B$50, IF(C19=1, Config!$B$15*Config!$B$21*Config!$B$51, IF(C19=2, Config!$B$15*Config!$B$22*Config!$B$52, IF(C19=3, Config!$B$15*Config!$B$23*Config!$B$53, IF(C19=4, Config!$B$15*Config!$B$24*Config!$B$54, IF(C19=5, Config!$B$15*Config!$B$25*Config!$B$55, IF(C19=6, Config!$B$15*Config!$B$26*Config!$B$56, IF(C19=7, Config!$B$15*Config!$B$27*Config!$B$57, "")))))))) -> 2.16 | C19: 2 | D19: Blue Sapphire | E19: 7000 | F19: 55 | G19: =IF(E19 < Config!$B$4, Config!$B$4, E19) -> 7000 | H19: =G19 * B19 * ( (LN(1 + ($A$5 * F19))^$A$8)/(1 + $A$2 * LN(1 + ($A$5 * F19))) + ($A$11 * LN(1 + ($A$5 * F19))^$A$14) - $A$17) -> 36320.127 | I19: =H19 * (1 - Config!$B$9) -> 30872.108 | J19: =H19 * (1 + Config!$B$10) -> 45400.158 | K19: =IF(I19<0,"-","") & INT(ABS(I19)/10000) & "g " & INT(MOD(ABS(I19),10000)/100) & "s " & ROUND(MOD(ABS(I19),100),0) & "c" -> 3g 8s 72c | L19: =IF(H19<0,"-","") & INT(ABS(H19)/10000) & "g " & INT(MOD(ABS(H19),10000)/100) & "s " & ROUND(MOD(ABS(H19),100),0) & "c" -> 3g 63s 20c | M19: =IF(J19<0,"-","") & INT(ABS(J19)/10000) & "g " & INT(MOD(ABS(J19),10000)/100) & "s " & ROUND(MOD(ABS(J19),100),0) & "c" -> 4g 54s 0c | N19: =D19 -> Blue Sapphire
B20: =IF(C20=0, Config!$B$15*Config!$B$20*Config!$B$50, IF(C20=1, Config!$B$15*Config!$B$21*Config!$B$51, IF(C20=2, Config!$B$15*Config!$B$22*Config!$B$52, IF(C20=3, Config!$B$15*Config!$B$23*Config!$B$53, IF(C20=4, Config!$B$15*Config!$B$24*Config!$B$54, IF(C20=5, Config!$B$15*Config!$B$25*Config!$B$55, IF(C20=6, Config!$B$15*Config!$B$26*Config!$B$56, IF(C20=7, Config!$B$15*Config!$B$27*Config!$B$57, "")))))))) -> 2.16 | C20: 2 | D20: Large Opal | E20: 7000 | F20: 55 | G20: =IF(E20 < Config!$B$4, Config!$B$4, E20) -> 7000 | H20: =G20 * B20 * ( (LN(1 + ($A$5 * F20))^$A$8)/(1 + $A$2 * LN(1 + ($A$5 * F20))) + ($A$11 * LN(1 + ($A$5 * F20))^$A$14) - $A$17) -> 36320.127 | I20: =H20 * (1 - Config!$B$9) -> 30872.108 | J20: =H20 * (1 + Config!$B$10) -> 45400.158 | K20: =IF(I20<0,"-","") & INT(ABS(I20)/10000) & "g " & INT(MOD(ABS(I20),10000)/100) & "s " & ROUND(MOD(ABS(I20),100),0) & "c" -> 3g 8s 72c | L20: =IF(H20<0,"-","") & INT(ABS(H20)/10000) & "g " & INT(MOD(ABS(H20),10000)/100) & "s " & ROUND(MOD(ABS(H20),100),0) & "c" -> 3g 63s 20c | M20: =IF(J20<0,"-","") & INT(ABS(J20)/10000) & "g " & INT(MOD(ABS(J20),10000)/100) & "s " & ROUND(MOD(ABS(J20),100),0) & "c" -> 4g 54s 0c | N20: =D20 -> Large Opal
B21: =IF(C21=0, Config!$B$15*Config!$B$20*Config!$B$50, IF(C21=1, Config!$B$15*Config!$B$21*Config!$B$51, IF(C21=2, Config!$B$15*Config!$B$22*Config!$B$52, IF(C21=3, Config!$B$15*Config!$B$23*Config!$B$53, IF(C21=4, Config!$B$15*Config!$B$24*Config!$B$54, IF(C21=5, Config!$B$15*Config!$B$25*Config!$B$55, IF(C21=6, Config!$B$15*Config!$B$26*Config!$B$56, IF(C21=7, Config!$B$15*Config!$B$27*Config!$B$57, "")))))))) -> 0.8 | C21: 1 | D21: Bold Tourmaline | E21: 5000 | F21: 55 | G21: =IF(E21 < Config!$B$4, Config!$B$4, E21) -> 5000 | H21: =G21 * B21 * ( (LN(1 + ($A$5 * F21))^$A$8)/(1 + $A$2 * LN(1 + ($A$5 * F21))) + ($A$11 * LN(1 + ($A$5 * F21))^$A$14) - $A$17) -> 9608.4991 | I21: =H21 * (1 - Config!$B$9) -> 8167.2243 | J21: =H21 * (1 + Config!$B$10) -> 12010.624 | K21: =IF(I21<0,"-","") & INT(ABS(I21)/10000) & "g " & INT(MOD(ABS(I21),10000)/100) & "s " & ROUND(MOD(ABS(I21),100),0) & "c" -> 0g 81s 67c | L21: =IF(H21<0,"-","") & INT(ABS(H21)/10000) & "g " & INT(MOD(ABS(H21),10000)/100) & "s " & ROUND(MOD(ABS(H21),100),0) & "c" -> 0g 96s 8c | M21: =IF(J21<0,"-","") & INT(ABS(J21)/10000) & "g " & INT(MOD(ABS(J21),10000)/100) & "s " & ROUND(MOD(ABS(J21),100),0) & "c" -> 1g 20s 11c | N21: =D21 -> Bold Tourmaline
B22: =IF(C22=0, Config!$B$15*Config!$B$20*Config!$B$50, IF(C22=1, Config!$B$15*Config!$B$21*Config!$B$51, IF(C22=2, Config!$B$15*Config!$B$22*Config!$B$52, IF(C22=3, Config!$B$15*Config!$B$23*Config!$B$53, IF(C22=4, Config!$B$15*Config!$B$24*Config!$B$54, IF(C22=5, Config!$B$15*Config!$B$25*Config!$B$55, IF(C22=6, Config!$B$15*Config!$B$26*Config!$B$56, IF(C22=7, Config!$B$15*Config!$B$27*Config!$B$57, "")))))))) -> 0.8 | C22: 1 | D22: Delicate Tourmaline | E22: 5000 | F22: 55 | G22: =IF(E22 < Config!$B$4, Config!$B$4, E22) -> 5000 | H22: =G22 * B22 * ( (LN(1 + ($A$5 * F22))^$A$8)/(1 + $A$2 * LN(1 + ($A$5 * F22))) + ($A$11 * LN(1 + ($A$5 * F22))^$A$14) - $A$17) -> 9608.4991 | I22: =H22 * (1 - Config!$B$9) -> 8167.2243 | J22: =H22 * (1 + Config!$B$10) -> 12010.624 | K22: =IF(I22<0,"-","") & INT(ABS(I22)/10000) & "g " & INT(MOD(ABS(I22),10000)/100) & "s " & ROUND(MOD(ABS(I22),100),0) & "c" -> 0g 81s 67c | L22: =IF(H22<0,"-","") & INT(ABS(H22)/10000) & "g " & INT(MOD(ABS(H22),10000)/100) & "s " & ROUND(MOD(ABS(H22),100),0) & "c" -> 0g 96s 8c | M22: =IF(J22<0,"-","") & INT(ABS(J22)/10000) & "g " & INT(MOD(ABS(J22),10000)/100) & "s " & ROUND(MOD(ABS(J22),100),0) & "c" -> 1g 20s 11c | N22: =D22 -> Delicate Tourmaline
B23: =IF(C23=0, Config!$B$15*Config!$B$20*Config!$B$50, IF(C23=1, Config!$B$15*Config!$B$21*Config!$B$51, IF(C23=2, Config!$B$15*Config!$B$22*Config!$B$52, IF(C23=3, Config!$B$15*Config!$B$23*Config!$B$53, IF(C23=4, Config!$B$15*Config!$B$24*Config!$B$54, IF(C23=5, Config!$B$15*Config!$B$25*Config!$B$55, IF(C23=6, Config!$B$15*Config!$B$26*Config!$B$56, IF(C23=7, Config!$B$15*Config!$B$27*Config!$B$57, "")))))))) -> 0.8 | C23: 1 | D23: Teardrop Tourmaline | E23: 5000 | F23: 55 | G23: =IF(E23 < Config!$B$4, Config!$B$4, E23) -> 5000 | H23: =G23 * B23 * ( (LN(1 + ($A$5 * F23))^$A$8)/(1 + $A$2 * LN(1 + ($A$5 * F23))) + ($A$11 * LN(1 + ($A$5 * F23))^$A$14) - $A$17) -> 9608.4991 | I23: =H23 * (1 - Config!$B$9) -> 8167.2243 | J23: =H23 * (1 + Config!$B$10) -> 12010.624 | K23: =IF(I23<0,"-","") & INT(ABS(I23)/10000) & "g " & INT(MOD(ABS(I23),10000)/100) & "s " & ROUND(MOD(ABS(I23),100),0) & "c" -> 0g 81s 67c | L23: =IF(H23<0,"-","") & INT(ABS(H23)/10000) & "g " & INT(MOD(ABS(H23),10000)/100) & "s " & ROUND(MOD(ABS(H23),100),0) & "c" -> 0g 96s 8c | M23: =IF(J23<0,"-","") & INT(ABS(J23)/10000) & "g " & INT(MOD(ABS(J23),10000)/100) & "s " & ROUND(MOD(ABS(J23),100),0) & "c" -> 1g 20s 11c | N23: =D23 -> Teardrop Tourmaline
B24: =IF(C24=0, Config!$B$15*Config!$B$20*Config!$B$50, IF(C24=1, Config!$B$15*Config!$B$21*Config!$B$51, IF(C24=2, Config!$B$15*Config!$B$22*Config!$B$52, IF(C24=3, Config!$B$15*Config!$B$23*Config!$B$53, IF(C24=4, Config!$B$15*Config!$B$24*Config!$B$54, IF(C24=5, Config!$B$15*Config!$B$25*Config!$B$55, IF(C24=6, Config!$B$15*Config!$B$26*Config!$B$56, IF(C24=7, Config!$B$15*Config!$B$27*Config!$B$57, "")))))))) -> 0.8 | C24: 1 | D24: Runed Tourmaline | E24: 5000 | F24: 55 | G24: =IF(E24 < Config!$B$4, Config!$B$4, E24) -> 5000 | H24: =G24 * B24 * ( (LN(1 + ($A$5 * F24))^$A$8)/(1 + $A$2 * LN(1 + ($A$5 * F24))) + ($A$11 * LN(1 + ($A$5 * F24))^$A$14) - $A$17) -> 9608.4991 | I24: =H24 * (1 - Config!$B$9) -> 8167.2243 | J24: =H24 * (1 + Config!$B$10) -> 12010.624 | K24: =IF(I24<0,"-","") & INT(ABS(I24)/10000) & "g " & INT(MOD(ABS(I24),10000)/100) & "s " & ROUND(MOD(ABS(I24),100),0) & "c" -> 0g 81s 67c | L24: =IF(H24<0,"-","") & INT(ABS(H24)/10000) & "g " & INT(MOD(ABS(H24),10000)/100) & "s " & ROUND(MOD(ABS(H24),100),0) & "c" -> 0g 96s 8c | M24: =IF(J24<0,"-","") & INT(ABS(J24)/10000) & "g " & INT(MOD(ABS(J24),10000)/100) & "s " & ROUND(MOD(ABS(J24),100),0) & "c" -> 1g 20s 11c | N24: =D24 -> Runed Tourmaline
B25: =IF(C25=0, Config!$B$15*Config!$B$20*Config!$B$50, IF(C25=1, Config!$B$15*Config!$B$21*Config!$B$51, IF(C25=2, Config!$B$15*Config!$B$22*Config!$B$52, IF(C25=3, Config!$B$15*Config!$B$23*Config!$B$53, IF(C25=4, Config!$B$15*Config!$B$24*Config!$B$54, IF(C25=5, Config!$B$15*Config!$B$25*Config!$B$55, IF(C25=6, Config!$B$15*Config!$B$26*Config!$B$56, IF(C25=7, Config!$B$15*Config!$B$27*Config!$B$57, "")))))))) -> 0.8 | C25: 1 | D25: Bright Tourmaline | E25: 5000 | F25: 55 | G25: =IF(E25 < Config!$B$4, Config!$B$4, E25) -> 5000 | H25: =G25 * B25 * ( (LN(1 + ($A$5 * F25))^$A$8)/(1 + $A$2 * LN(1 + ($A$5 * F25))) + ($A$11 * LN(1 + ($A$5 * F25))^$A$14) - $A$17) -> 9608.4991 | I25: =H25 * (1 - Config!$B$9) -> 8167.2243 | J25: =H25 * (1 + Config!$B$10) -> 12010.624 | K25: =IF(I25<0,"-","") & INT(ABS(I25)/10000) & "g " & INT(MOD(ABS(I25),10000)/100) & "s " & ROUND(MOD(ABS(I25),100),0) & "c" -> 0g 81s 67c | L25: =IF(H25<0,"-","") & INT(ABS(H25)/10000) & "g " & INT(MOD(ABS(H25),10000)/100) & "s " & ROUND(MOD(ABS(H25),100),0) & "c" -> 0g 96s 8c | M25: =IF(J25<0,"-","") & INT(ABS(J25)/10000) & "g " & INT(MOD(ABS(J25),10000)/100) & "s " & ROUND(MOD(ABS(J25),100),0) & "c" -> 1g 20s 11c | N25: =D25 -> Bright Tourmaline
B26: =IF(C26=0, Config!$B$15*Config!$B$20*Config!$B$50, IF(C26=1, Config!$B$15*Config!$B$21*Config!$B$51, IF(C26=2, Config!$B$15*Config!$B$22*Config!$B$52, IF(C26=3, Config!$B$15*Config!$B$23*Config!$B$53, IF(C26=4, Config!$B$15*Config!$B$24*Config!$B$54, IF(C26=5, Config!$B$15*Config!$B$25*Config!$B$55, IF(C26=6, Config!$B$15*Config!$B$26*Config!$B$56, IF(C26=7, Config!$B$15*Config!$B$27*Config!$B$57, "")))))))) -> 0.8 | C26: 1 | D26: Solid Zircon | E26: 5000 | F26: 55 | G26: =IF(E26 < Config!$B$4, Config!$B$4, E26) -> 5000 | H26: =G26 * B26 * ( (LN(1 + ($A$5 * F26))^$A$8)/(1 + $A$2 * LN(1 + ($A$5 * F26))) + ($A$11 * LN(1 + ($A$5 * F26))^$A$14) - $A$17) -> 9608.4991 | I26: =H26 * (1 - Config!$B$9) -> 8167.2243 | J26: =H26 * (1 + Config!$B$10) -> 12010.624 | K26: =IF(I26<0,"-","") & INT(ABS(I26)/10000) & "g " & INT(MOD(ABS(I26),10000)/100) & "s " & ROUND(MOD(ABS(I26),100),0) & "c" -> 0g 81s 67c | L26: =IF(H26<0,"-","") & INT(ABS(H26)/10000) & "g " & INT(MOD(ABS(H26),10000)/100) & "s " & ROUND(MOD(ABS(H26),100),0) & "c" -> 0g 96s 8c | M26: =IF(J26<0,"-","") & INT(ABS(J26)/10000) & "g " & INT(MOD(ABS(J26),10000)/100) & "s " & ROUND(MOD(ABS(J26),100),0) & "c" -> 1g 20s 11c | N26: =D26 -> Solid Zircon
B27: =IF(C27=0, Config!$B$15*Config!$B$20*Config!$B$50, IF(C27=1, Config!$B$15*Config!$B$21*Config!$B$51, IF(C27=2, Config!$B$15*Config!$B$22*Config!$B$52, IF(C27=3, Config!$B$15*Config!$B$23*Config!$B$53, IF(C27=4, Config!$B$15*Config!$B$24*Config!$B$54, IF(C27=5, Config!$B$15*Config!$B$25*Config!$B$55, IF(C27=6, Config!$B$15*Config!$B$26*Config!$B$56, IF(C27=7, Config!$B$15*Config!$B$27*Config!$B$57, "")))))))) -> 0.8 | C27: 1 | D27: Sparkling Zircon | E27: 5000 | F27: 55 | G27: =IF(E27 < Config!$B$4, Config!$B$4, E27) -> 5000 | H27: =G27 * B27 * ( (LN(1 + ($A$5 * F27))^$A$8)/(1 + $A$2 * LN(1 + ($A$5 * F27))) + ($A$11 * LN(1 + ($A$5 * F27))^$A$14) - $A$17) -> 9608.4991 | I27: =H27 * (1 - Config!$B$9) -> 8167.2243 | J27: =H27 * (1 + Config!$B$10) -> 12010.624 | K27: =IF(I27<0,"-","") & INT(ABS(I27)/10000) & "g " & INT(MOD(ABS(I27),10000)/100) & "s " & ROUND(MOD(ABS(I27),100),0) & "c" -> 0g 81s 67c | L27: =IF(H27<0,"-","") & INT(ABS(H27)/10000) & "g " & INT(MOD(ABS(H27),10000)/100) & "s " & ROUND(MOD(ABS(H27),100),0) & "c" -> 0g 96s 8c | M27: =IF(J27<0,"-","") & INT(ABS(J27)/10000) & "g " & INT(MOD(ABS(J27),10000)/100) & "s " & ROUND(MOD(ABS(J27),100),0) & "c" -> 1g 20s 11c | N27: =D27 -> Sparkling Zircon
B28: =IF(C28=0, Config!$B$15*Config!$B$20*Config!$B$50, IF(C28=1, Config!$B$15*Config!$B$21*Config!$B$51, IF(C28=2, Config!$B$15*Config!$B$22*Config!$B$52, IF(C28=3, Config!$B$15*Config!$B$23*Config!$B$53, IF(C28=4, Config!$B$15*Config!$B$24*Config!$B$54, IF(C28=5, Config!$B$15*Config!$B$25*Config!$B$55, IF(C28=6, Config!$B$15*Config!$B$26*Config!$B$56, IF(C28=7, Config!$B$15*Config!$B$27*Config!$B$57, "")))))))) -> 0.8 | C28: 1 | D28: Lustrous Zircon | E28: 5000 | F28: 55 | G28: =IF(E28 < Config!$B$4, Config!$B$4, E28) -> 5000 | H28: =G28 * B28 * ( (LN(1 + ($A$5 * F28))^$A$8)/(1 + $A$2 * LN(1 + ($A$5 * F28))) + ($A$11 * LN(1 + ($A$5 * F28))^$A$14) - $A$17) -> 9608.4991 | I28: =H28 * (1 - Config!$B$9) -> 8167.2243 | J28: =H28 * (1 + Config!$B$10) -> 12010.624 | K28: =IF(I28<0,"-","") & INT(ABS(I28)/10000) & "g " & INT(MOD(ABS(I28),10000)/100) & "s " & ROUND(MOD(ABS(I28),100),0) & "c" -> 0g 81s 67c | L28: =IF(H28<0,"-","") & INT(ABS(H28)/10000) & "g " & INT(MOD(ABS(H28),10000)/100) & "s " & ROUND(MOD(ABS(H28),100),0) & "c" -> 0g 96s 8c | M28: =IF(J28<0,"-","") & INT(ABS(J28)/10000) & "g " & INT(MOD(ABS(J28),10000)/100) & "s " & ROUND(MOD(ABS(J28),100),0) & "c" -> 1g 20s 11c | N28: =D28 -> Lustrous Zircon
B29: =IF(C29=0, Config!$B$15*Config!$B$20*Config!$B$50, IF(C29=1, Config!$B$15*Config!$B$21*Config!$B$51, IF(C29=2, Config!$B$15*Config!$B$22*Config!$B$52, IF(C29=3, Config!$B$15*Config!$B$23*Config!$B$53, IF(C29=4, Config!$B$15*Config!$B$24*Config!$B$54, IF(C29=5, Config!$B$15*Config!$B$25*Config!$B$55, IF(C29=6, Config!$B$15*Config!$B$26*Config!$B$56, IF(C29=7, Config!$B$15*Config!$B$27*Config!$B$57, "")))))))) -> 0.8 | C29: 1 | D29: Brilliant Amber | E29: 5000 | F29: 55 | G29: =IF(E29 < Config!$B$4, Config!$B$4, E29) -> 5000 | H29: =G29 * B29 * ( (LN(1 + ($A$5 * F29))^$A$8)/(1 + $A$2 * LN(1 + ($A$5 * F29))) + ($A$11 * LN(1 + ($A$5 * F29))^$A$14) - $A$17) -> 9608.4991 | I29: =H29 * (1 - Config!$B$9) -> 8167.2243 | J29: =H29 * (1 + Config!$B$10) -> 12010.624 | K29: =IF(I29<0,"-","") & INT(ABS(I29)/10000) & "g " & INT(MOD(ABS(I29),10000)/100) & "s " & ROUND(MOD(ABS(I29),100),0) & "c" -> 0g 81s 67c | L29: =IF(H29<0,"-","") & INT(ABS(H29)/10000) & "g " & INT(MOD(ABS(H29),10000)/100) & "s " & ROUND(MOD(ABS(H29),100),0) & "c" -> 0g 96s 8c | M29: =IF(J29<0,"-","") & INT(ABS(J29)/10000) & "g " & INT(MOD(ABS(J29),10000)/100) & "s " & ROUND(MOD(ABS(J29),100),0) & "c" -> 1g 20s 11c | N29: =D29 -> Brilliant Amber
... B395: =IF(C395=0, Config!$B$15*Config!$B$20*Config!$B$50, IF(C395=1, Config!$B$15*Config!$B$21*Config!$B$51, IF(C395=2, Config!$B$15*Config!$B$22*Config!$B$52, IF(C395=3, Config!$B$15*Config!$B$23*Config!$B$53, IF(C395=4, Config!$B$15*Config!$B$24*Config!$B$54, IF(C395=5, Config!$B$15*Config!$B$25*Config!$B$55, IF(C395=6, Config!$B$15*Config!$B$26*Config!$B$56, IF(C395=7, Config!$B$15*Config!$B$27*Config!$B$57, "")))))))) -> 2.28 | C395: 3 | D395: Insightful Earthsiege Diamond | E395: 60000 | F395: 80 | G395: =IF(E395 < Config!$B$4, Config!$B$4, E395) -> 60000 | H395: =G395 * B395 * ( (LN(1 + ($A$5 * F395))^$A$8)/(1 + $A$2 * LN(1 + ($A$5 * F395))) + ($A$11 * LN(1 + ($A$5 * F395))^$A$14) - $A$17) -> 583186.84 | I395: =H395 * (1 - Config!$B$9) -> 495708.81 | J395: =H395 * (1 + Config!$B$10) -> 728983.55 | K395: =IF(I395<0,"-","") & INT(ABS(I395)/10000) & "g " & INT(MOD(ABS(I395),10000)/100) & "s " & ROUND(MOD(ABS(I395),100),0) & "c" -> 49g 57s 9c | L395: =IF(H395<0,"-","") & INT(ABS(H395)/10000) & "g " & INT(MOD(ABS(H395),10000)/100) & "s " & ROUND(MOD(ABS(H395),100),0) & "c" -> 58g 31s 87c | M395: =IF(J395<0,"-","") & INT(ABS(J395)/10000) & "g " & INT(MOD(ABS(J395),10000)/100) & "s " & ROUND(MOD(ABS(J395),100),0) & "c" -> 72g 89s 84c | N395: =D395 -> Insightful Earthsiege Diamond

Sheet Cloth
A1: a | B1: Quality Multiplier | C1: Quality | D1: NAME | E1: vendor price | F1: itemLevel | G1: Min Price | H1: Avg Price | I1: Low | J1: High | K1: Low End | L1: Average | M1: High End | N1: NAME
A2: 0.8 | B2: =IF(C2=0, Config!$B$15*Config!$B$20*Config!$B$50, IF(C2=1, Config!$B$15*Config!$B$21*Config!$B$51, IF(C2=2, Config!$B$15*Config!$B$22*Config!$B$52, IF(C2=3, Config!$B$15*Config!$B$23*Config!$B$53, IF(C2=4, Config!$B$15*Config!$B$24*Config!$B$54, IF(C2=5, Config!$B$15*Config!$B$25*Config!$B$55, IF(C2=6, Config!$B$15*Config!$B$26*Config!$B$56, IF(C2=7, Config!$B$15*Config!$B$27*Config!$B$57, "")))))))) -> 0.8 | C2: 1 | D2: Linen Cloth | E2: 13 | F2: 5 | G2: =IF(E2 < Config!$B$4, Config!$B$4, E2) -> 850 | H2: =G2 * B2 * ( (LN(1 + ($A$5 * F2))^$A$8)/(1 + $A$2 * LN(1 + ($A$5 * F2))) + ($A$11 * LN(1 + ($A$5 * F2))^$A$14) - $A$17) -> 698.36192 | I2: =H2 * (1 - Config!$B$9) -> 593.60763 | J2: =H2 * (1 + Config!$B$10) -> 872.9524 | K2: =IF(I2<0,"-","") & INT(ABS(I2)/10000) & "g " & INT(MOD(ABS(I2),10000)/100) & "s " & ROUND(MOD(ABS(I2),100),0) & "c" -> 0g 5s 94c | L2: =IF(H2<0,"-","") & INT(ABS(H2)/10000) & "g " & INT(MOD(ABS(H2),10000)/100) & "s " & ROUND(MOD(ABS(H2),100),0) & "c" -> 0g 6s 98c | M2: =IF(J2<0,"-","") & INT(ABS(J2)/10000) & "g " & INT(MOD(ABS(J2),10000)/100) & "s " & ROUND(MOD(ABS(J2),100),0) & "c" -> 0g 8s 73c | N2: =D2 -> Linen Cloth
B3: =IF(C3=0, Config!$B$15*Config!$B$20*Config!$B$50, IF(C3=1, Config!$B$15*Config!$B$21*Config!$B$51, IF(C3=2, Config!$B$15*Config!$B$22*Config!$B$52, IF(C3=3, Config!$B$15*Config!$B$23*Config!$B$53, IF(C3=4, Config!$B$15*Config!$B$24*Config!$B$54, IF(C3=5, Config!$B$15*Config!$B$25*Config!$B$55, IF(C3=6, Config!$B$15*Config!$B$26*Config!$B$56, IF(C3=7, Config!$B$15*Config!$B$27*Config!$B$57, "")))))))) -> 0.8 | C3: 1 | D3: Coarse Thread | E3: 2 | F3: 5 | G3: =IF(E3 < Config!$B$4, Config!$B$4, E3) -> 850 | H3: =G3 * B3 * ( (LN(1 + ($A$5 * F3))^$A$8)/(1 + $A$2 * LN(1 + ($A$5 * F3))) + ($A$11 * LN(1 + ($A$5 * F3))^$A$14) - $A$17) -> 698.36192 | I3: =H3 * (1 - Config!$B$9) -> 593.60763 | J3: =H3 * (1 + Config!$B$10) -> 872.9524 | K3: =IF(I3<0,"-","") & INT(ABS(I3)/10000) & "g " & INT(MOD(ABS(I3),10000)/100) & "s " & ROUND(MOD(ABS(I3),100),0) & "c" -> 0g 5s 94c | L3: =IF(H3<0,"-","") & INT(ABS(H3)/10000) & "g " & INT(MOD(ABS(H3),10000)/100) & "s " & ROUND(MOD(ABS(H3),100),0) & "c" -> 0g 6s 98c | M3: =IF(J3<0,"-","") & INT(ABS(J3)/10000) & "g " & INT(MOD(ABS(J3),10000)/100) & "s " & ROUND(MOD(ABS(J3),100),0) & "c" -> 0g 8s 73c | N3: =D3 -> Coarse Thread
A4: b | B4: =IF(C4=0, Config!$B$15*Config!$B$20*Config!$B$50, IF(C4=1, Config!$B$15*Config!$B$21*Config!$B$51, IF(C4=2, Config!$B$15*Config!$B$22*Config!$B$52, IF(C4=3, Config!$B$15*Config!$B$23*Config!$B$53, IF(C4=4, Config!$B$15*Config!$B$24*Config!$B$54, IF(C4=5, Config!$B$15*Config!$B$25*Config!$B$55, IF(C4=6, Config!$B$15*Config!$B$26*Config!$B$56, IF(C4=7, Config!$B$15*Config!$B$27*Config!$B$57, "")))))))) -> 0.8 | C4: 1 | D4: Bolt of Linen Cloth | E4: 40 | F4: 10 | G4: =IF(E4 < Config!$B$4, Config!$B$4, E4) -> 850 | H4: =G4 * B4 * ( (LN(1 + ($A$5 * F4))^$A$8)/(1 + $A$2 * LN(1 + ($A$5 * F4))) + ($A$11 * LN(1 + ($A$5 * F4))^$A$14) - $A$17) -> 1150.3091 | I4: =H4 * (1 - Config!$B$9) -> 977.76269 | J4: =H4 * (1 + Config!$B$10) -> 1437.8863 | K4: =IF(I4<0,"-","") & INT(ABS(I4)/10000) & "g " & INT(MOD(ABS(I4),10000)/100) & "s " & ROUND(MOD(ABS(I4),100),0) & "c" -> 0g 9s 78c | L4: =IF(H4<0,"-","") & INT(ABS(H4)/10000) & "g " & INT(MOD(ABS(H4),10000)/100) & "s " & ROUND(MOD(ABS(H4),100),0) & "c" -> 0g 11s 50c | M4: =IF(J4<0,"-","") & INT(ABS(J4)/10000) & "g " & INT(MOD(ABS(J4),10000)/100) & "s " & ROUND(MOD(ABS(J4),100),0) & "c" -> 0g 14s 38c | N4: =D4 -> Bolt of Linen Cloth
A5: 1 | B5: =IF(C5=0, Config!$B$15*Config!$B$20*Config!$B$50, IF(C5=1, Config!$B$15*Config!$B$21*Config!$B$51, IF(C5=2, Config!$B$15*Config!$B$22*Config!$B$52, IF(C5=3, Config!$B$15*Config!$B$23*Config!$B$53, IF(C5=4, Config!$B$15*Config!$B$24*Config!$B$54, IF(C5=5, Config!$B$15*Config!$B$25*Config!$B$55, IF(C5=6, Config!$B$15*Config!$B$26*Config!$B$56, IF(C5=7, Config!$B$15*Config!$B$27*Config!$B$57, "")))))))) -> 0.8 | C5: 1 | D5: Wool Cloth | E5: 33 | F5: 15 | G5: =IF(E5 < Config!$B$4, Config!$B$4, E5) -> 850 | H5: =G5 * B5 * ( (LN(1 + ($A$5 * F5))^$A$8)/(1 + $A$2 * LN(1 + ($A$5 * F5))) + ($A$11 * LN(1 + ($A$5 * F5))^$A$14) - $A$17) -> 1444.5 | I5: =H5 * (1 - Config!$B$9) -> 1227.825 | J5: =H5 * (1 + Config!$B$10) -> 1805.625 | K5: =IF(I5<0,"-","") & INT(ABS(I5)/10000) & "g " & INT(MOD(ABS(I5),10000)/100) & "s " & ROUND(MOD(ABS(I5),100),0) & "c" -> 0g 12s 28c | L5: =IF(H5<0,"-","") & INT(ABS(H5)/10000) & "g " & INT(MOD(ABS(H5),10000)/100) & "s " & ROUND(MOD(ABS(H5),100),0) & "c" -> 0g 14s 44c | M5: =IF(J5<0,"-","") & INT(ABS(J5)/10000) & "g " & INT(MOD(ABS(J5),10000)/100) & "s " & ROUND(MOD(ABS(J5),100),0) & "c" -> 0g 18s 6c | N5: =D5 -> Wool Cloth
B6: =IF(C6=0, Config!$B$15*Config!$B$20*Config!$B$50, IF(C6=1, Config!$B$15*Config!$B$21*Config!$B$51, IF(C6=2, Config!$B$15*Config!$B$22*Config!$B$52, IF(C6=3, Config!$B$15*Config!$B$23*Config!$B$53, IF(C6=4, Config!$B$15*Config!$B$24*Config!$B$54, IF(C6=5, Config!$B$15*Config!$B$25*Config!$B$55, IF(C6=6, Config!$B$15*Config!$B$26*Config!$B$56, IF(C6=7, Config!$B$15*Config!$B$27*Config!$B$57, "")))))))) -> 0.8 | C6: 1 | D6: Fine Thread | E6: 25 | F6: 20 | G6: =IF(E6 < Config!$B$4, Config!$B$4, E6) -> 850 | H6: =G6 * B6 * ( (LN(1 + ($A$5 * F6))^$A$8)/(1 + $A$2 * LN(1 + ($A$5 * F6))) + ($A$11 * LN(1 + ($A$5 * F6))^$A$14) - $A$17) -> 1664.0874 | I6: =H6 * (1 - Config!$B$9) -> 1414.4743 | J6: =H6 * (1 + Config!$B$10) -> 2080.1093 | K6: =IF(I6<0,"-","") & INT(ABS(I6)/10000) & "g " & INT(MOD(ABS(I6),10000)/100) & "s " & ROUND(MOD(ABS(I6),100),0) & "c" -> 0g 14s 14c | L6: =IF(H6<0,"-","") & INT(ABS(H6)/10000) & "g " & INT(MOD(ABS(H6),10000)/100) & "s " & ROUND(MOD(ABS(H6),100),0) & "c" -> 0g 16s 64c | M6: =IF(J6<0,"-","") & INT(ABS(J6)/10000) & "g " & INT(MOD(ABS(J6),10000)/100) & "s " & ROUND(MOD(ABS(J6),100),0) & "c" -> 0g 20s 80c | N6: =D6 -> Fine Thread
A7: p | B7: =IF(C7=0, Config!$B$15*Config!$B$20*Config!$B$50, IF(C7=1, Config!$B$15*Config!$B$21*Config!$B$51, IF(C7=2, Config!$B$15*Config!$B$22*Config!$B$52, IF(C7=3, Config!$B$15*Config!$B$23*Config!$B$53, IF(C7=4, Config!$B$15*Config!$B$24*Config!$B$54, IF(C7=5, Config!$B$15*Config!$B$25*Config!$B$55, IF(C7=6, Config!$B$15*Config!$B$26*Config!$B$56, IF(C7=7, Config!$B$15*Config!$B$27*Config!$B$57, "")))))))) -> 0.8 | C7: 1 | D7: Spider's Silk | E7: 387 | F7: 20 | G7: =IF(E7 < Config!$B$4, Config!$B$4, E7) -> 850 | H7: =G7 * B7 * ( (LN(1 + ($A$5 * F7))^$A$8)/(1 + $A$2 * LN(1 + ($A$5 * F7))) + ($A$11 * LN(1 + ($A$5 * F7))^$A$14) - $A$17) -> 1664.0874 | I7: =H7 * (1 - Config!$B$9) -> 1414.4743 | J7: =H7 * (1 + Config!$B$10) -> 2080.1093 | K7: =IF(I7<0,"-","") & INT(ABS(I7)/10000) & "g " & INT(MOD(ABS(I7),10000)/100) & "s " & ROUND(MOD(ABS(I7),100),0) & "c" -> 0g 14s 14c | L7: =IF(H7<0,"-","") & INT(ABS(H7)/10000) & "g " & INT(MOD(ABS(H7),10000)/100) & "s " & ROUND(MOD(ABS(H7),100),0) & "c" -> 0g 16s 64c | M7: =IF(J7<0,"-","") & INT(ABS(J7)/10000) & "g " & INT(MOD(ABS(J7),10000)/100) & "s " & ROUND(MOD(ABS(J7),100),0) & "c" -> 0g 20s 80c | N7: =D7 -> Spider's Silk
A8: 2 | B8: =IF(C8=0, Config!$B$15*Config!$B$20*Config!$B$50, IF(C8=1, Config!$B$15*Config!$B$21*Config!$B$51, IF(C8=2, Config!$B$15*Config!$B$22*Config!$B$52, IF(C8=3, Config!$B$15*Config!$B$23*Config!$B$53, IF(C8=4, Config!$B$15*Config!$B$24*Config!$B$54, IF(C8=5, Config!$B$15*Config!$B$25*Config!$B$55, IF(C8=6, Config!$B$15*Config!$B$26*Config!$B$56, IF(C8=7, Config!$B$15*Config!$B$27*Config!$B$57, "")))))))) -> 0.8 | C8: 1 | D8: Bolt of Woolen Cloth | E8: 100 | F8: 25 | G8: =IF(E8 < Config!$B$4, Config!$B$4, E8) -> 850 | H8: =G8 * B8 * ( (LN(1 + ($A$5 * F8))^$A$8)/(1 + $A$2 * LN(1 + ($A$5 * F8))) + ($A$11 * LN(1 + ($A$5 * F8))^$A$14) - $A$17) -> 1839.9414 | I8: =H8 * (1 - Config!$B$9) -> 1563.9502 | J8: =H8 * (1 + Config!$B$10) -> 2299.9267 | K8: =IF(I8<0,"-","") & INT(ABS(I8)/10000) & "g " & INT(MOD(ABS(I8),10000)/100) & "s " & ROUND(MOD(ABS(I8),100),0) & "c" -> 0g 15s 64c | L8: =IF(H8<0,"-","") & INT(ABS(H8)/10000) & "g " & INT(MOD(ABS(H8),10000)/100) & "s " & ROUND(MOD(ABS(H8),100),0) & "c" -> 0g 18s 40c | M8: =IF(J8<0,"-","") & INT(ABS(J8)/10000) & "g " & INT(MOD(ABS(J8),10000)/100) & "s " & ROUND(MOD(ABS(J8),100),0) & "c" -> 0g 22s 100c | N8: =D8 -> Bolt of Woolen Cloth
B9: =IF(C9=0, Config!$B$15*Config!$B$20*Config!$B$50, IF(C9=1, Config!$B$15*Config!$B$21*Config!$B$51, IF(C9=2, Config!$B$15*Config!$B$22*Config!$B$52, IF(C9=3, Config!$B$15*Config!$B$23*Config!$B$53, IF(C9=4, Config!$B$15*Config!$B$24*Config!$B$54, IF(C9=5, Config!$B$15*Config!$B$25*Config!$B$55, IF(C9=6, Config!$B$15*Config!$B$26*Config!$B$56, IF(C9=7, Config!$B$15*Config!$B$27*Config!$B$57, "")))))))) -> 0.8 | C9: 1 | D9: Silken Thread | E9: 125 | F9: 30 | G9: =IF(E9 < Config!$B$4, Config!$B$4, E9) -> 850 | H9: =G9 * B9 * ( (LN(1 + ($A$5 * F9))^$A$8)/(1 + $A$2 * LN(1 + ($A$5 * F9))) + ($A$11 * LN(1 + ($A$5 * F9))^$A$14) - $A$17) -> 1986.9624 | I9: =H9 * (1 - Config!$B$9) -> 1688.9181 | J9: =H9 * (1 + Config!$B$10) -> 2483.7031 | K9: =IF(I9<0,"-","") & INT(ABS(I9)/10000) & "g " & INT(MOD(ABS(I9),10000)/100) & "s " & ROUND(MOD(ABS(I9),100),0) & "c" -> 0g 16s 89c | L9: =IF(H9<0,"-","") & INT(ABS(H9)/10000) & "g " & INT(MOD(ABS(H9),10000)/100) & "s " & ROUND(MOD(ABS(H9),100),0) & "c" -> 0g 19s 87c | M9: =IF(J9<0,"-","") & INT(ABS(J9)/10000) & "g " & INT(MOD(ABS(J9),10000)/100) & "s " & ROUND(MOD(ABS(J9),100),0) & "c" -> 0g 24s 84c | N9: =D9 -> Silken Thread
A10: c | B10: =IF(C10=0, Config!$B$15*Config!$B$20*Config!$B$50, IF(C10=1, Config!$B$15*Config!$B$21*Config!$B$51, IF(C10=2, Config!$B$15*Config!$B$22*Config!$B$52, IF(C10=3, Config!$B$15*Config!$B$23*Config!$B$53, IF(C10=4, Config!$B$15*Config!$B$24*Config!$B$54, IF(C10=5, Config!$B$15*Config!$B$25*Config!$B$55, IF(C10=6, Config!$B$15*Config!$B$26*Config!$B$56, IF(C10=7, Config!$B$15*Config!$B$27*Config!$B$57, "")))))))) -> 0.8 | C10: 1 | D10: Silk Cloth | E10: 150 | F10: 30 | G10: =IF(E10 < Config!$B$4, Config!$B$4, E10) -> 850 | H10: =G10 * B10 * ( (LN(1 + ($A$5 * F10))^$A$8)/(1 + $A$2 * LN(1 + ($A$5 * F10))) + ($A$11 * LN(1 + ($A$5 * F10))^$A$14) - $A$17) -> 1986.9624 | I10: =H10 * (1 - Config!$B$9) -> 1688.9181 | J10: =H10 * (1 + Config!$B$10) -> 2483.7031 | K10: =IF(I10<0,"-","") & INT(ABS(I10)/10000) & "g " & INT(MOD(ABS(I10),10000)/100) & "s " & ROUND(MOD(ABS(I10),100),0) & "c" -> 0g 16s 89c | L10: =IF(H10<0,"-","") & INT(ABS(H10)/10000) & "g " & INT(MOD(ABS(H10),10000)/100) & "s " & ROUND(MOD(ABS(H10),100),0) & "c" -> 0g 19s 87c | M10: =IF(J10<0,"-","") & INT(ABS(J10)/10000) & "g " & INT(MOD(ABS(J10),10000)/100) & "s " & ROUND(MOD(ABS(J10),100),0) & "c" -> 0g 24s 84c | N10: =D10 -> Silk Cloth
A11: 0.001 | B11: =IF(C11=0, Config!$B$15*Config!$B$20*Config!$B$50, IF(C11=1, Config!$B$15*Config!$B$21*Config!$B$51, IF(C11=2, Config!$B$15*Config!$B$22*Config!$B$52, IF(C11=3, Config!$B$15*Config!$B$23*Config!$B$53, IF(C11=4, Config!$B$15*Config!$B$24*Config!$B$54, IF(C11=5, Config!$B$15*Config!$B$25*Config!$B$55, IF(C11=6, Config!$B$15*Config!$B$26*Config!$B$56, IF(C11=7, Config!$B$15*Config!$B$27*Config!$B$57, "")))))))) -> 0.8 | C11: 1 | D11: Bolt of Silk Cloth | E11: 600 | F11: 35 | G11: =IF(E11 < Config!$B$4, Config!$B$4, E11) -> 850 | H11: =G11 * B11 * ( (LN(1 + ($A$5 * F11))^$A$8)/(1 + $A$2 * LN(1 + ($A$5 * F11))) + ($A$11 * LN(1 + ($A$5 * F11))^$A$14) - $A$17) -> 2113.502 | I11: =H11 * (1 - Config!$B$9) -> 1796.4767 | J11: =H11 * (1 + Config!$B$10) -> 2641.8775 | K11: =IF(I11<0,"-","") & INT(ABS(I11)/10000) & "g " & INT(MOD(ABS(I11),10000)/100) & "s " & ROUND(MOD(ABS(I11),100),0) & "c" -> 0g 17s 96c | L11: =IF(H11<0,"-","") & INT(ABS(H11)/10000) & "g " & INT(MOD(ABS(H11),10000)/100) & "s " & ROUND(MOD(ABS(H11),100),0) & "c" -> 0g 21s 14c | M11: =IF(J11<0,"-","") & INT(ABS(J11)/10000) & "g " & INT(MOD(ABS(J11),10000)/100) & "s " & ROUND(MOD(ABS(J11),100),0) & "c" -> 0g 26s 42c | N11: =D11 -> Bolt of Silk Cloth
B12: =IF(C12=0, Config!$B$15*Config!$B$20*Config!$B$50, IF(C12=1, Config!$B$15*Config!$B$21*Config!$B$51, IF(C12=2, Config!$B$15*Config!$B$22*Config!$B$52, IF(C12=3, Config!$B$15*Config!$B$23*Config!$B$53, IF(C12=4, Config!$B$15*Config!$B$24*Config!$B$54, IF(C12=5, Config!$B$15*Config!$B$25*Config!$B$55, IF(C12=6, Config!$B$15*Config!$B$26*Config!$B$56, IF(C12=7, Config!$B$15*Config!$B$27*Config!$B$57, "")))))))) -> 0.8 | C12: 1 | D12: Thick Spider's Silk | E12: 750 | F12: 35 | G12: =IF(E12 < Config!$B$4, Config!$B$4, E12) -> 850 | H12: =G12 * B12 * ( (LN(1 + ($A$5 * F12))^$A$8)/(1 + $A$2 * LN(1 + ($A$5 * F12))) + ($A$11 * LN(1 + ($A$5 * F12))^$A$14) - $A$17) -> 2113.502 | I12: =H12 * (1 - Config!$B$9) -> 1796.4767 | J12: =H12 * (1 + Config!$B$10) -> 2641.8775 | K12: =IF(I12<0,"-","") & INT(ABS(I12)/10000) & "g " & INT(MOD(ABS(I12),10000)/100) & "s " & ROUND(MOD(ABS(I12),100),0) & "c" -> 0g 17s 96c | L12: =IF(H12<0,"-","") & INT(ABS(H12)/10000) & "g " & INT(MOD(ABS(H12),10000)/100) & "s " & ROUND(MOD(ABS(H12),100),0) & "c" -> 0g 21s 14c | M12: =IF(J12<0,"-","") & INT(ABS(J12)/10000) & "g " & INT(MOD(ABS(J12),10000)/100) & "s " & ROUND(MOD(ABS(J12),100),0) & "c" -> 0g 26s 42c | N12: =D12 -> Thick Spider's Silk
A13: r | B13: =IF(C13=0, Config!$B$15*Config!$B$20*Config!$B$50, IF(C13=1, Config!$B$15*Config!$B$21*Config!$B$51, IF(C13=2, Config!$B$15*Config!$B$22*Config!$B$52, IF(C13=3, Config!$B$15*Config!$B$23*Config!$B$53, IF(C13=4, Config!$B$15*Config!$B$24*Config!$B$54, IF(C13=5, Config!$B$15*Config!$B$25*Config!$B$55, IF(C13=6, Config!$B$15*Config!$B$26*Config!$B$56, IF(C13=7, Config!$B$15*Config!$B$27*Config!$B$57, "")))))))) -> 0.8 | C13: 1 | D13: Mageweave Cloth | E13: 250 | F13: 40 | G13: =IF(E13 < Config!$B$4, Config!$B$4, E13) -> 850 | H13: =G13 * B13 * ( (LN(1 + ($A$5 * F13))^$A$8)/(1 + $A$2 * LN(1 + ($A$5 * F13))) + ($A$11 * LN(1 + ($A$5 * F13))^$A$14) - $A$17) -> 2224.7196 | I13: =H13 * (1 - Config!$B$9) -> 1891.0117 | J13: =H13 * (1 + Config!$B$10) -> 2780.8995 | K13: =IF(I13<0,"-","") & INT(ABS(I13)/10000) & "g " & INT(MOD(ABS(I13),10000)/100) & "s " & ROUND(MOD(ABS(I13),100),0) & "c" -> 0g 18s 91c | L13: =IF(H13<0,"-","") & INT(ABS(H13)/10000) & "g " & INT(MOD(ABS(H13),10000)/100) & "s " & ROUND(MOD(ABS(H13),100),0) & "c" -> 0g 22s 25c | M13: =IF(J13<0,"-","") & INT(ABS(J13)/10000) & "g " & INT(MOD(ABS(J13),10000)/100) & "s " & ROUND(MOD(ABS(J13),100),0) & "c" -> 0g 27s 81c | N13: =D13 -> Mageweave Cloth
A14: 3.5 | B14: =IF(C14=0, Config!$B$15*Config!$B$20*Config!$B$50, IF(C14=1, Config!$B$15*Config!$B$21*Config!$B$51, IF(C14=2, Config!$B$15*Config!$B$22*Config!$B$52, IF(C14=3, Config!$B$15*Config!$B$23*Config!$B$53, IF(C14=4, Config!$B$15*Config!$B$24*Config!$B$54, IF(C14=5, Config!$B$15*Config!$B$25*Config!$B$55, IF(C14=6, Config!$B$15*Config!$B$26*Config!$B$56, IF(C14=7, Config!$B$15*Config!$B$27*Config!$B$57, "")))))))) -> 0.8 | C14: 1 | D14: Heavy Silken Thread | E14: 500 | F14: 40 | G14: =IF(E14 < Config!$B$4, Config!$B$4, E14) -> 850 | H14: =G14 * B14 * ( (LN(1 + ($A$5 * F14))^$A$8)/(1 + $A$2 * LN(1 + ($A$5 * F14))) + ($A$11 * LN(1 + ($A$5 * F14))^$A$14) - $A$17) -> 2224.7196 | I14: =H14 * (1 - Config!$B$9) -> 1891.0117 | J14: =H14 * (1 + Config!$B$10) -> 2780.8995 | K14: =IF(I14<0,"-","") & INT(ABS(I14)/10000) & "g " & INT(MOD(ABS(I14),10000)/100) & "s " & ROUND(MOD(ABS(I14),100),0) & "c" -> 0g 18s 91c | L14: =IF(H14<0,"-","") & INT(ABS(H14)/10000) & "g " & INT(MOD(ABS(H14),10000)/100) & "s " & ROUND(MOD(ABS(H14),100),0) & "c" -> 0g 22s 25c | M14: =IF(J14<0,"-","") & INT(ABS(J14)/10000) & "g " & INT(MOD(ABS(J14),10000)/100) & "s " & ROUND(MOD(ABS(J14),100),0) & "c" -> 0g 27s 81c | N14: =D14 -> Heavy Silken Thread
B15: =IF(C15=0, Config!$B$15*Config!$B$20*Config!$B$50, IF(C15=1, Config!$B$15*Config!$B$21*Config!$B$51, IF(C15=2, Config!$B$15*Config!$B$22*Config!$B$52, IF(C15=3, Config!$B$15*Config!$B$23*Config!$B$53, IF(C15=4, Config!$B$15*Config!$B$24*Config!$B$54, IF(C15=5, Config!$B$15*Config!$B$25*Config!$B$55, IF(C15=6, Config!$B$15*Config!$B$26*Config!$B$56, IF(C15=7, Config!$B$15*Config!$B$27*Config!$B$57, "")))))))) -> 0.8 | C15: 1 | D15: Shadow Silk | E15: 1000 | F15: 40 | G15: =IF(E15 < Config!$B$4, Config!$B$4, E15) -> 1000 | H15: =G15 * B15 * ( (LN(1 + ($A$5 * F15))^$A$8)/(1 + $A$2 * LN(1 + ($A$5 * F15))) + ($A$11 * LN(1 + ($A$5 * F15))^$A$14) - $A$17) -> 2617.3172 | I15: =H15 * (1 - Config!$B$9) -> 2224.7196 | J15: =H15 * (1 + Config!$B$10) -> 3271.6465 | K15: =IF(I15<0,"-","") & INT(ABS(I15)/10000) & "g " & INT(MOD(ABS(I15),10000)/100) & "s " & ROUND(MOD(ABS(I15),100),0) & "c" -> 0g 22s 25c | L15: =IF(H15<0,"-","") & INT(ABS(H15)/10000) & "g " & INT(MOD(ABS(H15),10000)/100) & "s " & ROUND(MOD(ABS(H15),100),0) & "c" -> 0g 26s 17c | M15: =IF(J15<0,"-","") & INT(ABS(J15)/10000) & "g " & INT(MOD(ABS(J15),10000)/100) & "s " & ROUND(MOD(ABS(J15),100),0) & "c" -> 0g 32s 72c | N15: =D15 -> Shadow Silk
A16: offset | B16: =IF(C16=0, Config!$B$15*Config!$B$20*Config!$B$50, IF(C16=1, Config!$B$15*Config!$B$21*Config!$B$51, IF(C16=2, Config!$B$15*Config!$B$22*Config!$B$52, IF(C16=3, Config!$B$15*Config!$B$23*Config!$B$53, IF(C16=4, Config!$B$15*Config!$B$24*Config!$B$54, IF(C16=5, Config!$B$15*Config!$B$25*Config!$B$55, IF(C16=6, Config!$B$15*Config!$B$26*Config!$B$56, IF(C16=7, Config!$B$15*Config!$B$27*Config!$B$57, "")))))))) -> 0.8 | C16: 1 | D16: Bolt of Mageweave | E16: 1250 | F16: 45 | G16: =IF(E16 < Config!$B$4, Config!$B$4, E16) -> 1250 | H16: =G16 * B16 * ( (LN(1 + ($A$5 * F16))^$A$8)/(1 + $A$2 * LN(1 + ($A$5 * F16))) + ($A$11 * LN(1 + ($A$5 * F16))^$A$14) - $A$17) -> 3417.6917 | I16: =H16 * (1 - Config!$B$9) -> 2905.0379 | J16: =H16 * (1 + Config!$B$10) -> 4272.1146 | K16: =IF(I16<0,"-","") & INT(ABS(I16)/10000) & "g " & INT(MOD(ABS(I16),10000)/100) & "s " & ROUND(MOD(ABS(I16),100),0) & "c" -> 0g 29s 5c | L16: =IF(H16<0,"-","") & INT(ABS(H16)/10000) & "g " & INT(MOD(ABS(H16),10000)/100) & "s " & ROUND(MOD(ABS(H16),100),0) & "c" -> 0g 34s 18c | M16: =IF(J16<0,"-","") & INT(ABS(J16)/10000) & "g " & INT(MOD(ABS(J16),10000)/100) & "s " & ROUND(MOD(ABS(J16),100),0) & "c" -> 0g 42s 72c | N16: =D16 -> Bolt of Mageweave
A17: 0.3 | B17: =IF(C17=0, Config!$B$15*Config!$B$20*Config!$B$50, IF(C17=1, Config!$B$15*Config!$B$21*Config!$B$51, IF(C17=2, Config!$B$15*Config!$B$22*Config!$B$52, IF(C17=3, Config!$B$15*Config!$B$23*Config!$B$53, IF(C17=4, Config!$B$15*Config!$B$24*Config!$B$54, IF(C17=5, Config!$B$15*Config!$B$25*Config!$B$55, IF(C17=6, Config!$B$15*Config!$B$26*Config!$B$56, IF(C17=7, Config!$B$15*Config!$B$27*Config!$B$57, "")))))))) -> 0.8 | C17: 1 | D17: Rune Thread | E17: 1250 | F17: 50 | G17: =IF(E17 < Config!$B$4, Config!$B$4, E17) -> 1250 | H17: =G17 * B17 * ( (LN(1 + ($A$5 * F17))^$A$8)/(1 + $A$2 * LN(1 + ($A$5 * F17))) + ($A$11 * LN(1 + ($A$5 * F17))^$A$14) - $A$17) -> 3549.7261 | I17: =H17 * (1 - Config!$B$9) -> 3017.2672 | J17: =H17 * (1 + Config!$B$10) -> 4437.1576 | K17: =IF(I17<0,"-","") & INT(ABS(I17)/10000) & "g " & INT(MOD(ABS(I17),10000)/100) & "s " & ROUND(MOD(ABS(I17),100),0) & "c" -> 0g 30s 17c | L17: =IF(H17<0,"-","") & INT(ABS(H17)/10000) & "g " & INT(MOD(ABS(H17),10000)/100) & "s " & ROUND(MOD(ABS(H17),100),0) & "c" -> 0g 35s 50c | M17: =IF(J17<0,"-","") & INT(ABS(J17)/10000) & "g " & INT(MOD(ABS(J17),10000)/100) & "s " & ROUND(MOD(ABS(J17),100),0) & "c" -> 0g 44s 37c | N17: =D17 -> Rune Thread
B18: =IF(C18=0, Config!$B$15*Config!$B$20*Config!$B$50, IF(C18=1, Config!$B$15*Config!$B$21*Config!$B$51, IF(C18=2, Config!$B$15*Config!$B$22*Config!$B$52, IF(C18=3, Config!$B$15*Config!$B$23*Config!$B$53, IF(C18=4, Config!$B$15*Config!$B$24*Config!$B$54, IF(C18=5, Config!$B$15*Config!$B$25*Config!$B$55, IF(C18=6, Config!$B$15*Config!$B$26*Config!$B$56, IF(C18=7, Config!$B$15*Config!$B$27*Config!$B$57, "")))))))) -> 0.8 | C18: 1 | D18: Felcloth | E18: 2000 | F18: 50 | G18: =IF(E18 < Config!$B$4, Config!$B$4, E18) -> 2000 | H18: =G18 * B18 * ( (LN(1 + ($A$5 * F18))^$A$8)/(1 + $A$2 * LN(1 + ($A$5 * F18))) + ($A$11 * LN(1 + ($A$5 * F18))^$A$14) - $A$17) -> 5679.5618 | I18: =H18 * (1 - Config!$B$9) -> 4827.6275 | J18: =H18 * (1 + Config!$B$10) -> 7099.4522 | K18: =IF(I18<0,"-","") & INT(ABS(I18)/10000) & "g " & INT(MOD(ABS(I18),10000)/100) & "s " & ROUND(MOD(ABS(I18),100),0) & "c" -> 0g 48s 28c | L18: =IF(H18<0,"-","") & INT(ABS(H18)/10000) & "g " & INT(MOD(ABS(H18),10000)/100) & "s " & ROUND(MOD(ABS(H18),100),0) & "c" -> 0g 56s 80c | M18: =IF(J18<0,"-","") & INT(ABS(J18)/10000) & "g " & INT(MOD(ABS(J18),10000)/100) & "s " & ROUND(MOD(ABS(J18),100),0) & "c" -> 0g 70s 99c | N18: =D18 -> Felcloth
B19: =IF(C19=0, Config!$B$15*Config!$B$20*Config!$B$50, IF(C19=1, Config!$B$15*Config!$B$21*Config!$B$51, IF(C19=2, Config!$B$15*Config!$B$22*Config!$B$52, IF(C19=3, Config!$B$15*Config!$B$23*Config!$B$53, IF(C19=4, Config!$B$15*Config!$B$24*Config!$B$54, IF(C19=5, Config!$B$15*Config!$B$25*Config!$B$55, IF(C19=6, Config!$B$15*Config!$B$26*Config!$B$56, IF(C19=7, Config!$B$15*Config!$B$27*Config!$B$57, "")))))))) -> 0.8 | C19: 1 | D19: Runecloth | E19: 400 | F19: 50 | G19: =IF(E19 < Config!$B$4, Config!$B$4, E19) -> 850 | H19: =G19 * B19 * ( (LN(1 + ($A$5 * F19))^$A$8)/(1 + $A$2 * LN(1 + ($A$5 * F19))) + ($A$11 * LN(1 + ($A$5 * F19))^$A$14) - $A$17) -> 2413.8138 | I19: =H19 * (1 - Config!$B$9) -> 2051.7417 | J19: =H19 * (1 + Config!$B$10) -> 3017.2672 | K19: =IF(I19<0,"-","") & INT(ABS(I19)/10000) & "g " & INT(MOD(ABS(I19),10000)/100) & "s " & ROUND(MOD(ABS(I19),100),0) & "c" -> 0g 20s 52c | L19: =IF(H19<0,"-","") & INT(ABS(H19)/10000) & "g " & INT(MOD(ABS(H19),10000)/100) & "s " & ROUND(MOD(ABS(H19),100),0) & "c" -> 0g 24s 14c | M19: =IF(J19<0,"-","") & INT(ABS(J19)/10000) & "g " & INT(MOD(ABS(J19),10000)/100) & "s " & ROUND(MOD(ABS(J19),100),0) & "c" -> 0g 30s 17c | N19: =D19 -> Runecloth
B20: =IF(C20=0, Config!$B$15*Config!$B$20*Config!$B$50, IF(C20=1, Config!$B$15*Config!$B$21*Config!$B$51, IF(C20=2, Config!$B$15*Config!$B$22*Config!$B$52, IF(C20=3, Config!$B$15*Config!$B$23*Config!$B$53, IF(C20=4, Config!$B$15*Config!$B$24*Config!$B$54, IF(C20=5, Config!$B$15*Config!$B$25*Config!$B$55, IF(C20=6, Config!$B$15*Config!$B$26*Config!$B$56, IF(C20=7, Config!$B$15*Config!$B$27*Config!$B$57, "")))))))) -> 0.8 | C20: 1 | D20: Ironweb Spider Silk | E20: 2500 | F20: 50 | G20: =IF(E20 < Config!$B$4, Config!$B$4, E20) -> 2500 | H20: =G20 * B20 * ( (LN(1 + ($A$5 * F20))^$A$8)/(1 + $A$2 * LN(1 + ($A$5 * F20))) + ($A$11 * LN(1 + ($A$5 * F20))^$A$14) - $A$17) -> 7099.4522 | I20: =H20 * (1 - Config!$B$9) -> 6034.5344 | J20: =H20 * (1 + Config!$B$10) -> 8874.3153 | K20: =IF(I20<0,"-","") & INT(ABS(I20)/10000) & "g " & INT(MOD(ABS(I20),10000)/100) & "s " & ROUND(MOD(ABS(I20),100),0) & "c" -> 0g 60s 35c | L20: =IF(H20<0,"-","") & INT(ABS(H20)/10000) & "g " & INT(MOD(ABS(H20),10000)/100) & "s " & ROUND(MOD(ABS(H20),100),0) & "c" -> 0g 70s 99c | M20: =IF(J20<0,"-","") & INT(ABS(J20)/10000) & "g " & INT(MOD(ABS(J20),10000)/100) & "s " & ROUND(MOD(ABS(J20),100),0) & "c" -> 0g 88s 74c | N20: =D20 -> Ironweb Spider Silk
B21: =IF(C21=0, Config!$B$15*Config!$B$20*Config!$B$50, IF(C21=1, Config!$B$15*Config!$B$21*Config!$B$51, IF(C21=2, Config!$B$15*Config!$B$22*Config!$B$52, IF(C21=3, Config!$B$15*Config!$B$23*Config!$B$53, IF(C21=4, Config!$B$15*Config!$B$24*Config!$B$54, IF(C21=5, Config!$B$15*Config!$B$25*Config!$B$55, IF(C21=6, Config!$B$15*Config!$B$26*Config!$B$56, IF(C21=7, Config!$B$15*Config!$B$27*Config!$B$57, "")))))))) -> 0.8 | C21: 1 | D21: Bolt of Runecloth | E21: 2000 | F21: 55 | G21: =IF(E21 < Config!$B$4, Config!$B$4, E21) -> 2000 | H21: =G21 * B21 * ( (LN(1 + ($A$5 * F21))^$A$8)/(1 + $A$2 * LN(1 + ($A$5 * F21))) + ($A$11 * LN(1 + ($A$5 * F21))^$A$14) - $A$17) -> 5872.4601 | I21: =H21 * (1 - Config!$B$9) -> 4991.5911 | J21: =H21 * (1 + Config!$B$10) -> 7340.5751 | K21: =IF(I21<0,"-","") & INT(ABS(I21)/10000) & "g " & INT(MOD(ABS(I21),10000)/100) & "s " & ROUND(MOD(ABS(I21),100),0) & "c" -> 0g 49s 92c | L21: =IF(H21<0,"-","") & INT(ABS(H21)/10000) & "g " & INT(MOD(ABS(H21),10000)/100) & "s " & ROUND(MOD(ABS(H21),100),0) & "c" -> 0g 58s 72c | M21: =IF(J21<0,"-","") & INT(ABS(J21)/10000) & "g " & INT(MOD(ABS(J21),10000)/100) & "s " & ROUND(MOD(ABS(J21),100),0) & "c" -> 0g 73s 41c | N21: =D21 -> Bolt of Runecloth
B22: =IF(C22=0, Config!$B$15*Config!$B$20*Config!$B$50, IF(C22=1, Config!$B$15*Config!$B$21*Config!$B$51, IF(C22=2, Config!$B$15*Config!$B$22*Config!$B$52, IF(C22=3, Config!$B$15*Config!$B$23*Config!$B$53, IF(C22=4, Config!$B$15*Config!$B$24*Config!$B$54, IF(C22=5, Config!$B$15*Config!$B$25*Config!$B$55, IF(C22=6, Config!$B$15*Config!$B$26*Config!$B$56, IF(C22=7, Config!$B$15*Config!$B$27*Config!$B$57, "")))))))) -> 0.8 | C22: 1 | D22: Mooncloth | E22: 4000 | F22: 55 | G22: =IF(E22 < Config!$B$4, Config!$B$4, E22) -> 4000 | H22: =G22 * B22 * ( (LN(1 + ($A$5 * F22))^$A$8)/(1 + $A$2 * LN(1 + ($A$5 * F22))) + ($A$11 * LN(1 + ($A$5 * F22))^$A$14) - $A$17) -> 11744.92 | I22: =H22 * (1 - Config!$B$9) -> 9983.1821 | J22: =H22 * (1 + Config!$B$10) -> 14681.15 | K22: =IF(I22<0,"-","") & INT(ABS(I22)/10000) & "g " & INT(MOD(ABS(I22),10000)/100) & "s " & ROUND(MOD(ABS(I22),100),0) & "c" -> 0g 99s 83c | L22: =IF(H22<0,"-","") & INT(ABS(H22)/10000) & "g " & INT(MOD(ABS(H22),10000)/100) & "s " & ROUND(MOD(ABS(H22),100),0) & "c" -> 1g 17s 45c | M22: =IF(J22<0,"-","") & INT(ABS(J22)/10000) & "g " & INT(MOD(ABS(J22),10000)/100) & "s " & ROUND(MOD(ABS(J22),100),0) & "c" -> 1g 46s 81c | N22: =D22 -> Mooncloth
B23: =IF(C23=0, Config!$B$15*Config!$B$20*Config!$B$50, IF(C23=1, Config!$B$15*Config!$B$21*Config!$B$51, IF(C23=2, Config!$B$15*Config!$B$22*Config!$B$52, IF(C23=3, Config!$B$15*Config!$B$23*Config!$B$53, IF(C23=4, Config!$B$15*Config!$B$24*Config!$B$54, IF(C23=5, Config!$B$15*Config!$B$25*Config!$B$55, IF(C23=6, Config!$B$15*Config!$B$26*Config!$B$56, IF(C23=7, Config!$B$15*Config!$B$27*Config!$B$57, "")))))))) -> 0.8 | C23: 1 | D23: Bolt of Netherweave | E23: 4000 | F23: 60 | G23: =IF(E23 < Config!$B$4, Config!$B$4, E23) -> 4000 | H23: =G23 * B23 * ( (LN(1 + ($A$5 * F23))^$A$8)/(1 + $A$2 * LN(1 + ($A$5 * F23))) + ($A$11 * LN(1 + ($A$5 * F23))^$A$14) - $A$17) -> 12100.083 | I23: =H23 * (1 - Config!$B$9) -> 10285.071 | J23: =H23 * (1 + Config!$B$10) -> 15125.104 | K23: =IF(I23<0,"-","") & INT(ABS(I23)/10000) & "g " & INT(MOD(ABS(I23),10000)/100) & "s " & ROUND(MOD(ABS(I23),100),0) & "c" -> 1g 2s 85c | L23: =IF(H23<0,"-","") & INT(ABS(H23)/10000) & "g " & INT(MOD(ABS(H23),10000)/100) & "s " & ROUND(MOD(ABS(H23),100),0) & "c" -> 1g 21s 0c | M23: =IF(J23<0,"-","") & INT(ABS(J23)/10000) & "g " & INT(MOD(ABS(J23),10000)/100) & "s " & ROUND(MOD(ABS(J23),100),0) & "c" -> 1g 51s 25c | N23: =D23 -> Bolt of Netherweave
B24: =IF(C24=0, Config!$B$15*Config!$B$20*Config!$B$50, IF(C24=1, Config!$B$15*Config!$B$21*Config!$B$51, IF(C24=2, Config!$B$15*Config!$B$22*Config!$B$52, IF(C24=3, Config!$B$15*Config!$B$23*Config!$B$53, IF(C24=4, Config!$B$15*Config!$B$24*Config!$B$54, IF(C24=5, Config!$B$15*Config!$B$25*Config!$B$55, IF(C24=6, Config!$B$15*Config!$B$26*Config!$B$56, IF(C24=7, Config!$B$15*Config!$B$27*Config!$B$57, "")))))))) -> 0.8 | C24: 1 | D24: Netherweave Cloth | E24: 800 | F24: 60 | G24: =IF(E24 < Config!$B$4, Config!$B$4, E24) -> 850 | H24: =G24 * B24 * ( (LN(1 + ($A$5 * F24))^$A$8)/(1 + $A$2 * LN(1 + ($A$5 * F24))) + ($A$11 * LN(1 + ($A$5 * F24))^$A$14) - $A$17) -> 2571.2677 | I24: =H24 * (1 - Config!$B$9) -> 2185.5775 | J24: =H24 * (1 + Config!$B$10) -> 3214.0846 | K24: =IF(I24<0,"-","") & INT(ABS(I24)/10000) & "g " & INT(MOD(ABS(I24),10000)/100) & "s " & ROUND(MOD(ABS(I24),100),0) & "c" -> 0g 21s 86c | L24: =IF(H24<0,"-","") & INT(ABS(H24)/10000) & "g " & INT(MOD(ABS(H24),10000)/100) & "s " & ROUND(MOD(ABS(H24),100),0) & "c" -> 0g 25s 71c | M24: =IF(J24<0,"-","") & INT(ABS(J24)/10000) & "g " & INT(MOD(ABS(J24),10000)/100) & "s " & ROUND(MOD(ABS(J24),100),0) & "c" -> 0g 32s 14c | N24: =D24 -> Netherweave Cloth
B25: =IF(C25=0, Config!$B$15*Config!$B$20*Config!$B$50, IF(C25=1, Config!$B$15*Config!$B$21*Config!$B$51, IF(C25=2, Config!$B$15*Config!$B$22*Config!$B$52, IF(C25=3, Config!$B$15*Config!$B$23*Config!$B$53, IF(C25=4, Config!$B$15*Config!$B$24*Config!$B$54, IF(C25=5, Config!$B$15*Config!$B$25*Config!$B$55, IF(C25=6, Config!$B$15*Config!$B$26*Config!$B$56, IF(C25=7, Config!$B$15*Config!$B$27*Config!$B$57, "")))))))) -> 0.8 | C25: 1 | D25: Netherweb Spider Silk | E25: 5000 | F25: 60 | G25: =IF(E25 < Config!$B$4, Config!$B$4, E25) -> 5000 | H25: =G25 * B25 * ( (LN(1 + ($A$5 * F25))^$A$8)/(1 + $A$2 * LN(1 + ($A$5 * F25))) + ($A$11 * LN(1 + ($A$5 * F25))^$A$14) - $A$17) -> 15125.104 | I25: =H25 * (1 - Config!$B$9) -> 12856.339 | J25: =H25 * (1 + Config!$B$10) -> 18906.38 | K25: =IF(I25<0,"-","") & INT(ABS(I25)/10000) & "g " & INT(MOD(ABS(I25),10000)/100) & "s " & ROUND(MOD(ABS(I25),100),0) & "c" -> 1g 28s 56c | L25: =IF(H25<0,"-","") & INT(ABS(H25)/10000) & "g " & INT(MOD(ABS(H25),10000)/100) & "s " & ROUND(MOD(ABS(H25),100),0) & "c" -> 1g 51s 25c | M25: =IF(J25<0,"-","") & INT(ABS(J25)/10000) & "g " & INT(MOD(ABS(J25),10000)/100) & "s " & ROUND(MOD(ABS(J25),100),0) & "c" -> 1g 89s 6c | N25: =D25 -> Netherweb Spider Silk
B26: =IF(C26=0, Config!$B$15*Config!$B$20*Config!$B$50, IF(C26=1, Config!$B$15*Config!$B$21*Config!$B$51, IF(C26=2, Config!$B$15*Config!$B$22*Config!$B$52, IF(C26=3, Config!$B$15*Config!$B$23*Config!$B$53, IF(C26=4, Config!$B$15*Config!$B$24*Config!$B$54, IF(C26=5, Config!$B$15*Config!$B$25*Config!$B$55, IF(C26=6, Config!$B$15*Config!$B$26*Config!$B$56, IF(C26=7, Config!$B$15*Config!$B$27*Config!$B$57, "")))))))) -> 2.16 | C26: 2 | D26: Bolt of Imbued Netherweave | E26: 8000 | F26: 66 | G26: =IF(E26 < Config!$B$4, Config!$B$4, E26) -> 8000 | H26: =G26 * B26 * ( (LN(1 + ($A$5 * F26))^$A$8)/(1 + $A$2 * LN(1 + ($A$5 * F26))) + ($A$11 * LN(1 + ($A$5 * F26))^$A$14) - $A$17) -> 67458.681 | I26: =H26 * (1 - Config!$B$9) -> 57339.879 | J26: =H26 * (1 + Config!$B$10) -> 84323.351 | K26: =IF(I26<0,"-","") & INT(ABS(I26)/10000) & "g " & INT(MOD(ABS(I26),10000)/100) & "s " & ROUND(MOD(ABS(I26),100),0) & "c" -> 5g 73s 40c | L26: =IF(H26<0,"-","") & INT(ABS(H26)/10000) & "g " & INT(MOD(ABS(H26),10000)/100) & "s " & ROUND(MOD(ABS(H26),100),0) & "c" -> 6g 74s 59c | M26: =IF(J26<0,"-","") & INT(ABS(J26)/10000) & "g " & INT(MOD(ABS(J26),10000)/100) & "s " & ROUND(MOD(ABS(J26),100),0) & "c" -> 8g 43s 23c | N26: =D26 -> Bolt of Imbued Netherweave
B27: =IF(C27=0, Config!$B$15*Config!$B$20*Config!$B$50, IF(C27=1, Config!$B$15*Config!$B$21*Config!$B$51, IF(C27=2, Config!$B$15*Config!$B$22*Config!$B$52, IF(C27=3, Config!$B$15*Config!$B$23*Config!$B$53, IF(C27=4, Config!$B$15*Config!$B$24*Config!$B$54, IF(C27=5, Config!$B$15*Config!$B$25*Config!$B$55, IF(C27=6, Config!$B$15*Config!$B$26*Config!$B$56, IF(C27=7, Config!$B$15*Config!$B$27*Config!$B$57, "")))))))) -> 2.28 | C27: 3 | D27: Spellfire Cloth | E27: 4000 | F27: 70 | G27: =IF(E27 < Config!$B$4, Config!$B$4, E27) -> 4000 | H27: =G27 * B27 * ( (LN(1 + ($A$5 * F27))^$A$8)/(1 + $A$2 * LN(1 + ($A$5 * F27))) + ($A$11 * LN(1 + ($A$5 * F27))^$A$14) - $A$17) -> 36298.164 | I27: =H27 * (1 - Config!$B$9) -> 30853.439 | J27: =H27 * (1 + Config!$B$10) -> 45372.704 | K27: =IF(I27<0,"-","") & INT(ABS(I27)/10000) & "g " & INT(MOD(ABS(I27),10000)/100) & "s " & ROUND(MOD(ABS(I27),100),0) & "c" -> 3g 8s 53c | L27: =IF(H27<0,"-","") & INT(ABS(H27)/10000) & "g " & INT(MOD(ABS(H27),10000)/100) & "s " & ROUND(MOD(ABS(H27),100),0) & "c" -> 3g 62s 98c | M27: =IF(J27<0,"-","") & INT(ABS(J27)/10000) & "g " & INT(MOD(ABS(J27),10000)/100) & "s " & ROUND(MOD(ABS(J27),100),0) & "c" -> 4g 53s 73c | N27: =D27 -> Spellfire Cloth
B28: =IF(C28=0, Config!$B$15*Config!$B$20*Config!$B$50, IF(C28=1, Config!$B$15*Config!$B$21*Config!$B$51, IF(C28=2, Config!$B$15*Config!$B$22*Config!$B$52, IF(C28=3, Config!$B$15*Config!$B$23*Config!$B$53, IF(C28=4, Config!$B$15*Config!$B$24*Config!$B$54, IF(C28=5, Config!$B$15*Config!$B$25*Config!$B$55, IF(C28=6, Config!$B$15*Config!$B$26*Config!$B$56, IF(C28=7, Config!$B$15*Config!$B$27*Config!$B$57, "")))))))) -> 0.8 | C28: 1 | D28: Bolt of Frostweave | E28: 10000 | F28: 70 | G28: =IF(E28 < Config!$B$4, Config!$B$4, E28) -> 10000 | H28: =G28 * B28 * ( (LN(1 + ($A$5 * F28))^$A$8)/(1 + $A$2 * LN(1 + ($A$5 * F28))) + ($A$11 * LN(1 + ($A$5 * F28))^$A$14) - $A$17) -> 31840.494 | I28: =H28 * (1 - Config!$B$9) -> 27064.42 | J28: =H28 * (1 + Config!$B$10) -> 39800.618 | K28: =IF(I28<0,"-","") & INT(ABS(I28)/10000) & "g " & INT(MOD(ABS(I28),10000)/100) & "s " & ROUND(MOD(ABS(I28),100),0) & "c" -> 2g 70s 64c | L28: =IF(H28<0,"-","") & INT(ABS(H28)/10000) & "g " & INT(MOD(ABS(H28),10000)/100) & "s " & ROUND(MOD(ABS(H28),100),0) & "c" -> 3g 18s 40c | M28: =IF(J28<0,"-","") & INT(ABS(J28)/10000) & "g " & INT(MOD(ABS(J28),10000)/100) & "s " & ROUND(MOD(ABS(J28),100),0) & "c" -> 3g 98s 1c | N28: =D28 -> Bolt of Frostweave
B29: =IF(C29=0, Config!$B$15*Config!$B$20*Config!$B$50, IF(C29=1, Config!$B$15*Config!$B$21*Config!$B$51, IF(C29=2, Config!$B$15*Config!$B$22*Config!$B$52, IF(C29=3, Config!$B$15*Config!$B$23*Config!$B$53, IF(C29=4, Config!$B$15*Config!$B$24*Config!$B$54, IF(C29=5, Config!$B$15*Config!$B$25*Config!$B$55, IF(C29=6, Config!$B$15*Config!$B$26*Config!$B$56, IF(C29=7, Config!$B$15*Config!$B$27*Config!$B$57, "")))))))) -> 0.8 | C29: 1 | D29: Eternium Thread | E29: 7500 | F29: 70 | G29: =IF(E29 < Config!$B$4, Config!$B$4, E29) -> 7500 | H29: =G29 * B29 * ( (LN(1 + ($A$5 * F29))^$A$8)/(1 + $A$2 * LN(1 + ($A$5 * F29))) + ($A$11 * LN(1 + ($A$5 * F29))^$A$14) - $A$17) -> 23880.371 | I29: =H29 * (1 - Config!$B$9) -> 20298.315 | J29: =H29 * (1 + Config!$B$10) -> 29850.463 | K29: =IF(I29<0,"-","") & INT(ABS(I29)/10000) & "g " & INT(MOD(ABS(I29),10000)/100) & "s " & ROUND(MOD(ABS(I29),100),0) & "c" -> 2g 2s 98c | L29: =IF(H29<0,"-","") & INT(ABS(H29)/10000) & "g " & INT(MOD(ABS(H29),10000)/100) & "s " & ROUND(MOD(ABS(H29),100),0) & "c" -> 2g 38s 80c | M29: =IF(J29<0,"-","") & INT(ABS(J29)/10000) & "g " & INT(MOD(ABS(J29),10000)/100) & "s " & ROUND(MOD(ABS(J29),100),0) & "c" -> 2g 98s 50c | N29: =D29 -> Eternium Thread
... B61: =IF(C61=0, Config!$B$15*Config!$B$20*Config!$B$50, IF(C61=1, Config!$B$15*Config!$B$21*Config!$B$51, IF(C61=2, Config!$B$15*Config!$B$22*Config!$B$52, IF(C61=3, Config!$B$15*Config!$B$23*Config!$B$53, IF(C61=4, Config!$B$15*Config!$B$24*Config!$B$54, IF(C61=5, Config!$B$15*Config!$B$25*Config!$B$55, IF(C61=6, Config!$B$15*Config!$B$26*Config!$B$56, IF(C61=7, Config!$B$15*Config!$B$27*Config!$B$57, "")))))))) -> 2.28 | C61: 3 | D61: Spellweave | E61: 10000 | F61: 80 | G61: =IF(E61 < Config!$B$4, Config!$B$4, E61) -> 10000 | H61: =G61 * B61 * ( (LN(1 + ($A$5 * F61))^$A$8)/(1 + $A$2 * LN(1 + ($A$5 * F61))) + ($A$11 * LN(1 + ($A$5 * F61))^$A$14) - $A$17) -> 94722.212 | I61: =H61 * (1 - Config!$B$9) -> 80513.88 | J61: =H61 * (1 + Config!$B$10) -> 118402.76 | K61: =IF(I61<0,"-","") & INT(ABS(I61)/10000) & "g " & INT(MOD(ABS(I61),10000)/100) & "s " & ROUND(MOD(ABS(I61),100),0) & "c" -> 8g 5s 14c | L61: =IF(H61<0,"-","") & INT(ABS(H61)/10000) & "g " & INT(MOD(ABS(H61),10000)/100) & "s " & ROUND(MOD(ABS(H61),100),0) & "c" -> 9g 47s 22c | M61: =IF(J61<0,"-","") & INT(ABS(J61)/10000) & "g " & INT(MOD(ABS(J61),10000)/100) & "s " & ROUND(MOD(ABS(J61),100),0) & "c" -> 11g 84s 3c | N61: =D61 -> Spellweave

Sheet Leather
A1: a | B1: Quality Multiplier | C1: Quality | D1: NAME | E1: vendor price | F1: itemLevel | G1: Min Price | H1: Avg Price | I1: Low | J1: High | K1: Low End | L1: Average | M1: High End | N1: NAME
A2: 2 | B2: =IF(C2=0, Config!$B$15*Config!$B$20*Config!$B$50, IF(C2=1, Config!$B$15*Config!$B$21*Config!$B$51, IF(C2=2, Config!$B$15*Config!$B$22*Config!$B$52, IF(C2=3, Config!$B$15*Config!$B$23*Config!$B$53, IF(C2=4, Config!$B$15*Config!$B$24*Config!$B$54, IF(C2=5, Config!$B$15*Config!$B$25*Config!$B$55, IF(C2=6, Config!$B$15*Config!$B$26*Config!$B$56, IF(C2=7, Config!$B$15*Config!$B$27*Config!$B$57, "")))))))) -> 0.8 | C2: 1 | D2: Green Whelp Scale | E2: 200 | F2: 1 | G2: =IF(E2 < Config!$B$4, Config!$B$4, E2) -> 850 | H2: =G2 * B2 * ( (LN(1 + ($A$5 * F2))^$A$8)/(1 + $A$2 * LN(1 + ($A$5 * F2))) + ($A$11 * LN(1 + ($A$5 * F2))^$A$14) - $A$17) -> 242.4635 | I2: =H2 * (1 - Config!$B$9) -> 206.09397 | J2: =H2 * (1 + Config!$B$10) -> 303.07937 | K2: =IF(I2<0,"-","") & INT(ABS(I2)/10000) & "g " & INT(MOD(ABS(I2),10000)/100) & "s " & ROUND(MOD(ABS(I2),100),0) & "c" -> 0g 2s 6c | L2: =IF(H2<0,"-","") & INT(ABS(H2)/10000) & "g " & INT(MOD(ABS(H2),10000)/100) & "s " & ROUND(MOD(ABS(H2),100),0) & "c" -> 0g 2s 42c | M2: =IF(J2<0,"-","") & INT(ABS(J2)/10000) & "g " & INT(MOD(ABS(J2),10000)/100) & "s " & ROUND(MOD(ABS(J2),100),0) & "c" -> 0g 3s 3c | N2: =D2 -> Green Whelp Scale
B3: =IF(C3=0, Config!$B$15*Config!$B$20*Config!$B$50, IF(C3=1, Config!$B$15*Config!$B$21*Config!$B$51, IF(C3=2, Config!$B$15*Config!$B$22*Config!$B$52, IF(C3=3, Config!$B$15*Config!$B$23*Config!$B$53, IF(C3=4, Config!$B$15*Config!$B$24*Config!$B$54, IF(C3=5, Config!$B$15*Config!$B$25*Config!$B$55, IF(C3=6, Config!$B$15*Config!$B$26*Config!$B$56, IF(C3=7, Config!$B$15*Config!$B$27*Config!$B$57, "")))))))) -> 0.8 | C3: 1 | D3: Black Whelp Scale | E3: 25 | F3: 1 | G3: =IF(E3 < Config!$B$4, Config!$B$4, E3) -> 850 | H3: =G3 * B3 * ( (LN(1 + ($A$5 * F3))^$A$8)/(1 + $A$2 * LN(1 + ($A$5 * F3))) + ($A$11 * LN(1 + ($A$5 * F3))^$A$14) - $A$17) -> 242.4635 | I3: =H3 * (1 - Config!$B$9) -> 206.09397 | J3: =H3 * (1 + Config!$B$10) -> 303.07937 | K3: =IF(I3<0,"-","") & INT(ABS(I3)/10000) & "g " & INT(MOD(ABS(I3),10000)/100) & "s " & ROUND(MOD(ABS(I3),100),0) & "c" -> 0g 2s 6c | L3: =IF(H3<0,"-","") & INT(ABS(H3)/10000) & "g " & INT(MOD(ABS(H3),10000)/100) & "s " & ROUND(MOD(ABS(H3),100),0) & "c" -> 0g 2s 42c | M3: =IF(J3<0,"-","") & INT(ABS(J3)/10000) & "g " & INT(MOD(ABS(J3),10000)/100) & "s " & ROUND(MOD(ABS(J3),100),0) & "c" -> 0g 3s 3c | N3: =D3 -> Black Whelp Scale
A4: b | B4: =IF(C4=0, Config!$B$15*Config!$B$20*Config!$B$50, IF(C4=1, Config!$B$15*Config!$B$21*Config!$B$51, IF(C4=2, Config!$B$15*Config!$B$22*Config!$B$52, IF(C4=3, Config!$B$15*Config!$B$23*Config!$B$53, IF(C4=4, Config!$B$15*Config!$B$24*Config!$B$54, IF(C4=5, Config!$B$15*Config!$B$25*Config!$B$55, IF(C4=6, Config!$B$15*Config!$B$26*Config!$B$56, IF(C4=7, Config!$B$15*Config!$B$27*Config!$B$57, "")))))))) -> 0.8 | C4: 1 | D4: Perfect Deviate Scale | E4: 500 | F4: 1 | G4: =IF(E4 < Config!$B$4, Config!$B$4, E4) -> 850 | H4: =G4 * B4 * ( (LN(1 + ($A$5 * F4))^$A$8)/(1 + $A$2 * LN(1 + ($A$5 * F4))) + ($A$11 * LN(1 + ($A$5 * F4))^$A$14) - $A$17) -> 242.4635 | I4: =H4 * (1 - Config!$B$9) -> 206.09397 | J4: =H4 * (1 + Config!$B$10) -> 303.07937 | K4: =IF(I4<0,"-","") & INT(ABS(I4)/10000) & "g " & INT(MOD(ABS(I4),10000)/100) & "s " & ROUND(MOD(ABS(I4),100),0) & "c" -> 0g 2s 6c | L4: =IF(H4<0,"-","") & INT(ABS(H4)/10000) & "g " & INT(MOD(ABS(H4),10000)/100) & "s " & ROUND(MOD(ABS(H4),100),0) & "c" -> 0g 2s 42c | M4: =IF(J4<0,"-","") & INT(ABS(J4)/10000) & "g " & INT(MOD(ABS(J4),10000)/100) & "s " & ROUND(MOD(ABS(J4),100),0) & "c" -> 0g 3s 3c | N4: =D4 -> Perfect Deviate Scale
A5: 0.25 | B5: =IF(C5=0, Config!$B$15*Config!$B$20*Config!$B$50, IF(C5=1, Config!$B$15*Config!$B$21*Config!$B$51, IF(C5=2, Config!$B$15*Config!$B$22*Config!$B$52, IF(C5=3, Config!$B$15*Config!$B$23*Config!$B$53, IF(C5=4, Config!$B$15*Config!$B$24*Config!$B$54, IF(C5=5, Config!$B$15*Config!$B$25*Config!$B$55, IF(C5=6, Config!$B$15*Config!$B$26*Config!$B$56, IF(C5=7, Config!$B$15*Config!$B$27*Config!$B$57, "")))))))) -> 0.8 | C5: 1 | D5: Deviate Scale | E5: 20 | F5: 1 | G5: =IF(E5 < Config!$B$4, Config!$B$4, E5) -> 850 | H5: =G5 * B5 * ( (LN(1 + ($A$5 * F5))^$A$8)/(1 + $A$2 * LN(1 + ($A$5 * F5))) + ($A$11 * LN(1 + ($A$5 * F5))^$A$14) - $A$17) -> 242.4635 | I5: =H5 * (1 - Config!$B$9) -> 206.09397 | J5: =H5 * (1 + Config!$B$10) -> 303.07937 | K5: =IF(I5<0,"-","") & INT(ABS(I5)/10000) & "g " & INT(MOD(ABS(I5),10000)/100) & "s " & ROUND(MOD(ABS(I5),100),0) & "c" -> 0g 2s 6c | L5: =IF(H5<0,"-","") & INT(ABS(H5)/10000) & "g " & INT(MOD(ABS(H5),10000)/100) & "s " & ROUND(MOD(ABS(H5),100),0) & "c" -> 0g 2s 42c | M5: =IF(J5<0,"-","") & INT(ABS(J5)/10000) & "g " & INT(MOD(ABS(J5),10000)/100) & "s " & ROUND(MOD(ABS(J5),100),0) & "c" -> 0g 3s 3c | N5: =D5 -> Deviate Scale
B6: =IF(C6=0, Config!$B$15*Config!$B$20*Config!$B$50, IF(C6=1, Config!$B$15*Config!$B$21*Config!$B$51, IF(C6=2, Config!$B$15*Config!$B$22*Config!$B$52, IF(C6=3, Config!$B$15*Config!$B$23*Config!$B$53, IF(C6=4, Config!$B$15*Config!$B$24*Config!$B$54, IF(C6=5, Config!$B$15*Config!$B$25*Config!$B$55, IF(C6=6, Config!$B$15*Config!$B$26*Config!$B$56, IF(C6=7, Config!$B$15*Config!$B$27*Config!$B$57, "")))))))) -> 1 | C6: 0 | D6: Long Tail Feather | E6: 303 | F6: 1 | G6: =IF(E6 < Config!$B$4, Config!$B$4, E6) -> 850 | H6: =G6 * B6 * ( (LN(1 + ($A$5 * F6))^$A$8)/(1 + $A$2 * LN(1 + ($A$5 * F6))) + ($A$11 * LN(1 + ($A$5 * F6))^$A$14) - $A$17) -> 303.07937 | I6: =H6 * (1 - Config!$B$9) -> 257.61746 | J6: =H6 * (1 + Config!$B$10) -> 378.84921 | K6: =IF(I6<0,"-","") & INT(ABS(I6)/10000) & "g " & INT(MOD(ABS(I6),10000)/100) & "s " & ROUND(MOD(ABS(I6),100),0) & "c" -> 0g 2s 58c | L6: =IF(H6<0,"-","") & INT(ABS(H6)/10000) & "g " & INT(MOD(ABS(H6),10000)/100) & "s " & ROUND(MOD(ABS(H6),100),0) & "c" -> 0g 3s 3c | M6: =IF(J6<0,"-","") & INT(ABS(J6)/10000) & "g " & INT(MOD(ABS(J6),10000)/100) & "s " & ROUND(MOD(ABS(J6),100),0) & "c" -> 0g 3s 79c | N6: =D6 -> Long Tail Feather
A7: p | B7: =IF(C7=0, Config!$B$15*Config!$B$20*Config!$B$50, IF(C7=1, Config!$B$15*Config!$B$21*Config!$B$51, IF(C7=2, Config!$B$15*Config!$B$22*Config!$B$52, IF(C7=3, Config!$B$15*Config!$B$23*Config!$B$53, IF(C7=4, Config!$B$15*Config!$B$24*Config!$B$54, IF(C7=5, Config!$B$15*Config!$B$25*Config!$B$55, IF(C7=6, Config!$B$15*Config!$B$26*Config!$B$56, IF(C7=7, Config!$B$15*Config!$B$27*Config!$B$57, "")))))))) -> 0.8 | C7: 1 | D7: Ruined Leather Scraps | E7: 7 | F7: 5 | G7: =IF(E7 < Config!$B$4, Config!$B$4, E7) -> 850 | H7: =G7 * B7 * ( (LN(1 + ($A$5 * F7))^$A$8)/(1 + $A$2 * LN(1 + ($A$5 * F7))) + ($A$11 * LN(1 + ($A$5 * F7))^$A$14) - $A$17) -> 260.38201 | I7: =H7 * (1 - Config!$B$9) -> 221.32471 | J7: =H7 * (1 + Config!$B$10) -> 325.47751 | K7: =IF(I7<0,"-","") & INT(ABS(I7)/10000) & "g " & INT(MOD(ABS(I7),10000)/100) & "s " & ROUND(MOD(ABS(I7),100),0) & "c" -> 0g 2s 21c | L7: =IF(H7<0,"-","") & INT(ABS(H7)/10000) & "g " & INT(MOD(ABS(H7),10000)/100) & "s " & ROUND(MOD(ABS(H7),100),0) & "c" -> 0g 2s 60c | M7: =IF(J7<0,"-","") & INT(ABS(J7)/10000) & "g " & INT(MOD(ABS(J7),10000)/100) & "s " & ROUND(MOD(ABS(J7),100),0) & "c" -> 0g 3s 25c | N7: =D7 -> Ruined Leather Scraps
A8: 0.15 | B8: =IF(C8=0, Config!$B$15*Config!$B$20*Config!$B$50, IF(C8=1, Config!$B$15*Config!$B$21*Config!$B$51, IF(C8=2, Config!$B$15*Config!$B$22*Config!$B$52, IF(C8=3, Config!$B$15*Config!$B$23*Config!$B$53, IF(C8=4, Config!$B$15*Config!$B$24*Config!$B$54, IF(C8=5, Config!$B$15*Config!$B$25*Config!$B$55, IF(C8=6, Config!$B$15*Config!$B$26*Config!$B$56, IF(C8=7, Config!$B$15*Config!$B$27*Config!$B$57, "")))))))) -> 0.8 | C8: 1 | D8: Light Leather | E8: 15 | F8: 10 | G8: =IF(E8 < Config!$B$4, Config!$B$4, E8) -> 850 | H8: =G8 * B8 * ( (LN(1 + ($A$5 * F8))^$A$8)/(1 + $A$2 * LN(1 + ($A$5 * F8))) + ($A$11 * LN(1 + ($A$5 * F8))^$A$14) - $A$17) -> 599.42914 | I8: =H8 * (1 - Config!$B$9) -> 509.51477 | J8: =H8 * (1 + Config!$B$10) -> 749.28643 | K8: =IF(I8<0,"-","") & INT(ABS(I8)/10000) & "g " & INT(MOD(ABS(I8),10000)/100) & "s " & ROUND(MOD(ABS(I8),100),0) & "c" -> 0g 5s 10c | L8: =IF(H8<0,"-","") & INT(ABS(H8)/10000) & "g " & INT(MOD(ABS(H8),10000)/100) & "s " & ROUND(MOD(ABS(H8),100),0) & "c" -> 0g 5s 99c | M8: =IF(J8<0,"-","") & INT(ABS(J8)/10000) & "g " & INT(MOD(ABS(J8),10000)/100) & "s " & ROUND(MOD(ABS(J8),100),0) & "c" -> 0g 7s 49c | N8: =D8 -> Light Leather
B9: =IF(C9=0, Config!$B$15*Config!$B$20*Config!$B$50, IF(C9=1, Config!$B$15*Config!$B$21*Config!$B$51, IF(C9=2, Config!$B$15*Config!$B$22*Config!$B$52, IF(C9=3, Config!$B$15*Config!$B$23*Config!$B$53, IF(C9=4, Config!$B$15*Config!$B$24*Config!$B$54, IF(C9=5, Config!$B$15*Config!$B$25*Config!$B$55, IF(C9=6, Config!$B$15*Config!$B$26*Config!$B$56, IF(C9=7, Config!$B$15*Config!$B$27*Config!$B$57, "")))))))) -> 0.8 | C9: 1 | D9: Light Hide | E9: 50 | F9: 10 | G9: =IF(E9 < Config!$B$4, Config!$B$4, E9) -> 850 | H9: =G9 * B9 * ( (LN(1 + ($A$5 * F9))^$A$8)/(1 + $A$2 * LN(1 + ($A$5 * F9))) + ($A$11 * LN(1 + ($A$5 * F9))^$A$14) - $A$17) -> 599.42914 | I9: =H9 * (1 - Config!$B$9) -> 509.51477 | J9: =H9 * (1 + Config!$B$10) -> 749.28643 | K9: =IF(I9<0,"-","") & INT(ABS(I9)/10000) & "g " & INT(MOD(ABS(I9),10000)/100) & "s " & ROUND(MOD(ABS(I9),100),0) & "c" -> 0g 5s 10c | L9: =IF(H9<0,"-","") & INT(ABS(H9)/10000) & "g " & INT(MOD(ABS(H9),10000)/100) & "s " & ROUND(MOD(ABS(H9),100),0) & "c" -> 0g 5s 99c | M9: =IF(J9<0,"-","") & INT(ABS(J9)/10000) & "g " & INT(MOD(ABS(J9),10000)/100) & "s " & ROUND(MOD(ABS(J9),100),0) & "c" -> 0g 7s 49c | N9: =D9 -> Light Hide
A10: c | B10: =IF(C10=0, Config!$B$15*Config!$B$20*Config!$B$50, IF(C10=1, Config!$B$15*Config!$B$21*Config!$B$51, IF(C10=2, Config!$B$15*Config!$B$22*Config!$B$52, IF(C10=3, Config!$B$15*Config!$B$23*Config!$B$53, IF(C10=4, Config!$B$15*Config!$B$24*Config!$B$54, IF(C10=5, Config!$B$15*Config!$B$25*Config!$B$55, IF(C10=6, Config!$B$15*Config!$B$26*Config!$B$56, IF(C10=7, Config!$B$15*Config!$B$27*Config!$B$57, "")))))))) -> 0.8 | C10: 1 | D10: Thin Kodo Leather | E10: 25 | F10: 10 | G10: =IF(E10 < Config!$B$4, Config!$B$4, E10) -> 850 | H10: =G10 * B10 * ( (LN(1 + ($A$5 * F10))^$A$8)/(1 + $A$2 * LN(1 + ($A$5 * F10))) + ($A$11 * LN(1 + ($A$5 * F10))^$A$14) - $A$17) -> 599.42914 | I10: =H10 * (1 - Config!$B$9) -> 509.51477 | J10: =H10 * (1 + Config!$B$10) -> 749.28643 | K10: =IF(I10<0,"-","") & INT(ABS(I10)/10000) & "g " & INT(MOD(ABS(I10),10000)/100) & "s " & ROUND(MOD(ABS(I10),100),0) & "c" -> 0g 5s 10c | L10: =IF(H10<0,"-","") & INT(ABS(H10)/10000) & "g " & INT(MOD(ABS(H10),10000)/100) & "s " & ROUND(MOD(ABS(H10),100),0) & "c" -> 0g 5s 99c | M10: =IF(J10<0,"-","") & INT(ABS(J10)/10000) & "g " & INT(MOD(ABS(J10),10000)/100) & "s " & ROUND(MOD(ABS(J10),100),0) & "c" -> 0g 7s 49c | N10: =D10 -> Thin Kodo Leather
A11: 0.4 | B11: =IF(C11=0, Config!$B$15*Config!$B$20*Config!$B$50, IF(C11=1, Config!$B$15*Config!$B$21*Config!$B$51, IF(C11=2, Config!$B$15*Config!$B$22*Config!$B$52, IF(C11=3, Config!$B$15*Config!$B$23*Config!$B$53, IF(C11=4, Config!$B$15*Config!$B$24*Config!$B$54, IF(C11=5, Config!$B$15*Config!$B$25*Config!$B$55, IF(C11=6, Config!$B$15*Config!$B$26*Config!$B$56, IF(C11=7, Config!$B$15*Config!$B$27*Config!$B$57, "")))))))) -> 0.8 | C11: 1 | D11: Salt | E11: 12 | F11: 10 | G11: =IF(E11 < Config!$B$4, Config!$B$4, E11) -> 850 | H11: =G11 * B11 * ( (LN(1 + ($A$5 * F11))^$A$8)/(1 + $A$2 * LN(1 + ($A$5 * F11))) + ($A$11 * LN(1 + ($A$5 * F11))^$A$14) - $A$17) -> 599.42914 | I11: =H11 * (1 - Config!$B$9) -> 509.51477 | J11: =H11 * (1 + Config!$B$10) -> 749.28643 | K11: =IF(I11<0,"-","") & INT(ABS(I11)/10000) & "g " & INT(MOD(ABS(I11),10000)/100) & "s " & ROUND(MOD(ABS(I11),100),0) & "c" -> 0g 5s 10c | L11: =IF(H11<0,"-","") & INT(ABS(H11)/10000) & "g " & INT(MOD(ABS(H11),10000)/100) & "s " & ROUND(MOD(ABS(H11),100),0) & "c" -> 0g 5s 99c | M11: =IF(J11<0,"-","") & INT(ABS(J11)/10000) & "g " & INT(MOD(ABS(J11),10000)/100) & "s " & ROUND(MOD(ABS(J11),100),0) & "c" -> 0g 7s 49c | N11: =D11 -> Salt
B12: =IF(C12=0, Config!$B$15*Config!$B$20*Config!$B$50, IF(C12=1, Config!$B$15*Config!$B$21*Config!$B$51, IF(C12=2, Config!$B$15*Config!$B$22*Config!$B$52, IF(C12=3, Config!$B$15*Config!$B$23*Config!$B$53, IF(C12=4, Config!$B$15*Config!$B$24*Config!$B$54, IF(C12=5, Config!$B$15*Config!$B$25*Config!$B$55, IF(C12=6, Config!$B$15*Config!$B$26*Config!$B$56, IF(C12=7, Config!$B$15*Config!$B$27*Config!$B$57, "")))))))) -> 0.8 | C12: 1 | D12: Cured Light Hide | E12: 110 | F12: 10 | G12: =IF(E12 < Config!$B$4, Config!$B$4, E12) -> 850 | H12: =G12 * B12 * ( (LN(1 + ($A$5 * F12))^$A$8)/(1 + $A$2 * LN(1 + ($A$5 * F12))) + ($A$11 * LN(1 + ($A$5 * F12))^$A$14) - $A$17) -> 599.42914 | I12: =H12 * (1 - Config!$B$9) -> 509.51477 | J12: =H12 * (1 + Config!$B$10) -> 749.28643 | K12: =IF(I12<0,"-","") & INT(ABS(I12)/10000) & "g " & INT(MOD(ABS(I12),10000)/100) & "s " & ROUND(MOD(ABS(I12),100),0) & "c" -> 0g 5s 10c | L12: =IF(H12<0,"-","") & INT(ABS(H12)/10000) & "g " & INT(MOD(ABS(H12),10000)/100) & "s " & ROUND(MOD(ABS(H12),100),0) & "c" -> 0g 5s 99c | M12: =IF(J12<0,"-","") & INT(ABS(J12)/10000) & "g " & INT(MOD(ABS(J12),10000)/100) & "s " & ROUND(MOD(ABS(J12),100),0) & "c" -> 0g 7s 49c | N12: =D12 -> Cured Light Hide
A13: r | B13: =IF(C13=0, Config!$B$15*Config!$B$20*Config!$B$50, IF(C13=1, Config!$B$15*Config!$B$21*Config!$B$51, IF(C13=2, Config!$B$15*Config!$B$22*Config!$B$52, IF(C13=3, Config!$B$15*Config!$B$23*Config!$B$53, IF(C13=4, Config!$B$15*Config!$B$24*Config!$B$54, IF(C13=5, Config!$B$15*Config!$B$25*Config!$B$55, IF(C13=6, Config!$B$15*Config!$B$26*Config!$B$56, IF(C13=7, Config!$B$15*Config!$B$27*Config!$B$57, "")))))))) -> 0.8 | C13: 1 | D13: Slimy Murloc Scale | E13: 75 | F13: 15 | G13: =IF(E13 < Config!$B$4, Config!$B$4, E13) -> 850 | H13: =G13 * B13 * ( (LN(1 + ($A$5 * F13))^$A$8)/(1 + $A$2 * LN(1 + ($A$5 * F13))) + ($A$11 * LN(1 + ($A$5 * F13))^$A$14) - $A$17) -> 1069.5058 | I13: =H13 * (1 - Config!$B$9) -> 909.07997 | J13: =H13 * (1 + Config!$B$10) -> 1336.8823 | K13: =IF(I13<0,"-","") & INT(ABS(I13)/10000) & "g " & INT(MOD(ABS(I13),10000)/100) & "s " & ROUND(MOD(ABS(I13),100),0) & "c" -> 0g 9s 9c | L13: =IF(H13<0,"-","") & INT(ABS(H13)/10000) & "g " & INT(MOD(ABS(H13),10000)/100) & "s " & ROUND(MOD(ABS(H13),100),0) & "c" -> 0g 10s 70c | M13: =IF(J13<0,"-","") & INT(ABS(J13)/10000) & "g " & INT(MOD(ABS(J13),10000)/100) & "s " & ROUND(MOD(ABS(J13),100),0) & "c" -> 0g 13s 37c | N13: =D13 -> Slimy Murloc Scale
A14: 3 | B14: =IF(C14=0, Config!$B$15*Config!$B$20*Config!$B$50, IF(C14=1, Config!$B$15*Config!$B$21*Config!$B$51, IF(C14=2, Config!$B$15*Config!$B$22*Config!$B$52, IF(C14=3, Config!$B$15*Config!$B$23*Config!$B$53, IF(C14=4, Config!$B$15*Config!$B$24*Config!$B$54, IF(C14=5, Config!$B$15*Config!$B$25*Config!$B$55, IF(C14=6, Config!$B$15*Config!$B$26*Config!$B$56, IF(C14=7, Config!$B$15*Config!$B$27*Config!$B$57, "")))))))) -> 0.8 | C14: 1 | D14: Cured Medium Hide | E14: 200 | F14: 20 | G14: =IF(E14 < Config!$B$4, Config!$B$4, E14) -> 850 | H14: =G14 * B14 * ( (LN(1 + ($A$5 * F14))^$A$8)/(1 + $A$2 * LN(1 + ($A$5 * F14))) + ($A$11 * LN(1 + ($A$5 * F14))^$A$14) - $A$17) -> 1590.5374 | I14: =H14 * (1 - Config!$B$9) -> 1351.9568 | J14: =H14 * (1 + Config!$B$10) -> 1988.1718 | K14: =IF(I14<0,"-","") & INT(ABS(I14)/10000) & "g " & INT(MOD(ABS(I14),10000)/100) & "s " & ROUND(MOD(ABS(I14),100),0) & "c" -> 0g 13s 52c | L14: =IF(H14<0,"-","") & INT(ABS(H14)/10000) & "g " & INT(MOD(ABS(H14),10000)/100) & "s " & ROUND(MOD(ABS(H14),100),0) & "c" -> 0g 15s 91c | M14: =IF(J14<0,"-","") & INT(ABS(J14)/10000) & "g " & INT(MOD(ABS(J14),10000)/100) & "s " & ROUND(MOD(ABS(J14),100),0) & "c" -> 0g 19s 88c | N14: =D14 -> Cured Medium Hide
B15: =IF(C15=0, Config!$B$15*Config!$B$20*Config!$B$50, IF(C15=1, Config!$B$15*Config!$B$21*Config!$B$51, IF(C15=2, Config!$B$15*Config!$B$22*Config!$B$52, IF(C15=3, Config!$B$15*Config!$B$23*Config!$B$53, IF(C15=4, Config!$B$15*Config!$B$24*Config!$B$54, IF(C15=5, Config!$B$15*Config!$B$25*Config!$B$55, IF(C15=6, Config!$B$15*Config!$B$26*Config!$B$56, IF(C15=7, Config!$B$15*Config!$B$27*Config!$B$57, "")))))))) -> 0.8 | C15: 1 | D15: Medium Hide | E15: 125 | F15: 20 | G15: =IF(E15 < Config!$B$4, Config!$B$4, E15) -> 850 | H15: =G15 * B15 * ( (LN(1 + ($A$5 * F15))^$A$8)/(1 + $A$2 * LN(1 + ($A$5 * F15))) + ($A$11 * LN(1 + ($A$5 * F15))^$A$14) - $A$17) -> 1590.5374 | I15: =H15 * (1 - Config!$B$9) -> 1351.9568 | J15: =H15 * (1 + Config!$B$10) -> 1988.1718 | K15: =IF(I15<0,"-","") & INT(ABS(I15)/10000) & "g " & INT(MOD(ABS(I15),10000)/100) & "s " & ROUND(MOD(ABS(I15),100),0) & "c" -> 0g 13s 52c | L15: =IF(H15<0,"-","") & INT(ABS(H15)/10000) & "g " & INT(MOD(ABS(H15),10000)/100) & "s " & ROUND(MOD(ABS(H15),100),0) & "c" -> 0g 15s 91c | M15: =IF(J15<0,"-","") & INT(ABS(J15)/10000) & "g " & INT(MOD(ABS(J15),10000)/100) & "s " & ROUND(MOD(ABS(J15),100),0) & "c" -> 0g 19s 88c | N15: =D15 -> Medium Hide
A16: offset | B16: =IF(C16=0, Config!$B$15*Config!$B$20*Config!$B$50, IF(C16=1, Config!$B$15*Config!$B$21*Config!$B$51, IF(C16=2, Config!$B$15*Config!$B$22*Config!$B$52, IF(C16=3, Config!$B$15*Config!$B$23*Config!$B$53, IF(C16=4, Config!$B$15*Config!$B$24*Config!$B$54, IF(C16=5, Config!$B$15*Config!$B$25*Config!$B$55, IF(C16=6, Config!$B$15*Config!$B$26*Config!$B$56, IF(C16=7, Config!$B$15*Config!$B$27*Config!$B$57, "")))))))) -> 0.8 | C16: 1 | D16: Medium Leather | E16: 50 | F16: 20 | G16: =IF(E16 < Config!$B$4, Config!$B$4, E16) -> 850 | H16: =G16 * B16 * ( (LN(1 + ($A$5 * F16))^$A$8)/(1 + $A$2 * LN(1 + ($A$5 * F16))) + ($A$11 * LN(1 + ($A$5 * F16))^$A$14) - $A$17) -> 1590.5374 | I16: =H16 * (1 - Config!$B$9) -> 1351.9568 | J16: =H16 * (1 + Config!$B$10) -> 1988.1718 | K16: =IF(I16<0,"-","") & INT(ABS(I16)/10000) & "g " & INT(MOD(ABS(I16),10000)/100) & "s " & ROUND(MOD(ABS(I16),100),0) & "c" -> 0g 13s 52c | L16: =IF(H16<0,"-","") & INT(ABS(H16)/10000) & "g " & INT(MOD(ABS(H16),10000)/100) & "s " & ROUND(MOD(ABS(H16),100),0) & "c" -> 0g 15s 91c | M16: =IF(J16<0,"-","") & INT(ABS(J16)/10000) & "g " & INT(MOD(ABS(J16),10000)/100) & "s " & ROUND(MOD(ABS(J16),100),0) & "c" -> 0g 19s 88c | N16: =D16 -> Medium Leather
A17: 0.2 | B17: =IF(C17=0, Config!$B$15*Config!$B$20*Config!$B$50, IF(C17=1, Config!$B$15*Config!$B$21*Config!$B$51, IF(C17=2, Config!$B$15*Config!$B$22*Config!$B$52, IF(C17=3, Config!$B$15*Config!$B$23*Config!$B$53, IF(C17=4, Config!$B$15*Config!$B$24*Config!$B$54, IF(C17=5, Config!$B$15*Config!$B$25*Config!$B$55, IF(C17=6, Config!$B$15*Config!$B$26*Config!$B$56, IF(C17=7, Config!$B$15*Config!$B$27*Config!$B$57, "")))))))) -> 0.8 | C17: 1 | D17: Cured Heavy Hide | E17: 225 | F17: 30 | G17: =IF(E17 < Config!$B$4, Config!$B$4, E17) -> 850 | H17: =G17 * B17 * ( (LN(1 + ($A$5 * F17))^$A$8)/(1 + $A$2 * LN(1 + ($A$5 * F17))) + ($A$11 * LN(1 + ($A$5 * F17))^$A$14) - $A$17) -> 2674.2946 | I17: =H17 * (1 - Config!$B$9) -> 2273.1504 | J17: =H17 * (1 + Config!$B$10) -> 3342.8683 | K17: =IF(I17<0,"-","") & INT(ABS(I17)/10000) & "g " & INT(MOD(ABS(I17),10000)/100) & "s " & ROUND(MOD(ABS(I17),100),0) & "c" -> 0g 22s 73c | L17: =IF(H17<0,"-","") & INT(ABS(H17)/10000) & "g " & INT(MOD(ABS(H17),10000)/100) & "s " & ROUND(MOD(ABS(H17),100),0) & "c" -> 0g 26s 74c | M17: =IF(J17<0,"-","") & INT(ABS(J17)/10000) & "g " & INT(MOD(ABS(J17),10000)/100) & "s " & ROUND(MOD(ABS(J17),100),0) & "c" -> 0g 33s 43c | N17: =D17 -> Cured Heavy Hide
B18: =IF(C18=0, Config!$B$15*Config!$B$20*Config!$B$50, IF(C18=1, Config!$B$15*Config!$B$21*Config!$B$51, IF(C18=2, Config!$B$15*Config!$B$22*Config!$B$52, IF(C18=3, Config!$B$15*Config!$B$23*Config!$B$53, IF(C18=4, Config!$B$15*Config!$B$24*Config!$B$54, IF(C18=5, Config!$B$15*Config!$B$25*Config!$B$55, IF(C18=6, Config!$B$15*Config!$B$26*Config!$B$56, IF(C18=7, Config!$B$15*Config!$B$27*Config!$B$57, "")))))))) -> 0.8 | C18: 1 | D18: Raptor Hide | E18: 208 | F18: 30 | G18: =IF(E18 < Config!$B$4, Config!$B$4, E18) -> 850 | H18: =G18 * B18 * ( (LN(1 + ($A$5 * F18))^$A$8)/(1 + $A$2 * LN(1 + ($A$5 * F18))) + ($A$11 * LN(1 + ($A$5 * F18))^$A$14) - $A$17) -> 2674.2946 | I18: =H18 * (1 - Config!$B$9) -> 2273.1504 | J18: =H18 * (1 + Config!$B$10) -> 3342.8683 | K18: =IF(I18<0,"-","") & INT(ABS(I18)/10000) & "g " & INT(MOD(ABS(I18),10000)/100) & "s " & ROUND(MOD(ABS(I18),100),0) & "c" -> 0g 22s 73c | L18: =IF(H18<0,"-","") & INT(ABS(H18)/10000) & "g " & INT(MOD(ABS(H18),10000)/100) & "s " & ROUND(MOD(ABS(H18),100),0) & "c" -> 0g 26s 74c | M18: =IF(J18<0,"-","") & INT(ABS(J18)/10000) & "g " & INT(MOD(ABS(J18),10000)/100) & "s " & ROUND(MOD(ABS(J18),100),0) & "c" -> 0g 33s 43c | N18: =D18 -> Raptor Hide
B19: =IF(C19=0, Config!$B$15*Config!$B$20*Config!$B$50, IF(C19=1, Config!$B$15*Config!$B$21*Config!$B$51, IF(C19=2, Config!$B$15*Config!$B$22*Config!$B$52, IF(C19=3, Config!$B$15*Config!$B$23*Config!$B$53, IF(C19=4, Config!$B$15*Config!$B$24*Config!$B$54, IF(C19=5, Config!$B$15*Config!$B$25*Config!$B$55, IF(C19=6, Config!$B$15*Config!$B$26*Config!$B$56, IF(C19=7, Config!$B$15*Config!$B$27*Config!$B$57, "")))))))) -> 0.8 | C19: 1 | D19: Heavy Hide | E19: 200 | F19: 30 | G19: =IF(E19 < Config!$B$4, Config!$B$4, E19) -> 850 | H19: =G19 * B19 * ( (LN(1 + ($A$5 * F19))^$A$8)/(1 + $A$2 * LN(1 + ($A$5 * F19))) + ($A$11 * LN(1 + ($A$5 * F19))^$A$14) - $A$17) -> 2674.2946 | I19: =H19 * (1 - Config!$B$9) -> 2273.1504 | J19: =H19 * (1 + Config!$B$10) -> 3342.8683 | K19: =IF(I19<0,"-","") & INT(ABS(I19)/10000) & "g " & INT(MOD(ABS(I19),10000)/100) & "s " & ROUND(MOD(ABS(I19),100),0) & "c" -> 0g 22s 73c | L19: =IF(H19<0,"-","") & INT(ABS(H19)/10000) & "g " & INT(MOD(ABS(H19),10000)/100) & "s " & ROUND(MOD(ABS(H19),100),0) & "c" -> 0g 26s 74c | M19: =IF(J19<0,"-","") & INT(ABS(J19)/10000) & "g " & INT(MOD(ABS(J19),10000)/100) & "s " & ROUND(MOD(ABS(J19),100),0) & "c" -> 0g 33s 43c | N19: =D19 -> Heavy Hide
B20: =IF(C20=0, Config!$B$15*Config!$B$20*Config!$B$50, IF(C20=1, Config!$B$15*Config!$B$21*Config!$B$51, IF(C20=2, Config!$B$15*Config!$B$22*Config!$B$52, IF(C20=3, Config!$B$15*Config!$B$23*Config!$B$53, IF(C20=4, Config!$B$15*Config!$B$24*Config!$B$54, IF(C20=5, Config!$B$15*Config!$B$25*Config!$B$55, IF(C20=6, Config!$B$15*Config!$B$26*Config!$B$56, IF(C20=7, Config!$B$15*Config!$B$27*Config!$B$57, "")))))))) -> 0.8 | C20: 1 | D20: Heavy Leather | E20: 150 | F20: 30 | G20: =IF(E20 < Config!$B$4, Config!$B$4, E20) -> 850 | H20: =G20 * B20 * ( (LN(1 + ($A$5 * F20))^$A$8)/(1 + $A$2 * LN(1 + ($A$5 * F20))) + ($A$11 * LN(1 + ($A$5 * F20))^$A$14) - $A$17) -> 2674.2946 | I20: =H20 * (1 - Config!$B$9) -> 2273.1504 | J20: =H20 * (1 + Config!$B$10) -> 3342.8683 | K20: =IF(I20<0,"-","") & INT(ABS(I20)/10000) & "g " & INT(MOD(ABS(I20),10000)/100) & "s " & ROUND(MOD(ABS(I20),100),0) & "c" -> 0g 22s 73c | L20: =IF(H20<0,"-","") & INT(ABS(H20)/10000) & "g " & INT(MOD(ABS(H20),10000)/100) & "s " & ROUND(MOD(ABS(H20),100),0) & "c" -> 0g 26s 74c | M20: =IF(J20<0,"-","") & INT(ABS(J20)/10000) & "g " & INT(MOD(ABS(J20),10000)/100) & "s " & ROUND(MOD(ABS(J20),100),0) & "c" -> 0g 33s 43c | N20: =D20 -> Heavy Leather
B21: =IF(C21=0, Config!$B$15*Config!$B$20*Config!$B$50, IF(C21=1, Config!$B$15*Config!$B$21*Config!$B$51, IF(C21=2, Config!$B$15*Config!$B$22*Config!$B$52, IF(C21=3, Config!$B$15*Config!$B$23*Config!$B$53, IF(C21=4, Config!$B$15*Config!$B$24*Config!$B$54, IF(C21=5, Config!$B$15*Config!$B$25*Config!$B$55, IF(C21=6, Config!$B$15*Config!$B$26*Config!$B$56, IF(C21=7, Config!$B$15*Config!$B$27*Config!$B$57, "")))))))) -> 0.8 | C21: 1 | D21: Thick Murloc Scale | E21: 500 | F21: 35 | G21: =IF(E21 < Config!$B$4, Config!$B$4, E21) -> 850 | H21: =G21 * B21 * ( (LN(1 + ($A$5 * F21))^$A$8)/(1 + $A$2 * LN(1 + ($A$5 * F21))) + ($A$11 * LN(1 + ($A$5 * F21))^$A$14) - $A$17) -> 3214.7693 | I21: =H21 * (1 - Config!$B$9) -> 2732.5539 | J21: =H21 * (1 + Config!$B$10) -> 4018.4616 | K21: =IF(I21<0,"-","") & INT(ABS(I21)/10000) & "g " & INT(MOD(ABS(I21),10000)/100) & "s " & ROUND(MOD(ABS(I21),100),0) & "c" -> 0g 27s 33c | L21: =IF(H21<0,"-","") & INT(ABS(H21)/10000) & "g " & INT(MOD(ABS(H21),10000)/100) & "s " & ROUND(MOD(ABS(H21),100),0) & "c" -> 0g 32s 15c | M21: =IF(J21<0,"-","") & INT(ABS(J21)/10000) & "g " & INT(MOD(ABS(J21),10000)/100) & "s " & ROUND(MOD(ABS(J21),100),0) & "c" -> 0g 40s 18c | N21: =D21 -> Thick Murloc Scale
B22: =IF(C22=0, Config!$B$15*Config!$B$20*Config!$B$50, IF(C22=1, Config!$B$15*Config!$B$21*Config!$B$51, IF(C22=2, Config!$B$15*Config!$B$22*Config!$B$52, IF(C22=3, Config!$B$15*Config!$B$23*Config!$B$53, IF(C22=4, Config!$B$15*Config!$B$24*Config!$B$54, IF(C22=5, Config!$B$15*Config!$B$25*Config!$B$55, IF(C22=6, Config!$B$15*Config!$B$26*Config!$B$56, IF(C22=7, Config!$B$15*Config!$B$27*Config!$B$57, "")))))))) -> 0.8 | C22: 1 | D22: Turtle Scale | E22: 100 | F22: 35 | G22: =IF(E22 < Config!$B$4, Config!$B$4, E22) -> 850 | H22: =G22 * B22 * ( (LN(1 + ($A$5 * F22))^$A$8)/(1 + $A$2 * LN(1 + ($A$5 * F22))) + ($A$11 * LN(1 + ($A$5 * F22))^$A$14) - $A$17) -> 3214.7693 | I22: =H22 * (1 - Config!$B$9) -> 2732.5539 | J22: =H22 * (1 + Config!$B$10) -> 4018.4616 | K22: =IF(I22<0,"-","") & INT(ABS(I22)/10000) & "g " & INT(MOD(ABS(I22),10000)/100) & "s " & ROUND(MOD(ABS(I22),100),0) & "c" -> 0g 27s 33c | L22: =IF(H22<0,"-","") & INT(ABS(H22)/10000) & "g " & INT(MOD(ABS(H22),10000)/100) & "s " & ROUND(MOD(ABS(H22),100),0) & "c" -> 0g 32s 15c | M22: =IF(J22<0,"-","") & INT(ABS(J22)/10000) & "g " & INT(MOD(ABS(J22),10000)/100) & "s " & ROUND(MOD(ABS(J22),100),0) & "c" -> 0g 40s 18c | N22: =D22 -> Turtle Scale
B23: =IF(C23=0, Config!$B$15*Config!$B$20*Config!$B$50, IF(C23=1, Config!$B$15*Config!$B$21*Config!$B$51, IF(C23=2, Config!$B$15*Config!$B$22*Config!$B$52, IF(C23=3, Config!$B$15*Config!$B$23*Config!$B$53, IF(C23=4, Config!$B$15*Config!$B$24*Config!$B$54, IF(C23=5, Config!$B$15*Config!$B$25*Config!$B$55, IF(C23=6, Config!$B$15*Config!$B$26*Config!$B$56, IF(C23=7, Config!$B$15*Config!$B$27*Config!$B$57, "")))))))) -> 0.8 | C23: 1 | D23: Thick Leather | E23: 300 | F23: 40 | G23: =IF(E23 < Config!$B$4, Config!$B$4, E23) -> 850 | H23: =G23 * B23 * ( (LN(1 + ($A$5 * F23))^$A$8)/(1 + $A$2 * LN(1 + ($A$5 * F23))) + ($A$11 * LN(1 + ($A$5 * F23))^$A$14) - $A$17) -> 3748.0178 | I23: =H23 * (1 - Config!$B$9) -> 3185.8152 | J23: =H23 * (1 + Config!$B$10) -> 4685.0223 | K23: =IF(I23<0,"-","") & INT(ABS(I23)/10000) & "g " & INT(MOD(ABS(I23),10000)/100) & "s " & ROUND(MOD(ABS(I23),100),0) & "c" -> 0g 31s 86c | L23: =IF(H23<0,"-","") & INT(ABS(H23)/10000) & "g " & INT(MOD(ABS(H23),10000)/100) & "s " & ROUND(MOD(ABS(H23),100),0) & "c" -> 0g 37s 48c | M23: =IF(J23<0,"-","") & INT(ABS(J23)/10000) & "g " & INT(MOD(ABS(J23),10000)/100) & "s " & ROUND(MOD(ABS(J23),100),0) & "c" -> 0g 46s 85c | N23: =D23 -> Thick Leather
B24: =IF(C24=0, Config!$B$15*Config!$B$20*Config!$B$50, IF(C24=1, Config!$B$15*Config!$B$21*Config!$B$51, IF(C24=2, Config!$B$15*Config!$B$22*Config!$B$52, IF(C24=3, Config!$B$15*Config!$B$23*Config!$B$53, IF(C24=4, Config!$B$15*Config!$B$24*Config!$B$54, IF(C24=5, Config!$B$15*Config!$B$25*Config!$B$55, IF(C24=6, Config!$B$15*Config!$B$26*Config!$B$56, IF(C24=7, Config!$B$15*Config!$B$27*Config!$B$57, "")))))))) -> 0.8 | C24: 1 | D24: Cured Thick Hide | E24: 500 | F24: 40 | G24: =IF(E24 < Config!$B$4, Config!$B$4, E24) -> 850 | H24: =G24 * B24 * ( (LN(1 + ($A$5 * F24))^$A$8)/(1 + $A$2 * LN(1 + ($A$5 * F24))) + ($A$11 * LN(1 + ($A$5 * F24))^$A$14) - $A$17) -> 3748.0178 | I24: =H24 * (1 - Config!$B$9) -> 3185.8152 | J24: =H24 * (1 + Config!$B$10) -> 4685.0223 | K24: =IF(I24<0,"-","") & INT(ABS(I24)/10000) & "g " & INT(MOD(ABS(I24),10000)/100) & "s " & ROUND(MOD(ABS(I24),100),0) & "c" -> 0g 31s 86c | L24: =IF(H24<0,"-","") & INT(ABS(H24)/10000) & "g " & INT(MOD(ABS(H24),10000)/100) & "s " & ROUND(MOD(ABS(H24),100),0) & "c" -> 0g 37s 48c | M24: =IF(J24<0,"-","") & INT(ABS(J24)/10000) & "g " & INT(MOD(ABS(J24),10000)/100) & "s " & ROUND(MOD(ABS(J24),100),0) & "c" -> 0g 46s 85c | N24: =D24 -> Cured Thick Hide
B25: =IF(C25=0, Config!$B$15*Config!$B$20*Config!$B$50, IF(C25=1, Config!$B$15*Config!$B$21*Config!$B$51, IF(C25=2, Config!$B$15*Config!$B$22*Config!$B$52, IF(C25=3, Config!$B$15*Config!$B$23*Config!$B$53, IF(C25=4, Config!$B$15*Config!$B$24*Config!$B$54, IF(C25=5, Config!$B$15*Config!$B$25*Config!$B$55, IF(C25=6, Config!$B$15*Config!$B$26*Config!$B$56, IF(C25=7, Config!$B$15*Config!$B$27*Config!$B$57, "")))))))) -> 0.8 | C25: 1 | D25: Thick Hide | E25: 500 | F25: 40 | G25: =IF(E25 < Config!$B$4, Config!$B$4, E25) -> 850 | H25: =G25 * B25 * ( (LN(1 + ($A$5 * F25))^$A$8)/(1 + $A$2 * LN(1 + ($A$5 * F25))) + ($A$11 * LN(1 + ($A$5 * F25))^$A$14) - $A$17) -> 3748.0178 | I25: =H25 * (1 - Config!$B$9) -> 3185.8152 | J25: =H25 * (1 + Config!$B$10) -> 4685.0223 | K25: =IF(I25<0,"-","") & INT(ABS(I25)/10000) & "g " & INT(MOD(ABS(I25),10000)/100) & "s " & ROUND(MOD(ABS(I25),100),0) & "c" -> 0g 31s 86c | L25: =IF(H25<0,"-","") & INT(ABS(H25)/10000) & "g " & INT(MOD(ABS(H25),10000)/100) & "s " & ROUND(MOD(ABS(H25),100),0) & "c" -> 0g 37s 48c | M25: =IF(J25<0,"-","") & INT(ABS(J25)/10000) & "g " & INT(MOD(ABS(J25),10000)/100) & "s " & ROUND(MOD(ABS(J25),100),0) & "c" -> 0g 46s 85c | N25: =D25 -> Thick Hide
B26: =IF(C26=0, Config!$B$15*Config!$B$20*Config!$B$50, IF(C26=1, Config!$B$15*Config!$B$21*Config!$B$51, IF(C26=2, Config!$B$15*Config!$B$22*Config!$B$52, IF(C26=3, Config!$B$15*Config!$B$23*Config!$B$53, IF(C26=4, Config!$B$15*Config!$B$24*Config!$B$54, IF(C26=5, Config!$B$15*Config!$B$25*Config!$B$55, IF(C26=6, Config!$B$15*Config!$B$26*Config!$B$56, IF(C26=7, Config!$B$15*Config!$B$27*Config!$B$57, "")))))))) -> 0.8 | C26: 1 | D26: Deeprock Salt | E26: 250 | F26: 40 | G26: =IF(E26 < Config!$B$4, Config!$B$4, E26) -> 850 | H26: =G26 * B26 * ( (LN(1 + ($A$5 * F26))^$A$8)/(1 + $A$2 * LN(1 + ($A$5 * F26))) + ($A$11 * LN(1 + ($A$5 * F26))^$A$14) - $A$17) -> 3748.0178 | I26: =H26 * (1 - Config!$B$9) -> 3185.8152 | J26: =H26 * (1 + Config!$B$10) -> 4685.0223 | K26: =IF(I26<0,"-","") & INT(ABS(I26)/10000) & "g " & INT(MOD(ABS(I26),10000)/100) & "s " & ROUND(MOD(ABS(I26),100),0) & "c" -> 0g 31s 86c | L26: =IF(H26<0,"-","") & INT(ABS(H26)/10000) & "g " & INT(MOD(ABS(H26),10000)/100) & "s " & ROUND(MOD(ABS(H26),100),0) & "c" -> 0g 37s 48c | M26: =IF(J26<0,"-","") & INT(ABS(J26)/10000) & "g " & INT(MOD(ABS(J26),10000)/100) & "s " & ROUND(MOD(ABS(J26),100),0) & "c" -> 0g 46s 85c | N26: =D26 -> Deeprock Salt
B27: =IF(C27=0, Config!$B$15*Config!$B$20*Config!$B$50, IF(C27=1, Config!$B$15*Config!$B$21*Config!$B$51, IF(C27=2, Config!$B$15*Config!$B$22*Config!$B$52, IF(C27=3, Config!$B$15*Config!$B$23*Config!$B$53, IF(C27=4, Config!$B$15*Config!$B$24*Config!$B$54, IF(C27=5, Config!$B$15*Config!$B$25*Config!$B$55, IF(C27=6, Config!$B$15*Config!$B$26*Config!$B$56, IF(C27=7, Config!$B$15*Config!$B$27*Config!$B$57, "")))))))) -> 0.8 | C27: 1 | D27: Worn Dragonscale | E27: 500 | F27: 45 | G27: =IF(E27 < Config!$B$4, Config!$B$4, E27) -> 850 | H27: =G27 * B27 * ( (LN(1 + ($A$5 * F27))^$A$8)/(1 + $A$2 * LN(1 + ($A$5 * F27))) + ($A$11 * LN(1 + ($A$5 * F27))^$A$14) - $A$17) -> 4272.0801 | I27: =H27 * (1 - Config!$B$9) -> 3631.2681 | J27: =H27 * (1 + Config!$B$10) -> 5340.1001 | K27: =IF(I27<0,"-","") & INT(ABS(I27)/10000) & "g " & INT(MOD(ABS(I27),10000)/100) & "s " & ROUND(MOD(ABS(I27),100),0) & "c" -> 0g 36s 31c | L27: =IF(H27<0,"-","") & INT(ABS(H27)/10000) & "g " & INT(MOD(ABS(H27),10000)/100) & "s " & ROUND(MOD(ABS(H27),100),0) & "c" -> 0g 42s 72c | M27: =IF(J27<0,"-","") & INT(ABS(J27)/10000) & "g " & INT(MOD(ABS(J27),10000)/100) & "s " & ROUND(MOD(ABS(J27),100),0) & "c" -> 0g 53s 40c | N27: =D27 -> Worn Dragonscale
B28: =IF(C28=0, Config!$B$15*Config!$B$20*Config!$B$50, IF(C28=1, Config!$B$15*Config!$B$21*Config!$B$51, IF(C28=2, Config!$B$15*Config!$B$22*Config!$B$52, IF(C28=3, Config!$B$15*Config!$B$23*Config!$B$53, IF(C28=4, Config!$B$15*Config!$B$24*Config!$B$54, IF(C28=5, Config!$B$15*Config!$B$25*Config!$B$55, IF(C28=6, Config!$B$15*Config!$B$26*Config!$B$56, IF(C28=7, Config!$B$15*Config!$B$27*Config!$B$57, "")))))))) -> 1 | C28: 0 | D28: Jet Black Feather | E28: 100 | F28: 45 | G28: =IF(E28 < Config!$B$4, Config!$B$4, E28) -> 850 | H28: =G28 * B28 * ( (LN(1 + ($A$5 * F28))^$A$8)/(1 + $A$2 * LN(1 + ($A$5 * F28))) + ($A$11 * LN(1 + ($A$5 * F28))^$A$14) - $A$17) -> 5340.1001 | I28: =H28 * (1 - Config!$B$9) -> 4539.0851 | J28: =H28 * (1 + Config!$B$10) -> 6675.1251 | K28: =IF(I28<0,"-","") & INT(ABS(I28)/10000) & "g " & INT(MOD(ABS(I28),10000)/100) & "s " & ROUND(MOD(ABS(I28),100),0) & "c" -> 0g 45s 39c | L28: =IF(H28<0,"-","") & INT(ABS(H28)/10000) & "g " & INT(MOD(ABS(H28),10000)/100) & "s " & ROUND(MOD(ABS(H28),100),0) & "c" -> 0g 53s 40c | M28: =IF(J28<0,"-","") & INT(ABS(J28)/10000) & "g " & INT(MOD(ABS(J28),10000)/100) & "s " & ROUND(MOD(ABS(J28),100),0) & "c" -> 0g 66s 75c | N28: =D28 -> Jet Black Feather
B29: =IF(C29=0, Config!$B$15*Config!$B$20*Config!$B$50, IF(C29=1, Config!$B$15*Config!$B$21*Config!$B$51, IF(C29=2, Config!$B$15*Config!$B$22*Config!$B$52, IF(C29=3, Config!$B$15*Config!$B$23*Config!$B$53, IF(C29=4, Config!$B$15*Config!$B$24*Config!$B$54, IF(C29=5, Config!$B$15*Config!$B$25*Config!$B$55, IF(C29=6, Config!$B$15*Config!$B$26*Config!$B$56, IF(C29=7, Config!$B$15*Config!$B$27*Config!$B$57, "")))))))) -> 0.8 | C29: 1 | D29: Scorpid Scale | E29: 250 | F29: 45 | G29: =IF(E29 < Config!$B$4, Config!$B$4, E29) -> 850 | H29: =G29 * B29 * ( (LN(1 + ($A$5 * F29))^$A$8)/(1 + $A$2 * LN(1 + ($A$5 * F29))) + ($A$11 * LN(1 + ($A$5 * F29))^$A$14) - $A$17) -> 4272.0801 | I29: =H29 * (1 - Config!$B$9) -> 3631.2681 | J29: =H29 * (1 + Config!$B$10) -> 5340.1001 | K29: =IF(I29<0,"-","") & INT(ABS(I29)/10000) & "g " & INT(MOD(ABS(I29),10000)/100) & "s " & ROUND(MOD(ABS(I29),100),0) & "c" -> 0g 36s 31c | L29: =IF(H29<0,"-","") & INT(ABS(H29)/10000) & "g " & INT(MOD(ABS(H29),10000)/100) & "s " & ROUND(MOD(ABS(H29),100),0) & "c" -> 0g 42s 72c | M29: =IF(J29<0,"-","") & INT(ABS(J29)/10000) & "g " & INT(MOD(ABS(J29),10000)/100) & "s " & ROUND(MOD(ABS(J29),100),0) & "c" -> 0g 53s 40c | N29: =D29 -> Scorpid Scale
... B68: =IF(C68=0, Config!$B$15*Config!$B$20*Config!$B$50, IF(C68=1, Config!$B$15*Config!$B$21*Config!$B$51, IF(C68=2, Config!$B$15*Config!$B$22*Config!$B$52, IF(C68=3, Config!$B$15*Config!$B$23*Config!$B$53, IF(C68=4, Config!$B$15*Config!$B$24*Config!$B$54, IF(C68=5, Config!$B$15*Config!$B$25*Config!$B$55, IF(C68=6, Config!$B$15*Config!$B$26*Config!$B$56, IF(C68=7, Config!$B$15*Config!$B$27*Config!$B$57, "")))))))) -> 1.89 | C68: 4 | D68: Scale of Onyxia 2.0 | E68: 5000 | F68: 80 | G68: =IF(E68 < Config!$B$4, Config!$B$4, E68) -> 5000 | H68: =G68 * B68 * ( (LN(1 + ($A$5 * F68))^$A$8)/(1 + $A$2 * LN(1 + ($A$5 * F68))) + ($A$11 * LN(1 + ($A$5 * F68))^$A$14) - $A$17) -> 106357.06 | I68: =H68 * (1 - Config!$B$9) -> 90403.502 | J68: =H68 * (1 + Config!$B$10) -> 132946.33 | K68: =IF(I68<0,"-","") & INT(ABS(I68)/10000) & "g " & INT(MOD(ABS(I68),10000)/100) & "s " & ROUND(MOD(ABS(I68),100),0) & "c" -> 9g 4s 4c | L68: =IF(H68<0,"-","") & INT(ABS(H68)/10000) & "g " & INT(MOD(ABS(H68),10000)/100) & "s " & ROUND(MOD(ABS(H68),100),0) & "c" -> 10g 63s 57c | M68: =IF(J68<0,"-","") & INT(ABS(J68)/10000) & "g " & INT(MOD(ABS(J68),10000)/100) & "s " & ROUND(MOD(ABS(J68),100),0) & "c" -> 13g 29s 46c | N68: =D68 -> Scale of Onyxia 2.0

Sheet Metal  Stone
A1: a | B1: Quality Multiplier | C1: Quality | D1: NAME | E1: vendor price | F1: itemLevel | G1: Min Price | H1: Avg Price | I1: Low | J1: High | K1: Low End | L1: Average | M1: High End | N1: NAME
A2: 7 | B2: =IF(C2=0, Config!$B$15*Config!$B$20*Config!$B$50, IF(C2=1, Config!$B$15*Config!$B$21*Config!$B$51, IF(C2=2, Config!$B$15*Config!$B$22*Config!$B$52, IF(C2=3, Config!$B$15*Config!$B$23*Config!$B$53, IF(C2=4, Config!$B$15*Config!$B$24*Config!$B$54, IF(C2=5, Config!$B$15*Config!$B$25*Config!$B$55, IF(C2=6, Config!$B$15*Config!$B$26*Config!$B$56, IF(C2=7, Config!$B$15*Config!$B$27*Config!$B$57, "")))))))) -> 0.8 | C2: 1 | D2: Rough Stone | E2: 2 | F2: 5 | G2: =IF(E2 < Config!$B$4, Config!$B$4, E2) -> 850 | H2: =G2 * B2 * ( (LN(1 + ($A$5 * F2))^ $A$8 )/(1 + $A$2 * LN(1 + ($A$5 * F2))) + ($A$11 * LN(1 + ($A$5 * F2))^ $A$14 ) - $A$17) -> 144.41248 | I2: =H2 * (1 - Config!$B$9) -> 122.7506 | J2: =H2 * (1 + Config!$B$10) -> 180.51559 | K2: =IF(I2<0,"-","") & INT(ABS(I2)/10000) & "g " & INT(MOD(ABS(I2),10000)/100) & "s " & ROUND(MOD(ABS(I2),100),0) & "c" -> 0g 1s 23c | L2: =IF(H2<0,"-","") & INT(ABS(H2)/10000) & "g " & INT(MOD(ABS(H2),10000)/100) & "s " & ROUND(MOD(ABS(H2),100),0) & "c" -> 0g 1s 44c | M2: =IF(J2<0,"-","") & INT(ABS(J2)/10000) & "g " & INT(MOD(ABS(J2),10000)/100) & "s " & ROUND(MOD(ABS(J2),100),0) & "c" -> 0g 1s 81c | N2: =D2 -> Rough Stone
B3: =IF(C3=0, Config!$B$15*Config!$B$20*Config!$B$50, IF(C3=1, Config!$B$15*Config!$B$21*Config!$B$51, IF(C3=2, Config!$B$15*Config!$B$22*Config!$B$52, IF(C3=3, Config!$B$15*Config!$B$23*Config!$B$53, IF(C3=4, Config!$B$15*Config!$B$24*Config!$B$54, IF(C3=5, Config!$B$15*Config!$B$25*Config!$B$55, IF(C3=6, Config!$B$15*Config!$B$26*Config!$B$56, IF(C3=7, Config!$B$15*Config!$B$27*Config!$B$57, "")))))))) -> 0.8 | C3: 1 | D3: Copper Ore | E3: 5 | F3: 10 | G3: =IF(E3 < Config!$B$4, Config!$B$4, E3) -> 850 | H3: =G3 * B3 * ( (LN(1 + ($A$5 * F3))^ $A$8 )/(1 + $A$2 * LN(1 + ($A$5 * F3))) + ($A$11 * LN(1 + ($A$5 * F3))^ $A$14 ) - $A$17) -> 1141.0532 | I3: =H3 * (1 - Config!$B$9) -> 969.89523 | J3: =H3 * (1 + Config!$B$10) -> 1426.3165 | K3: =IF(I3<0,"-","") & INT(ABS(I3)/10000) & "g " & INT(MOD(ABS(I3),10000)/100) & "s " & ROUND(MOD(ABS(I3),100),0) & "c" -> 0g 9s 70c | L3: =IF(H3<0,"-","") & INT(ABS(H3)/10000) & "g " & INT(MOD(ABS(H3),10000)/100) & "s " & ROUND(MOD(ABS(H3),100),0) & "c" -> 0g 11s 41c | M3: =IF(J3<0,"-","") & INT(ABS(J3)/10000) & "g " & INT(MOD(ABS(J3),10000)/100) & "s " & ROUND(MOD(ABS(J3),100),0) & "c" -> 0g 14s 26c | N3: =D3 -> Copper Ore
A4: b | B4: =IF(C4=0, Config!$B$15*Config!$B$20*Config!$B$50, IF(C4=1, Config!$B$15*Config!$B$21*Config!$B$51, IF(C4=2, Config!$B$15*Config!$B$22*Config!$B$52, IF(C4=3, Config!$B$15*Config!$B$23*Config!$B$53, IF(C4=4, Config!$B$15*Config!$B$24*Config!$B$54, IF(C4=5, Config!$B$15*Config!$B$25*Config!$B$55, IF(C4=6, Config!$B$15*Config!$B$26*Config!$B$56, IF(C4=7, Config!$B$15*Config!$B$27*Config!$B$57, "")))))))) -> 2.16 | C4: 2 | D4: Silver Ore | E4: 75 | F4: 10 | G4: =IF(E4 < Config!$B$4, Config!$B$4, E4) -> 850 | H4: =G4 * B4 * ( (LN(1 + ($A$5 * F4))^ $A$8 )/(1 + $A$2 * LN(1 + ($A$5 * F4))) + ($A$11 * LN(1 + ($A$5 * F4))^ $A$14 ) - $A$17) -> 3080.8437 | I4: =H4 * (1 - Config!$B$9) -> 2618.7171 | J4: =H4 * (1 + Config!$B$10) -> 3851.0546 | K4: =IF(I4<0,"-","") & INT(ABS(I4)/10000) & "g " & INT(MOD(ABS(I4),10000)/100) & "s " & ROUND(MOD(ABS(I4),100),0) & "c" -> 0g 26s 19c | L4: =IF(H4<0,"-","") & INT(ABS(H4)/10000) & "g " & INT(MOD(ABS(H4),10000)/100) & "s " & ROUND(MOD(ABS(H4),100),0) & "c" -> 0g 30s 81c | M4: =IF(J4<0,"-","") & INT(ABS(J4)/10000) & "g " & INT(MOD(ABS(J4),10000)/100) & "s " & ROUND(MOD(ABS(J4),100),0) & "c" -> 0g 38s 51c | N4: =D4 -> Silver Ore
A5: 75 | B5: =IF(C5=0, Config!$B$15*Config!$B$20*Config!$B$50, IF(C5=1, Config!$B$15*Config!$B$21*Config!$B$51, IF(C5=2, Config!$B$15*Config!$B$22*Config!$B$52, IF(C5=3, Config!$B$15*Config!$B$23*Config!$B$53, IF(C5=4, Config!$B$15*Config!$B$24*Config!$B$54, IF(C5=5, Config!$B$15*Config!$B$25*Config!$B$55, IF(C5=6, Config!$B$15*Config!$B$26*Config!$B$56, IF(C5=7, Config!$B$15*Config!$B$27*Config!$B$57, "")))))))) -> 0.8 | C5: 1 | D5: Copper Bar | E5: 10 | F5: 10 | G5: =IF(E5 < Config!$B$4, Config!$B$4, E5) -> 850 | H5: =G5 * B5 * ( (LN(1 + ($A$5 * F5))^ $A$8 )/(1 + $A$2 * LN(1 + ($A$5 * F5))) + ($A$11 * LN(1 + ($A$5 * F5))^ $A$14 ) - $A$17) -> 1141.0532 | I5: =H5 * (1 - Config!$B$9) -> 969.89523 | J5: =H5 * (1 + Config!$B$10) -> 1426.3165 | K5: =IF(I5<0,"-","") & INT(ABS(I5)/10000) & "g " & INT(MOD(ABS(I5),10000)/100) & "s " & ROUND(MOD(ABS(I5),100),0) & "c" -> 0g 9s 70c | L5: =IF(H5<0,"-","") & INT(ABS(H5)/10000) & "g " & INT(MOD(ABS(H5),10000)/100) & "s " & ROUND(MOD(ABS(H5),100),0) & "c" -> 0g 11s 41c | M5: =IF(J5<0,"-","") & INT(ABS(J5)/10000) & "g " & INT(MOD(ABS(J5),10000)/100) & "s " & ROUND(MOD(ABS(J5),100),0) & "c" -> 0g 14s 26c | N5: =D5 -> Copper Bar
B6: =IF(C6=0, Config!$B$15*Config!$B$20*Config!$B$50, IF(C6=1, Config!$B$15*Config!$B$21*Config!$B$51, IF(C6=2, Config!$B$15*Config!$B$22*Config!$B$52, IF(C6=3, Config!$B$15*Config!$B$23*Config!$B$53, IF(C6=4, Config!$B$15*Config!$B$24*Config!$B$54, IF(C6=5, Config!$B$15*Config!$B$25*Config!$B$55, IF(C6=6, Config!$B$15*Config!$B$26*Config!$B$56, IF(C6=7, Config!$B$15*Config!$B$27*Config!$B$57, "")))))))) -> 2.16 | C6: 2 | D6: Silver Bar | E6: 100 | F6: 10 | G6: =IF(E6 < Config!$B$4, Config!$B$4, E6) -> 850 | H6: =G6 * B6 * ( (LN(1 + ($A$5 * F6))^ $A$8 )/(1 + $A$2 * LN(1 + ($A$5 * F6))) + ($A$11 * LN(1 + ($A$5 * F6))^ $A$14 ) - $A$17) -> 3080.8437 | I6: =H6 * (1 - Config!$B$9) -> 2618.7171 | J6: =H6 * (1 + Config!$B$10) -> 3851.0546 | K6: =IF(I6<0,"-","") & INT(ABS(I6)/10000) & "g " & INT(MOD(ABS(I6),10000)/100) & "s " & ROUND(MOD(ABS(I6),100),0) & "c" -> 0g 26s 19c | L6: =IF(H6<0,"-","") & INT(ABS(H6)/10000) & "g " & INT(MOD(ABS(H6),10000)/100) & "s " & ROUND(MOD(ABS(H6),100),0) & "c" -> 0g 30s 81c | M6: =IF(J6<0,"-","") & INT(ABS(J6)/10000) & "g " & INT(MOD(ABS(J6),10000)/100) & "s " & ROUND(MOD(ABS(J6),100),0) & "c" -> 0g 38s 51c | N6: =D6 -> Silver Bar
A7: p | B7: =IF(C7=0, Config!$B$15*Config!$B$20*Config!$B$50, IF(C7=1, Config!$B$15*Config!$B$21*Config!$B$51, IF(C7=2, Config!$B$15*Config!$B$22*Config!$B$52, IF(C7=3, Config!$B$15*Config!$B$23*Config!$B$53, IF(C7=4, Config!$B$15*Config!$B$24*Config!$B$54, IF(C7=5, Config!$B$15*Config!$B$25*Config!$B$55, IF(C7=6, Config!$B$15*Config!$B$26*Config!$B$56, IF(C7=7, Config!$B$15*Config!$B$27*Config!$B$57, "")))))))) -> 0.8 | C7: 1 | D7: Rough Grinding Stone | E7: 5 | F7: 10 | G7: =IF(E7 < Config!$B$4, Config!$B$4, E7) -> 850 | H7: =G7 * B7 * ( (LN(1 + ($A$5 * F7))^ $A$8 )/(1 + $A$2 * LN(1 + ($A$5 * F7))) + ($A$11 * LN(1 + ($A$5 * F7))^ $A$14 ) - $A$17) -> 1141.0532 | I7: =H7 * (1 - Config!$B$9) -> 969.89523 | J7: =H7 * (1 + Config!$B$10) -> 1426.3165 | K7: =IF(I7<0,"-","") & INT(ABS(I7)/10000) & "g " & INT(MOD(ABS(I7),10000)/100) & "s " & ROUND(MOD(ABS(I7),100),0) & "c" -> 0g 9s 70c | L7: =IF(H7<0,"-","") & INT(ABS(H7)/10000) & "g " & INT(MOD(ABS(H7),10000)/100) & "s " & ROUND(MOD(ABS(H7),100),0) & "c" -> 0g 11s 41c | M7: =IF(J7<0,"-","") & INT(ABS(J7)/10000) & "g " & INT(MOD(ABS(J7),10000)/100) & "s " & ROUND(MOD(ABS(J7),100),0) & "c" -> 0g 14s 26c | N7: =D7 -> Rough Grinding Stone
A8: 3 | B8: =IF(C8=0, Config!$B$15*Config!$B$20*Config!$B$50, IF(C8=1, Config!$B$15*Config!$B$21*Config!$B$51, IF(C8=2, Config!$B$15*Config!$B$22*Config!$B$52, IF(C8=3, Config!$B$15*Config!$B$23*Config!$B$53, IF(C8=4, Config!$B$15*Config!$B$24*Config!$B$54, IF(C8=5, Config!$B$15*Config!$B$25*Config!$B$55, IF(C8=6, Config!$B$15*Config!$B$26*Config!$B$56, IF(C8=7, Config!$B$15*Config!$B$27*Config!$B$57, "")))))))) -> 0.8 | C8: 1 | D8: Coarse Stone | E8: 15 | F8: 15 | G8: =IF(E8 < Config!$B$4, Config!$B$4, E8) -> 850 | H8: =G8 * B8 * ( (LN(1 + ($A$5 * F8))^ $A$8 )/(1 + $A$2 * LN(1 + ($A$5 * F8))) + ($A$11 * LN(1 + ($A$5 * F8))^ $A$14 ) - $A$17) -> 1789.7292 | I8: =H8 * (1 - Config!$B$9) -> 1521.2698 | J8: =H8 * (1 + Config!$B$10) -> 2237.1615 | K8: =IF(I8<0,"-","") & INT(ABS(I8)/10000) & "g " & INT(MOD(ABS(I8),10000)/100) & "s " & ROUND(MOD(ABS(I8),100),0) & "c" -> 0g 15s 21c | L8: =IF(H8<0,"-","") & INT(ABS(H8)/10000) & "g " & INT(MOD(ABS(H8),10000)/100) & "s " & ROUND(MOD(ABS(H8),100),0) & "c" -> 0g 17s 90c | M8: =IF(J8<0,"-","") & INT(ABS(J8)/10000) & "g " & INT(MOD(ABS(J8),10000)/100) & "s " & ROUND(MOD(ABS(J8),100),0) & "c" -> 0g 22s 37c | N8: =D8 -> Coarse Stone
B9: =IF(C9=0, Config!$B$15*Config!$B$20*Config!$B$50, IF(C9=1, Config!$B$15*Config!$B$21*Config!$B$51, IF(C9=2, Config!$B$15*Config!$B$22*Config!$B$52, IF(C9=3, Config!$B$15*Config!$B$23*Config!$B$53, IF(C9=4, Config!$B$15*Config!$B$24*Config!$B$54, IF(C9=5, Config!$B$15*Config!$B$25*Config!$B$55, IF(C9=6, Config!$B$15*Config!$B$26*Config!$B$56, IF(C9=7, Config!$B$15*Config!$B$27*Config!$B$57, "")))))))) -> 0.8 | C9: 1 | D9: Tin Ore | E9: 25 | F9: 20 | G9: =IF(E9 < Config!$B$4, Config!$B$4, E9) -> 850 | H9: =G9 * B9 * ( (LN(1 + ($A$5 * F9))^ $A$8 )/(1 + $A$2 * LN(1 + ($A$5 * F9))) + ($A$11 * LN(1 + ($A$5 * F9))^ $A$14 ) - $A$17) -> 2280.3977 | I9: =H9 * (1 - Config!$B$9) -> 1938.3381 | J9: =H9 * (1 + Config!$B$10) -> 2850.4971 | K9: =IF(I9<0,"-","") & INT(ABS(I9)/10000) & "g " & INT(MOD(ABS(I9),10000)/100) & "s " & ROUND(MOD(ABS(I9),100),0) & "c" -> 0g 19s 38c | L9: =IF(H9<0,"-","") & INT(ABS(H9)/10000) & "g " & INT(MOD(ABS(H9),10000)/100) & "s " & ROUND(MOD(ABS(H9),100),0) & "c" -> 0g 22s 80c | M9: =IF(J9<0,"-","") & INT(ABS(J9)/10000) & "g " & INT(MOD(ABS(J9),10000)/100) & "s " & ROUND(MOD(ABS(J9),100),0) & "c" -> 0g 28s 50c | N9: =D9 -> Tin Ore
A10: c | B10: =IF(C10=0, Config!$B$15*Config!$B$20*Config!$B$50, IF(C10=1, Config!$B$15*Config!$B$21*Config!$B$51, IF(C10=2, Config!$B$15*Config!$B$22*Config!$B$52, IF(C10=3, Config!$B$15*Config!$B$23*Config!$B$53, IF(C10=4, Config!$B$15*Config!$B$24*Config!$B$54, IF(C10=5, Config!$B$15*Config!$B$25*Config!$B$55, IF(C10=6, Config!$B$15*Config!$B$26*Config!$B$56, IF(C10=7, Config!$B$15*Config!$B$27*Config!$B$57, "")))))))) -> 0.8 | C10: 1 | D10: Tin Bar | E10: 35 | F10: 20 | G10: =IF(E10 < Config!$B$4, Config!$B$4, E10) -> 850 | H10: =G10 * B10 * ( (LN(1 + ($A$5 * F10))^ $A$8 )/(1 + $A$2 * LN(1 + ($A$5 * F10))) + ($A$11 * LN(1 + ($A$5 * F10))^ $A$14 ) - $A$17) -> 2280.3977 | I10: =H10 * (1 - Config!$B$9) -> 1938.3381 | J10: =H10 * (1 + Config!$B$10) -> 2850.4971 | K10: =IF(I10<0,"-","") & INT(ABS(I10)/10000) & "g " & INT(MOD(ABS(I10),10000)/100) & "s " & ROUND(MOD(ABS(I10),100),0) & "c" -> 0g 19s 38c | L10: =IF(H10<0,"-","") & INT(ABS(H10)/10000) & "g " & INT(MOD(ABS(H10),10000)/100) & "s " & ROUND(MOD(ABS(H10),100),0) & "c" -> 0g 22s 80c | M10: =IF(J10<0,"-","") & INT(ABS(J10)/10000) & "g " & INT(MOD(ABS(J10),10000)/100) & "s " & ROUND(MOD(ABS(J10),100),0) & "c" -> 0g 28s 50c | N10: =D10 -> Tin Bar
A11: 0.001 | B11: =IF(C11=0, Config!$B$15*Config!$B$20*Config!$B$50, IF(C11=1, Config!$B$15*Config!$B$21*Config!$B$51, IF(C11=2, Config!$B$15*Config!$B$22*Config!$B$52, IF(C11=3, Config!$B$15*Config!$B$23*Config!$B$53, IF(C11=4, Config!$B$15*Config!$B$24*Config!$B$54, IF(C11=5, Config!$B$15*Config!$B$25*Config!$B$55, IF(C11=6, Config!$B$15*Config!$B$26*Config!$B$56, IF(C11=7, Config!$B$15*Config!$B$27*Config!$B$57, "")))))))) -> 0.8 | C11: 1 | D11: Coarse Grinding Stone | E11: 10 | F11: 20 | G11: =IF(E11 < Config!$B$4, Config!$B$4, E11) -> 850 | H11: =G11 * B11 * ( (LN(1 + ($A$5 * F11))^ $A$8 )/(1 + $A$2 * LN(1 + ($A$5 * F11))) + ($A$11 * LN(1 + ($A$5 * F11))^ $A$14 ) - $A$17) -> 2280.3977 | I11: =H11 * (1 - Config!$B$9) -> 1938.3381 | J11: =H11 * (1 + Config!$B$10) -> 2850.4971 | K11: =IF(I11<0,"-","") & INT(ABS(I11)/10000) & "g " & INT(MOD(ABS(I11),10000)/100) & "s " & ROUND(MOD(ABS(I11),100),0) & "c" -> 0g 19s 38c | L11: =IF(H11<0,"-","") & INT(ABS(H11)/10000) & "g " & INT(MOD(ABS(H11),10000)/100) & "s " & ROUND(MOD(ABS(H11),100),0) & "c" -> 0g 22s 80c | M11: =IF(J11<0,"-","") & INT(ABS(J11)/10000) & "g " & INT(MOD(ABS(J11),10000)/100) & "s " & ROUND(MOD(ABS(J11),100),0) & "c" -> 0g 28s 50c | N11: =D11 -> Coarse Grinding Stone
B12: =IF(C12=0, Config!$B$15*Config!$B$20*Config!$B$50, IF(C12=1, Config!$B$15*Config!$B$21*Config!$B$51, IF(C12=2, Config!$B$15*Config!$B$22*Config!$B$52, IF(C12=3, Config!$B$15*Config!$B$23*Config!$B$53, IF(C12=4, Config!$B$15*Config!$B$24*Config!$B$54, IF(C12=5, Config!$B$15*Config!$B$25*Config!$B$55, IF(C12=6, Config!$B$15*Config!$B$26*Config!$B$56, IF(C12=7, Config!$B$15*Config!$B$27*Config!$B$57, "")))))))) -> 0.8 | C12: 1 | D12: Bronze Bar | E12: 50 | F12: 20 | G12: =IF(E12 < Config!$B$4, Config!$B$4, E12) -> 850 | H12: =G12 * B12 * ( (LN(1 + ($A$5 * F12))^ $A$8 )/(1 + $A$2 * LN(1 + ($A$5 * F12))) + ($A$11 * LN(1 + ($A$5 * F12))^ $A$14 ) - $A$17) -> 2280.3977 | I12: =H12 * (1 - Config!$B$9) -> 1938.3381 | J12: =H12 * (1 + Config!$B$10) -> 2850.4971 | K12: =IF(I12<0,"-","") & INT(ABS(I12)/10000) & "g " & INT(MOD(ABS(I12),10000)/100) & "s " & ROUND(MOD(ABS(I12),100),0) & "c" -> 0g 19s 38c | L12: =IF(H12<0,"-","") & INT(ABS(H12)/10000) & "g " & INT(MOD(ABS(H12),10000)/100) & "s " & ROUND(MOD(ABS(H12),100),0) & "c" -> 0g 22s 80c | M12: =IF(J12<0,"-","") & INT(ABS(J12)/10000) & "g " & INT(MOD(ABS(J12),10000)/100) & "s " & ROUND(MOD(ABS(J12),100),0) & "c" -> 0g 28s 50c | N12: =D12 -> Bronze Bar
A13: r | B13: =IF(C13=0, Config!$B$15*Config!$B$20*Config!$B$50, IF(C13=1, Config!$B$15*Config!$B$21*Config!$B$51, IF(C13=2, Config!$B$15*Config!$B$22*Config!$B$52, IF(C13=3, Config!$B$15*Config!$B$23*Config!$B$53, IF(C13=4, Config!$B$15*Config!$B$24*Config!$B$54, IF(C13=5, Config!$B$15*Config!$B$25*Config!$B$55, IF(C13=6, Config!$B$15*Config!$B$26*Config!$B$56, IF(C13=7, Config!$B$15*Config!$B$27*Config!$B$57, "")))))))) -> 0.8 | C13: 1 | D13: Heavy Grinding Stone | E13: 100 | F13: 25 | G13: =IF(E13 < Config!$B$4, Config!$B$4, E13) -> 850 | H13: =G13 * B13 * ( (LN(1 + ($A$5 * F13))^ $A$8 )/(1 + $A$2 * LN(1 + ($A$5 * F13))) + ($A$11 * LN(1 + ($A$5 * F13))^ $A$14 ) - $A$17) -> 2678.7849 | I13: =H13 * (1 - Config!$B$9) -> 2276.9672 | J13: =H13 * (1 + Config!$B$10) -> 3348.4811 | K13: =IF(I13<0,"-","") & INT(ABS(I13)/10000) & "g " & INT(MOD(ABS(I13),10000)/100) & "s " & ROUND(MOD(ABS(I13),100),0) & "c" -> 0g 22s 77c | L13: =IF(H13<0,"-","") & INT(ABS(H13)/10000) & "g " & INT(MOD(ABS(H13),10000)/100) & "s " & ROUND(MOD(ABS(H13),100),0) & "c" -> 0g 26s 79c | M13: =IF(J13<0,"-","") & INT(ABS(J13)/10000) & "g " & INT(MOD(ABS(J13),10000)/100) & "s " & ROUND(MOD(ABS(J13),100),0) & "c" -> 0g 33s 48c | N13: =D13 -> Heavy Grinding Stone
A14: 3.5 | B14: =IF(C14=0, Config!$B$15*Config!$B$20*Config!$B$50, IF(C14=1, Config!$B$15*Config!$B$21*Config!$B$51, IF(C14=2, Config!$B$15*Config!$B$22*Config!$B$52, IF(C14=3, Config!$B$15*Config!$B$23*Config!$B$53, IF(C14=4, Config!$B$15*Config!$B$24*Config!$B$54, IF(C14=5, Config!$B$15*Config!$B$25*Config!$B$55, IF(C14=6, Config!$B$15*Config!$B$26*Config!$B$56, IF(C14=7, Config!$B$15*Config!$B$27*Config!$B$57, "")))))))) -> 0.8 | C14: 1 | D14: Heavy Stone | E14: 60 | F14: 25 | G14: =IF(E14 < Config!$B$4, Config!$B$4, E14) -> 850 | H14: =G14 * B14 * ( (LN(1 + ($A$5 * F14))^ $A$8 )/(1 + $A$2 * LN(1 + ($A$5 * F14))) + ($A$11 * LN(1 + ($A$5 * F14))^ $A$14 ) - $A$17) -> 2678.7849 | I14: =H14 * (1 - Config!$B$9) -> 2276.9672 | J14: =H14 * (1 + Config!$B$10) -> 3348.4811 | K14: =IF(I14<0,"-","") & INT(ABS(I14)/10000) & "g " & INT(MOD(ABS(I14),10000)/100) & "s " & ROUND(MOD(ABS(I14),100),0) & "c" -> 0g 22s 77c | L14: =IF(H14<0,"-","") & INT(ABS(H14)/10000) & "g " & INT(MOD(ABS(H14),10000)/100) & "s " & ROUND(MOD(ABS(H14),100),0) & "c" -> 0g 26s 79c | M14: =IF(J14<0,"-","") & INT(ABS(J14)/10000) & "g " & INT(MOD(ABS(J14),10000)/100) & "s " & ROUND(MOD(ABS(J14),100),0) & "c" -> 0g 33s 48c | N14: =D14 -> Heavy Stone
B15: =IF(C15=0, Config!$B$15*Config!$B$20*Config!$B$50, IF(C15=1, Config!$B$15*Config!$B$21*Config!$B$51, IF(C15=2, Config!$B$15*Config!$B$22*Config!$B$52, IF(C15=3, Config!$B$15*Config!$B$23*Config!$B$53, IF(C15=4, Config!$B$15*Config!$B$24*Config!$B$54, IF(C15=5, Config!$B$15*Config!$B$25*Config!$B$55, IF(C15=6, Config!$B$15*Config!$B$26*Config!$B$56, IF(C15=7, Config!$B$15*Config!$B$27*Config!$B$57, "")))))))) -> 2.16 | C15: 2 | D15: Gold Ore | E15: 500 | F15: 25 | G15: =IF(E15 < Config!$B$4, Config!$B$4, E15) -> 850 | H15: =G15 * B15 * ( (LN(1 + ($A$5 * F15))^ $A$8 )/(1 + $A$2 * LN(1 + ($A$5 * F15))) + ($A$11 * LN(1 + ($A$5 * F15))^ $A$14 ) - $A$17) -> 7232.7192 | I15: =H15 * (1 - Config!$B$9) -> 6147.8114 | J15: =H15 * (1 + Config!$B$10) -> 9040.8991 | K15: =IF(I15<0,"-","") & INT(ABS(I15)/10000) & "g " & INT(MOD(ABS(I15),10000)/100) & "s " & ROUND(MOD(ABS(I15),100),0) & "c" -> 0g 61s 48c | L15: =IF(H15<0,"-","") & INT(ABS(H15)/10000) & "g " & INT(MOD(ABS(H15),10000)/100) & "s " & ROUND(MOD(ABS(H15),100),0) & "c" -> 0g 72s 33c | M15: =IF(J15<0,"-","") & INT(ABS(J15)/10000) & "g " & INT(MOD(ABS(J15),10000)/100) & "s " & ROUND(MOD(ABS(J15),100),0) & "c" -> 0g 90s 41c | N15: =D15 -> Gold Ore
A16: offset | B16: =IF(C16=0, Config!$B$15*Config!$B$20*Config!$B$50, IF(C16=1, Config!$B$15*Config!$B$21*Config!$B$51, IF(C16=2, Config!$B$15*Config!$B$22*Config!$B$52, IF(C16=3, Config!$B$15*Config!$B$23*Config!$B$53, IF(C16=4, Config!$B$15*Config!$B$24*Config!$B$54, IF(C16=5, Config!$B$15*Config!$B$25*Config!$B$55, IF(C16=6, Config!$B$15*Config!$B$26*Config!$B$56, IF(C16=7, Config!$B$15*Config!$B$27*Config!$B$57, "")))))))) -> 0.8 | C16: 1 | D16: Iron Bar | E16: 200 | F16: 30 | G16: =IF(E16 < Config!$B$4, Config!$B$4, E16) -> 850 | H16: =G16 * B16 * ( (LN(1 + ($A$5 * F16))^ $A$8 )/(1 + $A$2 * LN(1 + ($A$5 * F16))) + ($A$11 * LN(1 + ($A$5 * F16))^ $A$14 ) - $A$17) -> 3016.0343 | I16: =H16 * (1 - Config!$B$9) -> 2563.6292 | J16: =H16 * (1 + Config!$B$10) -> 3770.0429 | K16: =IF(I16<0,"-","") & INT(ABS(I16)/10000) & "g " & INT(MOD(ABS(I16),10000)/100) & "s " & ROUND(MOD(ABS(I16),100),0) & "c" -> 0g 25s 64c | L16: =IF(H16<0,"-","") & INT(ABS(H16)/10000) & "g " & INT(MOD(ABS(H16),10000)/100) & "s " & ROUND(MOD(ABS(H16),100),0) & "c" -> 0g 30s 16c | M16: =IF(J16<0,"-","") & INT(ABS(J16)/10000) & "g " & INT(MOD(ABS(J16),10000)/100) & "s " & ROUND(MOD(ABS(J16),100),0) & "c" -> 0g 37s 70c | N16: =D16 -> Iron Bar
A17: 5.2 | B17: =IF(C17=0, Config!$B$15*Config!$B$20*Config!$B$50, IF(C17=1, Config!$B$15*Config!$B$21*Config!$B$51, IF(C17=2, Config!$B$15*Config!$B$22*Config!$B$52, IF(C17=3, Config!$B$15*Config!$B$23*Config!$B$53, IF(C17=4, Config!$B$15*Config!$B$24*Config!$B$54, IF(C17=5, Config!$B$15*Config!$B$25*Config!$B$55, IF(C17=6, Config!$B$15*Config!$B$26*Config!$B$56, IF(C17=7, Config!$B$15*Config!$B$27*Config!$B$57, "")))))))) -> 2.16 | C17: 2 | D17: Gold Bar | E17: 600 | F17: 30 | G17: =IF(E17 < Config!$B$4, Config!$B$4, E17) -> 850 | H17: =G17 * B17 * ( (LN(1 + ($A$5 * F17))^ $A$8 )/(1 + $A$2 * LN(1 + ($A$5 * F17))) + ($A$11 * LN(1 + ($A$5 * F17))^ $A$14 ) - $A$17) -> 8143.2927 | I17: =H17 * (1 - Config!$B$9) -> 6921.7988 | J17: =H17 * (1 + Config!$B$10) -> 10179.116 | K17: =IF(I17<0,"-","") & INT(ABS(I17)/10000) & "g " & INT(MOD(ABS(I17),10000)/100) & "s " & ROUND(MOD(ABS(I17),100),0) & "c" -> 0g 69s 22c | L17: =IF(H17<0,"-","") & INT(ABS(H17)/10000) & "g " & INT(MOD(ABS(H17),10000)/100) & "s " & ROUND(MOD(ABS(H17),100),0) & "c" -> 0g 81s 43c | M17: =IF(J17<0,"-","") & INT(ABS(J17)/10000) & "g " & INT(MOD(ABS(J17),10000)/100) & "s " & ROUND(MOD(ABS(J17),100),0) & "c" -> 1g 1s 79c | N17: =D17 -> Gold Bar
B18: =IF(C18=0, Config!$B$15*Config!$B$20*Config!$B$50, IF(C18=1, Config!$B$15*Config!$B$21*Config!$B$51, IF(C18=2, Config!$B$15*Config!$B$22*Config!$B$52, IF(C18=3, Config!$B$15*Config!$B$23*Config!$B$53, IF(C18=4, Config!$B$15*Config!$B$24*Config!$B$54, IF(C18=5, Config!$B$15*Config!$B$25*Config!$B$55, IF(C18=6, Config!$B$15*Config!$B$26*Config!$B$56, IF(C18=7, Config!$B$15*Config!$B$27*Config!$B$57, "")))))))) -> 0.8 | C18: 1 | D18: Coal | E18: 125 | F18: 30 | G18: =IF(E18 < Config!$B$4, Config!$B$4, E18) -> 850 | H18: =G18 * B18 * ( (LN(1 + ($A$5 * F18))^ $A$8 )/(1 + $A$2 * LN(1 + ($A$5 * F18))) + ($A$11 * LN(1 + ($A$5 * F18))^ $A$14 ) - $A$17) -> 3016.0343 | I18: =H18 * (1 - Config!$B$9) -> 2563.6292 | J18: =H18 * (1 + Config!$B$10) -> 3770.0429 | K18: =IF(I18<0,"-","") & INT(ABS(I18)/10000) & "g " & INT(MOD(ABS(I18),10000)/100) & "s " & ROUND(MOD(ABS(I18),100),0) & "c" -> 0g 25s 64c | L18: =IF(H18<0,"-","") & INT(ABS(H18)/10000) & "g " & INT(MOD(ABS(H18),10000)/100) & "s " & ROUND(MOD(ABS(H18),100),0) & "c" -> 0g 30s 16c | M18: =IF(J18<0,"-","") & INT(ABS(J18)/10000) & "g " & INT(MOD(ABS(J18),10000)/100) & "s " & ROUND(MOD(ABS(J18),100),0) & "c" -> 0g 37s 70c | N18: =D18 -> Coal
B19: =IF(C19=0, Config!$B$15*Config!$B$20*Config!$B$50, IF(C19=1, Config!$B$15*Config!$B$21*Config!$B$51, IF(C19=2, Config!$B$15*Config!$B$22*Config!$B$52, IF(C19=3, Config!$B$15*Config!$B$23*Config!$B$53, IF(C19=4, Config!$B$15*Config!$B$24*Config!$B$54, IF(C19=5, Config!$B$15*Config!$B$25*Config!$B$55, IF(C19=6, Config!$B$15*Config!$B$26*Config!$B$56, IF(C19=7, Config!$B$15*Config!$B$27*Config!$B$57, "")))))))) -> 0.8 | C19: 1 | D19: Iron Ore | E19: 150 | F19: 30 | G19: =IF(E19 < Config!$B$4, Config!$B$4, E19) -> 850 | H19: =G19 * B19 * ( (LN(1 + ($A$5 * F19))^ $A$8 )/(1 + $A$2 * LN(1 + ($A$5 * F19))) + ($A$11 * LN(1 + ($A$5 * F19))^ $A$14 ) - $A$17) -> 3016.0343 | I19: =H19 * (1 - Config!$B$9) -> 2563.6292 | J19: =H19 * (1 + Config!$B$10) -> 3770.0429 | K19: =IF(I19<0,"-","") & INT(ABS(I19)/10000) & "g " & INT(MOD(ABS(I19),10000)/100) & "s " & ROUND(MOD(ABS(I19),100),0) & "c" -> 0g 25s 64c | L19: =IF(H19<0,"-","") & INT(ABS(H19)/10000) & "g " & INT(MOD(ABS(H19),10000)/100) & "s " & ROUND(MOD(ABS(H19),100),0) & "c" -> 0g 30s 16c | M19: =IF(J19<0,"-","") & INT(ABS(J19)/10000) & "g " & INT(MOD(ABS(J19),10000)/100) & "s " & ROUND(MOD(ABS(J19),100),0) & "c" -> 0g 37s 70c | N19: =D19 -> Iron Ore
B20: =IF(C20=0, Config!$B$15*Config!$B$20*Config!$B$50, IF(C20=1, Config!$B$15*Config!$B$21*Config!$B$51, IF(C20=2, Config!$B$15*Config!$B$22*Config!$B$52, IF(C20=3, Config!$B$15*Config!$B$23*Config!$B$53, IF(C20=4, Config!$B$15*Config!$B$24*Config!$B$54, IF(C20=5, Config!$B$15*Config!$B$25*Config!$B$55, IF(C20=6, Config!$B$15*Config!$B$26*Config!$B$56, IF(C20=7, Config!$B$15*Config!$B$27*Config!$B$57, "")))))))) -> 0.8 | C20: 1 | D20: Steel Bar | E20: 60 | F20: 35 | G20: =IF(E20 < Config!$B$4, Config!$B$4, E20) -> 850 | H20: =G20 * B20 * ( (LN(1 + ($A$5 * F20))^ $A$8 )/(1 + $A$2 * LN(1 + ($A$5 * F20))) + ($A$11 * LN(1 + ($A$5 * F20))^ $A$14 ) - $A$17) -> 3309.5309 | I20: =H20 * (1 - Config!$B$9) -> 2813.1013 | J20: =H20 * (1 + Config!$B$10) -> 4136.9136 | K20: =IF(I20<0,"-","") & INT(ABS(I20)/10000) & "g " & INT(MOD(ABS(I20),10000)/100) & "s " & ROUND(MOD(ABS(I20),100),0) & "c" -> 0g 28s 13c | L20: =IF(H20<0,"-","") & INT(ABS(H20)/10000) & "g " & INT(MOD(ABS(H20),10000)/100) & "s " & ROUND(MOD(ABS(H20),100),0) & "c" -> 0g 33s 10c | M20: =IF(J20<0,"-","") & INT(ABS(J20)/10000) & "g " & INT(MOD(ABS(J20),10000)/100) & "s " & ROUND(MOD(ABS(J20),100),0) & "c" -> 0g 41s 37c | N20: =D20 -> Steel Bar
B21: =IF(C21=0, Config!$B$15*Config!$B$20*Config!$B$50, IF(C21=1, Config!$B$15*Config!$B$21*Config!$B$51, IF(C21=2, Config!$B$15*Config!$B$22*Config!$B$52, IF(C21=3, Config!$B$15*Config!$B$23*Config!$B$53, IF(C21=4, Config!$B$15*Config!$B$24*Config!$B$54, IF(C21=5, Config!$B$15*Config!$B$25*Config!$B$55, IF(C21=6, Config!$B$15*Config!$B$26*Config!$B$56, IF(C21=7, Config!$B$15*Config!$B$27*Config!$B$57, "")))))))) -> 0.8 | C21: 1 | D21: Solid Grinding Stone | E21: 200 | F21: 35 | G21: =IF(E21 < Config!$B$4, Config!$B$4, E21) -> 850 | H21: =G21 * B21 * ( (LN(1 + ($A$5 * F21))^ $A$8 )/(1 + $A$2 * LN(1 + ($A$5 * F21))) + ($A$11 * LN(1 + ($A$5 * F21))^ $A$14 ) - $A$17) -> 3309.5309 | I21: =H21 * (1 - Config!$B$9) -> 2813.1013 | J21: =H21 * (1 + Config!$B$10) -> 4136.9136 | K21: =IF(I21<0,"-","") & INT(ABS(I21)/10000) & "g " & INT(MOD(ABS(I21),10000)/100) & "s " & ROUND(MOD(ABS(I21),100),0) & "c" -> 0g 28s 13c | L21: =IF(H21<0,"-","") & INT(ABS(H21)/10000) & "g " & INT(MOD(ABS(H21),10000)/100) & "s " & ROUND(MOD(ABS(H21),100),0) & "c" -> 0g 33s 10c | M21: =IF(J21<0,"-","") & INT(ABS(J21)/10000) & "g " & INT(MOD(ABS(J21),10000)/100) & "s " & ROUND(MOD(ABS(J21),100),0) & "c" -> 0g 41s 37c | N21: =D21 -> Solid Grinding Stone
B22: =IF(C22=0, Config!$B$15*Config!$B$20*Config!$B$50, IF(C22=1, Config!$B$15*Config!$B$21*Config!$B$51, IF(C22=2, Config!$B$15*Config!$B$22*Config!$B$52, IF(C22=3, Config!$B$15*Config!$B$23*Config!$B$53, IF(C22=4, Config!$B$15*Config!$B$24*Config!$B$54, IF(C22=5, Config!$B$15*Config!$B$25*Config!$B$55, IF(C22=6, Config!$B$15*Config!$B$26*Config!$B$56, IF(C22=7, Config!$B$15*Config!$B$27*Config!$B$57, "")))))))) -> 0.8 | C22: 1 | D22: Solid Stone | E22: 100 | F22: 35 | G22: =IF(E22 < Config!$B$4, Config!$B$4, E22) -> 850 | H22: =G22 * B22 * ( (LN(1 + ($A$5 * F22))^ $A$8 )/(1 + $A$2 * LN(1 + ($A$5 * F22))) + ($A$11 * LN(1 + ($A$5 * F22))^ $A$14 ) - $A$17) -> 3309.5309 | I22: =H22 * (1 - Config!$B$9) -> 2813.1013 | J22: =H22 * (1 + Config!$B$10) -> 4136.9136 | K22: =IF(I22<0,"-","") & INT(ABS(I22)/10000) & "g " & INT(MOD(ABS(I22),10000)/100) & "s " & ROUND(MOD(ABS(I22),100),0) & "c" -> 0g 28s 13c | L22: =IF(H22<0,"-","") & INT(ABS(H22)/10000) & "g " & INT(MOD(ABS(H22),10000)/100) & "s " & ROUND(MOD(ABS(H22),100),0) & "c" -> 0g 33s 10c | M22: =IF(J22<0,"-","") & INT(ABS(J22)/10000) & "g " & INT(MOD(ABS(J22),10000)/100) & "s " & ROUND(MOD(ABS(J22),100),0) & "c" -> 0g 41s 37c | N22: =D22 -> Solid Stone
B23: =IF(C23=0, Config!$B$15*Config!$B$20*Config!$B$50, IF(C23=1, Config!$B$15*Config!$B$21*Config!$B$51, IF(C23=2, Config!$B$15*Config!$B$22*Config!$B$52, IF(C23=3, Config!$B$15*Config!$B$23*Config!$B$53, IF(C23=4, Config!$B$15*Config!$B$24*Config!$B$54, IF(C23=5, Config!$B$15*Config!$B$25*Config!$B$55, IF(C23=6, Config!$B$15*Config!$B$26*Config!$B$56, IF(C23=7, Config!$B$15*Config!$B$27*Config!$B$57, "")))))))) -> 2.16 | C23: 2 | D23: Truesilver Ore | E23: 500 | F23: 40 | G23: =IF(E23 < Config!$B$4, Config!$B$4, E23) -> 850 | H23: =G23 * B23 * ( (LN(1 + ($A$5 * F23))^ $A$8 )/(1 + $A$2 * LN(1 + ($A$5 * F23))) + ($A$11 * LN(1 + ($A$5 * F23))^ $A$14 ) - $A$17) -> 9639.0856 | I23: =H23 * (1 - Config!$B$9) -> 8193.2228 | J23: =H23 * (1 + Config!$B$10) -> 12048.857 | K23: =IF(I23<0,"-","") & INT(ABS(I23)/10000) & "g " & INT(MOD(ABS(I23),10000)/100) & "s " & ROUND(MOD(ABS(I23),100),0) & "c" -> 0g 81s 93c | L23: =IF(H23<0,"-","") & INT(ABS(H23)/10000) & "g " & INT(MOD(ABS(H23),10000)/100) & "s " & ROUND(MOD(ABS(H23),100),0) & "c" -> 0g 96s 39c | M23: =IF(J23<0,"-","") & INT(ABS(J23)/10000) & "g " & INT(MOD(ABS(J23),10000)/100) & "s " & ROUND(MOD(ABS(J23),100),0) & "c" -> 1g 20s 49c | N23: =D23 -> Truesilver Ore
B24: =IF(C24=0, Config!$B$15*Config!$B$20*Config!$B$50, IF(C24=1, Config!$B$15*Config!$B$21*Config!$B$51, IF(C24=2, Config!$B$15*Config!$B$22*Config!$B$52, IF(C24=3, Config!$B$15*Config!$B$23*Config!$B$53, IF(C24=4, Config!$B$15*Config!$B$24*Config!$B$54, IF(C24=5, Config!$B$15*Config!$B$25*Config!$B$55, IF(C24=6, Config!$B$15*Config!$B$26*Config!$B$56, IF(C24=7, Config!$B$15*Config!$B$27*Config!$B$57, "")))))))) -> 0.8 | C24: 1 | D24: Thorium Ore | E24: 250 | F24: 40 | G24: =IF(E24 < Config!$B$4, Config!$B$4, E24) -> 850 | H24: =G24 * B24 * ( (LN(1 + ($A$5 * F24))^ $A$8 )/(1 + $A$2 * LN(1 + ($A$5 * F24))) + ($A$11 * LN(1 + ($A$5 * F24))^ $A$14 ) - $A$17) -> 3570.0317 | I24: =H24 * (1 - Config!$B$9) -> 3034.527 | J24: =H24 * (1 + Config!$B$10) -> 4462.5396 | K24: =IF(I24<0,"-","") & INT(ABS(I24)/10000) & "g " & INT(MOD(ABS(I24),10000)/100) & "s " & ROUND(MOD(ABS(I24),100),0) & "c" -> 0g 30s 35c | L24: =IF(H24<0,"-","") & INT(ABS(H24)/10000) & "g " & INT(MOD(ABS(H24),10000)/100) & "s " & ROUND(MOD(ABS(H24),100),0) & "c" -> 0g 35s 70c | M24: =IF(J24<0,"-","") & INT(ABS(J24)/10000) & "g " & INT(MOD(ABS(J24),10000)/100) & "s " & ROUND(MOD(ABS(J24),100),0) & "c" -> 0g 44s 63c | N24: =D24 -> Thorium Ore
B25: =IF(C25=0, Config!$B$15*Config!$B$20*Config!$B$50, IF(C25=1, Config!$B$15*Config!$B$21*Config!$B$51, IF(C25=2, Config!$B$15*Config!$B$22*Config!$B$52, IF(C25=3, Config!$B$15*Config!$B$23*Config!$B$53, IF(C25=4, Config!$B$15*Config!$B$24*Config!$B$54, IF(C25=5, Config!$B$15*Config!$B$25*Config!$B$55, IF(C25=6, Config!$B$15*Config!$B$26*Config!$B$56, IF(C25=7, Config!$B$15*Config!$B$27*Config!$B$57, "")))))))) -> 0.8 | C25: 1 | D25: Mithril Bar | E25: 400 | F25: 40 | G25: =IF(E25 < Config!$B$4, Config!$B$4, E25) -> 850 | H25: =G25 * B25 * ( (LN(1 + ($A$5 * F25))^ $A$8 )/(1 + $A$2 * LN(1 + ($A$5 * F25))) + ($A$11 * LN(1 + ($A$5 * F25))^ $A$14 ) - $A$17) -> 3570.0317 | I25: =H25 * (1 - Config!$B$9) -> 3034.527 | J25: =H25 * (1 + Config!$B$10) -> 4462.5396 | K25: =IF(I25<0,"-","") & INT(ABS(I25)/10000) & "g " & INT(MOD(ABS(I25),10000)/100) & "s " & ROUND(MOD(ABS(I25),100),0) & "c" -> 0g 30s 35c | L25: =IF(H25<0,"-","") & INT(ABS(H25)/10000) & "g " & INT(MOD(ABS(H25),10000)/100) & "s " & ROUND(MOD(ABS(H25),100),0) & "c" -> 0g 35s 70c | M25: =IF(J25<0,"-","") & INT(ABS(J25)/10000) & "g " & INT(MOD(ABS(J25),10000)/100) & "s " & ROUND(MOD(ABS(J25),100),0) & "c" -> 0g 44s 63c | N25: =D25 -> Mithril Bar
B26: =IF(C26=0, Config!$B$15*Config!$B$20*Config!$B$50, IF(C26=1, Config!$B$15*Config!$B$21*Config!$B$51, IF(C26=2, Config!$B$15*Config!$B$22*Config!$B$52, IF(C26=3, Config!$B$15*Config!$B$23*Config!$B$53, IF(C26=4, Config!$B$15*Config!$B$24*Config!$B$54, IF(C26=5, Config!$B$15*Config!$B$25*Config!$B$55, IF(C26=6, Config!$B$15*Config!$B$26*Config!$B$56, IF(C26=7, Config!$B$15*Config!$B$27*Config!$B$57, "")))))))) -> 0.8 | C26: 1 | D26: Mithril Ore | E26: 250 | F26: 40 | G26: =IF(E26 < Config!$B$4, Config!$B$4, E26) -> 850 | H26: =G26 * B26 * ( (LN(1 + ($A$5 * F26))^ $A$8 )/(1 + $A$2 * LN(1 + ($A$5 * F26))) + ($A$11 * LN(1 + ($A$5 * F26))^ $A$14 ) - $A$17) -> 3570.0317 | I26: =H26 * (1 - Config!$B$9) -> 3034.527 | J26: =H26 * (1 + Config!$B$10) -> 4462.5396 | K26: =IF(I26<0,"-","") & INT(ABS(I26)/10000) & "g " & INT(MOD(ABS(I26),10000)/100) & "s " & ROUND(MOD(ABS(I26),100),0) & "c" -> 0g 30s 35c | L26: =IF(H26<0,"-","") & INT(ABS(H26)/10000) & "g " & INT(MOD(ABS(H26),10000)/100) & "s " & ROUND(MOD(ABS(H26),100),0) & "c" -> 0g 35s 70c | M26: =IF(J26<0,"-","") & INT(ABS(J26)/10000) & "g " & INT(MOD(ABS(J26),10000)/100) & "s " & ROUND(MOD(ABS(J26),100),0) & "c" -> 0g 44s 63c | N26: =D26 -> Mithril Ore
B27: =IF(C27=0, Config!$B$15*Config!$B$20*Config!$B$50, IF(C27=1, Config!$B$15*Config!$B$21*Config!$B$51, IF(C27=2, Config!$B$15*Config!$B$22*Config!$B$52, IF(C27=3, Config!$B$15*Config!$B$23*Config!$B$53, IF(C27=4, Config!$B$15*Config!$B$24*Config!$B$54, IF(C27=5, Config!$B$15*Config!$B$25*Config!$B$55, IF(C27=6, Config!$B$15*Config!$B$26*Config!$B$56, IF(C27=7, Config!$B$15*Config!$B$27*Config!$B$57, "")))))))) -> 0.8 | C27: 1 | D27: Blacksteel Bar | E27: 125 | F27: 45 | G27: =IF(E27 < Config!$B$4, Config!$B$4, E27) -> 850 | H27: =G27 * B27 * ( (LN(1 + ($A$5 * F27))^ $A$8 )/(1 + $A$2 * LN(1 + ($A$5 * F27))) + ($A$11 * LN(1 + ($A$5 * F27))^ $A$14 ) - $A$17) -> 3804.6849 | I27: =H27 * (1 - Config!$B$9) -> 3233.9822 | J27: =H27 * (1 + Config!$B$10) -> 4755.8561 | K27: =IF(I27<0,"-","") & INT(ABS(I27)/10000) & "g " & INT(MOD(ABS(I27),10000)/100) & "s " & ROUND(MOD(ABS(I27),100),0) & "c" -> 0g 32s 34c | L27: =IF(H27<0,"-","") & INT(ABS(H27)/10000) & "g " & INT(MOD(ABS(H27),10000)/100) & "s " & ROUND(MOD(ABS(H27),100),0) & "c" -> 0g 38s 5c | M27: =IF(J27<0,"-","") & INT(ABS(J27)/10000) & "g " & INT(MOD(ABS(J27),10000)/100) & "s " & ROUND(MOD(ABS(J27),100),0) & "c" -> 0g 47s 56c | N27: =D27 -> Blacksteel Bar
B28: =IF(C28=0, Config!$B$15*Config!$B$20*Config!$B$50, IF(C28=1, Config!$B$15*Config!$B$21*Config!$B$51, IF(C28=2, Config!$B$15*Config!$B$22*Config!$B$52, IF(C28=3, Config!$B$15*Config!$B$23*Config!$B$53, IF(C28=4, Config!$B$15*Config!$B$24*Config!$B$54, IF(C28=5, Config!$B$15*Config!$B$25*Config!$B$55, IF(C28=6, Config!$B$15*Config!$B$26*Config!$B$56, IF(C28=7, Config!$B$15*Config!$B$27*Config!$B$57, "")))))))) -> 0.8 | C28: 1 | D28: Dense Stone | E28: 250 | F28: 45 | G28: =IF(E28 < Config!$B$4, Config!$B$4, E28) -> 850 | H28: =G28 * B28 * ( (LN(1 + ($A$5 * F28))^ $A$8 )/(1 + $A$2 * LN(1 + ($A$5 * F28))) + ($A$11 * LN(1 + ($A$5 * F28))^ $A$14 ) - $A$17) -> 3804.6849 | I28: =H28 * (1 - Config!$B$9) -> 3233.9822 | J28: =H28 * (1 + Config!$B$10) -> 4755.8561 | K28: =IF(I28<0,"-","") & INT(ABS(I28)/10000) & "g " & INT(MOD(ABS(I28),10000)/100) & "s " & ROUND(MOD(ABS(I28),100),0) & "c" -> 0g 32s 34c | L28: =IF(H28<0,"-","") & INT(ABS(H28)/10000) & "g " & INT(MOD(ABS(H28),10000)/100) & "s " & ROUND(MOD(ABS(H28),100),0) & "c" -> 0g 38s 5c | M28: =IF(J28<0,"-","") & INT(ABS(J28)/10000) & "g " & INT(MOD(ABS(J28),10000)/100) & "s " & ROUND(MOD(ABS(J28),100),0) & "c" -> 0g 47s 56c | N28: =D28 -> Dense Stone
B29: =IF(C29=0, Config!$B$15*Config!$B$20*Config!$B$50, IF(C29=1, Config!$B$15*Config!$B$21*Config!$B$51, IF(C29=2, Config!$B$15*Config!$B$22*Config!$B$52, IF(C29=3, Config!$B$15*Config!$B$23*Config!$B$53, IF(C29=4, Config!$B$15*Config!$B$24*Config!$B$54, IF(C29=5, Config!$B$15*Config!$B$25*Config!$B$55, IF(C29=6, Config!$B$15*Config!$B$26*Config!$B$56, IF(C29=7, Config!$B$15*Config!$B$27*Config!$B$57, "")))))))) -> 0.8 | C29: 1 | D29: Dense Grinding Stone | E29: 200 | F29: 45 | G29: =IF(E29 < Config!$B$4, Config!$B$4, E29) -> 850 | H29: =G29 * B29 * ( (LN(1 + ($A$5 * F29))^ $A$8 )/(1 + $A$2 * LN(1 + ($A$5 * F29))) + ($A$11 * LN(1 + ($A$5 * F29))^ $A$14 ) - $A$17) -> 3804.6849 | I29: =H29 * (1 - Config!$B$9) -> 3233.9822 | J29: =H29 * (1 + Config!$B$10) -> 4755.8561 | K29: =IF(I29<0,"-","") & INT(ABS(I29)/10000) & "g " & INT(MOD(ABS(I29),10000)/100) & "s " & ROUND(MOD(ABS(I29),100),0) & "c" -> 0g 32s 34c | L29: =IF(H29<0,"-","") & INT(ABS(H29)/10000) & "g " & INT(MOD(ABS(H29),10000)/100) & "s " & ROUND(MOD(ABS(H29),100),0) & "c" -> 0g 38s 5c | M29: =IF(J29<0,"-","") & INT(ABS(J29)/10000) & "g " & INT(MOD(ABS(J29),10000)/100) & "s " & ROUND(MOD(ABS(J29),100),0) & "c" -> 0g 47s 56c | N29: =D29 -> Dense Grinding Stone
... B62: =IF(C62=0, Config!$B$15*Config!$B$20*Config!$B$50, IF(C62=1, Config!$B$15*Config!$B$21*Config!$B$51, IF(C62=2, Config!$B$15*Config!$B$22*Config!$B$52, IF(C62=3, Config!$B$15*Config!$B$23*Config!$B$53, IF(C62=4, Config!$B$15*Config!$B$24*Config!$B$54, IF(C62=5, Config!$B$15*Config!$B$25*Config!$B$55, IF(C62=6, Config!$B$15*Config!$B$26*Config!$B$56, IF(C62=7, Config!$B$15*Config!$B$27*Config!$B$57, "")))))))) -> 2.16 | C62: 2 | D62: Titanium Bar | E62: 18750 | F62: 80 | G62: =IF(E62 < Config!$B$4, Config!$B$4, E62) -> 18750 | H62: =G62 * B62 * ( (LN(1 + ($A$5 * F62))^ $A$8 )/(1 + $A$2 * LN(1 + ($A$5 * F62))) + ($A$11 * LN(1 + ($A$5 * F62))^ $A$14 ) - $A$17) -> 298867.52 | I62: =H62 * (1 - Config!$B$9) -> 254037.39 | J62: =H62 * (1 + Config!$B$10) -> 373584.4 | K62: =IF(I62<0,"-","") & INT(ABS(I62)/10000) & "g " & INT(MOD(ABS(I62),10000)/100) & "s " & ROUND(MOD(ABS(I62),100),0) & "c" -> 25g 40s 37c | L62: =IF(H62<0,"-","") & INT(ABS(H62)/10000) & "g " & INT(MOD(ABS(H62),10000)/100) & "s " & ROUND(MOD(ABS(H62),100),0) & "c" -> 29g 88s 68c | M62: =IF(J62<0,"-","") & INT(ABS(J62)/10000) & "g " & INT(MOD(ABS(J62),10000)/100) & "s " & ROUND(MOD(ABS(J62),100),0) & "c" -> 37g 35s 84c | N62: =D62 -> Titanium Bar

Sheet Meat
A1: a | B1: Quality Multiplier | C1: Quality | D1: NAME | E1: vendor price | F1: itemLevel | G1: Min Price | H1: Avg Price | I1: Low | J1: High | K1: Low End | L1: Average | M1: High End | N1: NAME
A2: 2 | B2: =IF(C2=0, Config!$B$15*Config!$B$20*Config!$B$50, IF(C2=1, Config!$B$15*Config!$B$21*Config!$B$51, IF(C2=2, Config!$B$15*Config!$B$22*Config!$B$52, IF(C2=3, Config!$B$15*Config!$B$23*Config!$B$53, IF(C2=4, Config!$B$15*Config!$B$24*Config!$B$54, IF(C2=5, Config!$B$15*Config!$B$25*Config!$B$55, IF(C2=6, Config!$B$15*Config!$B$26*Config!$B$56, IF(C2=7, Config!$B$15*Config!$B$27*Config!$B$57, "")))))))) -> 0.8 | C2: 1 | D2: Chunk of Boar Meat | E2: 3 | F2: 5 | G2: =IF(E2 < Config!$B$4, Config!$B$4, E2) -> 850 | H2: =G2 * B2 * ( (LN(1 + ($A$5 * F2))^ $A$8 )/(1 + $A$2 * LN(1 + ($A$5 * F2))) + ($A$11 * LN(1 + ($A$5 * F2))^ $A$14) - $A$17) -> 400.89565 | I2: =H2 * (1 - Config!$B$9) -> 340.76131 | J2: =H2 * (1 + Config!$B$10) -> 501.11957 | K2: =IF(I2<0,"-","") & INT(ABS(I2)/10000) & "g " & INT(MOD(ABS(I2),10000)/100) & "s " & ROUND(MOD(ABS(I2),100),0) & "c" -> 0g 3s 41c | L2: =IF(H2<0,"-","") & INT(ABS(H2)/10000) & "g " & INT(MOD(ABS(H2),10000)/100) & "s " & ROUND(MOD(ABS(H2),100),0) & "c" -> 0g 4s 1c | M2: =IF(J2<0,"-","") & INT(ABS(J2)/10000) & "g " & INT(MOD(ABS(J2),10000)/100) & "s " & ROUND(MOD(ABS(J2),100),0) & "c" -> 0g 5s 1c | N2: =D2 -> Chunk of Boar Meat
B3: =IF(C3=0, Config!$B$15*Config!$B$20*Config!$B$50, IF(C3=1, Config!$B$15*Config!$B$21*Config!$B$51, IF(C3=2, Config!$B$15*Config!$B$22*Config!$B$52, IF(C3=3, Config!$B$15*Config!$B$23*Config!$B$53, IF(C3=4, Config!$B$15*Config!$B$24*Config!$B$54, IF(C3=5, Config!$B$15*Config!$B$25*Config!$B$55, IF(C3=6, Config!$B$15*Config!$B$26*Config!$B$56, IF(C3=7, Config!$B$15*Config!$B$27*Config!$B$57, "")))))))) -> 0.8 | C3: 1 | D3: Stringy Wolf Meat | E3: 4 | F3: 5 | G3: =IF(E3 < Config!$B$4, Config!$B$4, E3) -> 850 | H3: =G3 * B3 * ( (LN(1 + ($A$5 * F3))^ $A$8 )/(1 + $A$2 * LN(1 + ($A$5 * F3))) + ($A$11 * LN(1 + ($A$5 * F3))^ $A$14) - $A$17) -> 400.89565 | I3: =H3 * (1 - Config!$B$9) -> 340.76131 | J3: =H3 * (1 + Config!$B$10) -> 501.11957 | K3: =IF(I3<0,"-","") & INT(ABS(I3)/10000) & "g " & INT(MOD(ABS(I3),10000)/100) & "s " & ROUND(MOD(ABS(I3),100),0) & "c" -> 0g 3s 41c | L3: =IF(H3<0,"-","") & INT(ABS(H3)/10000) & "g " & INT(MOD(ABS(H3),10000)/100) & "s " & ROUND(MOD(ABS(H3),100),0) & "c" -> 0g 4s 1c | M3: =IF(J3<0,"-","") & INT(ABS(J3)/10000) & "g " & INT(MOD(ABS(J3),10000)/100) & "s " & ROUND(MOD(ABS(J3),100),0) & "c" -> 0g 5s 1c | N3: =D3 -> Stringy Wolf Meat
A4: b | B4: =IF(C4=0, Config!$B$15*Config!$B$20*Config!$B$50, IF(C4=1, Config!$B$15*Config!$B$21*Config!$B$51, IF(C4=2, Config!$B$15*Config!$B$22*Config!$B$52, IF(C4=3, Config!$B$15*Config!$B$23*Config!$B$53, IF(C4=4, Config!$B$15*Config!$B$24*Config!$B$54, IF(C4=5, Config!$B$15*Config!$B$25*Config!$B$55, IF(C4=6, Config!$B$15*Config!$B$26*Config!$B$56, IF(C4=7, Config!$B$15*Config!$B$27*Config!$B$57, "")))))))) -> 0.8 | C4: 1 | D4: Crag Boar Rib | E4: 5 | F4: 5 | G4: =IF(E4 < Config!$B$4, Config!$B$4, E4) -> 850 | H4: =G4 * B4 * ( (LN(1 + ($A$5 * F4))^ $A$8 )/(1 + $A$2 * LN(1 + ($A$5 * F4))) + ($A$11 * LN(1 + ($A$5 * F4))^ $A$14) - $A$17) -> 400.89565 | I4: =H4 * (1 - Config!$B$9) -> 340.76131 | J4: =H4 * (1 + Config!$B$10) -> 501.11957 | K4: =IF(I4<0,"-","") & INT(ABS(I4)/10000) & "g " & INT(MOD(ABS(I4),10000)/100) & "s " & ROUND(MOD(ABS(I4),100),0) & "c" -> 0g 3s 41c | L4: =IF(H4<0,"-","") & INT(ABS(H4)/10000) & "g " & INT(MOD(ABS(H4),10000)/100) & "s " & ROUND(MOD(ABS(H4),100),0) & "c" -> 0g 4s 1c | M4: =IF(J4<0,"-","") & INT(ABS(J4)/10000) & "g " & INT(MOD(ABS(J4),10000)/100) & "s " & ROUND(MOD(ABS(J4),100),0) & "c" -> 0g 5s 1c | N4: =D4 -> Crag Boar Rib
A5: 0.5 | B5: =IF(C5=0, Config!$B$15*Config!$B$20*Config!$B$50, IF(C5=1, Config!$B$15*Config!$B$21*Config!$B$51, IF(C5=2, Config!$B$15*Config!$B$22*Config!$B$52, IF(C5=3, Config!$B$15*Config!$B$23*Config!$B$53, IF(C5=4, Config!$B$15*Config!$B$24*Config!$B$54, IF(C5=5, Config!$B$15*Config!$B$25*Config!$B$55, IF(C5=6, Config!$B$15*Config!$B$26*Config!$B$56, IF(C5=7, Config!$B$15*Config!$B$27*Config!$B$57, "")))))))) -> 0.8 | C5: 1 | D5: Small Spider Leg | E5: 3 | F5: 5 | G5: =IF(E5 < Config!$B$4, Config!$B$4, E5) -> 850 | H5: =G5 * B5 * ( (LN(1 + ($A$5 * F5))^ $A$8 )/(1 + $A$2 * LN(1 + ($A$5 * F5))) + ($A$11 * LN(1 + ($A$5 * F5))^ $A$14) - $A$17) -> 400.89565 | I5: =H5 * (1 - Config!$B$9) -> 340.76131 | J5: =H5 * (1 + Config!$B$10) -> 501.11957 | K5: =IF(I5<0,"-","") & INT(ABS(I5)/10000) & "g " & INT(MOD(ABS(I5),10000)/100) & "s " & ROUND(MOD(ABS(I5),100),0) & "c" -> 0g 3s 41c | L5: =IF(H5<0,"-","") & INT(ABS(H5)/10000) & "g " & INT(MOD(ABS(H5),10000)/100) & "s " & ROUND(MOD(ABS(H5),100),0) & "c" -> 0g 4s 1c | M5: =IF(J5<0,"-","") & INT(ABS(J5)/10000) & "g " & INT(MOD(ABS(J5),10000)/100) & "s " & ROUND(MOD(ABS(J5),100),0) & "c" -> 0g 5s 1c | N5: =D5 -> Small Spider Leg
B6: =IF(C6=0, Config!$B$15*Config!$B$20*Config!$B$50, IF(C6=1, Config!$B$15*Config!$B$21*Config!$B$51, IF(C6=2, Config!$B$15*Config!$B$22*Config!$B$52, IF(C6=3, Config!$B$15*Config!$B$23*Config!$B$53, IF(C6=4, Config!$B$15*Config!$B$24*Config!$B$54, IF(C6=5, Config!$B$15*Config!$B$25*Config!$B$55, IF(C6=6, Config!$B$15*Config!$B$26*Config!$B$56, IF(C6=7, Config!$B$15*Config!$B$27*Config!$B$57, "")))))))) -> 0.8 | C6: 1 | D6: Raw Brilliant Smallfish | E6: 1 | F6: 5 | G6: =IF(E6 < Config!$B$4, Config!$B$4, E6) -> 850 | H6: =G6 * B6 * ( (LN(1 + ($A$5 * F6))^ $A$8 )/(1 + $A$2 * LN(1 + ($A$5 * F6))) + ($A$11 * LN(1 + ($A$5 * F6))^ $A$14) - $A$17) -> 400.89565 | I6: =H6 * (1 - Config!$B$9) -> 340.76131 | J6: =H6 * (1 + Config!$B$10) -> 501.11957 | K6: =IF(I6<0,"-","") & INT(ABS(I6)/10000) & "g " & INT(MOD(ABS(I6),10000)/100) & "s " & ROUND(MOD(ABS(I6),100),0) & "c" -> 0g 3s 41c | L6: =IF(H6<0,"-","") & INT(ABS(H6)/10000) & "g " & INT(MOD(ABS(H6),10000)/100) & "s " & ROUND(MOD(ABS(H6),100),0) & "c" -> 0g 4s 1c | M6: =IF(J6<0,"-","") & INT(ABS(J6)/10000) & "g " & INT(MOD(ABS(J6),10000)/100) & "s " & ROUND(MOD(ABS(J6),100),0) & "c" -> 0g 5s 1c | N6: =D6 -> Raw Brilliant Smallfish
A7: p | B7: =IF(C7=0, Config!$B$15*Config!$B$20*Config!$B$50, IF(C7=1, Config!$B$15*Config!$B$21*Config!$B$51, IF(C7=2, Config!$B$15*Config!$B$22*Config!$B$52, IF(C7=3, Config!$B$15*Config!$B$23*Config!$B$53, IF(C7=4, Config!$B$15*Config!$B$24*Config!$B$54, IF(C7=5, Config!$B$15*Config!$B$25*Config!$B$55, IF(C7=6, Config!$B$15*Config!$B$26*Config!$B$56, IF(C7=7, Config!$B$15*Config!$B$27*Config!$B$57, "")))))))) -> 0.8 | C7: 1 | D7: Raw Slitherskin Mackerel | E7: 1 | F7: 5 | G7: =IF(E7 < Config!$B$4, Config!$B$4, E7) -> 850 | H7: =G7 * B7 * ( (LN(1 + ($A$5 * F7))^ $A$8 )/(1 + $A$2 * LN(1 + ($A$5 * F7))) + ($A$11 * LN(1 + ($A$5 * F7))^ $A$14) - $A$17) -> 400.89565 | I7: =H7 * (1 - Config!$B$9) -> 340.76131 | J7: =H7 * (1 + Config!$B$10) -> 501.11957 | K7: =IF(I7<0,"-","") & INT(ABS(I7)/10000) & "g " & INT(MOD(ABS(I7),10000)/100) & "s " & ROUND(MOD(ABS(I7),100),0) & "c" -> 0g 3s 41c | L7: =IF(H7<0,"-","") & INT(ABS(H7)/10000) & "g " & INT(MOD(ABS(H7),10000)/100) & "s " & ROUND(MOD(ABS(H7),100),0) & "c" -> 0g 4s 1c | M7: =IF(J7<0,"-","") & INT(ABS(J7)/10000) & "g " & INT(MOD(ABS(J7),10000)/100) & "s " & ROUND(MOD(ABS(J7),100),0) & "c" -> 0g 5s 1c | N7: =D7 -> Raw Slitherskin Mackerel
A8: 3.2 | B8: =IF(C8=0, Config!$B$15*Config!$B$20*Config!$B$50, IF(C8=1, Config!$B$15*Config!$B$21*Config!$B$51, IF(C8=2, Config!$B$15*Config!$B$22*Config!$B$52, IF(C8=3, Config!$B$15*Config!$B$23*Config!$B$53, IF(C8=4, Config!$B$15*Config!$B$24*Config!$B$54, IF(C8=5, Config!$B$15*Config!$B$25*Config!$B$55, IF(C8=6, Config!$B$15*Config!$B$26*Config!$B$56, IF(C8=7, Config!$B$15*Config!$B$27*Config!$B$57, "")))))))) -> 0.8 | C8: 1 | D8: Small Egg | E8: 4 | F8: 5 | G8: =IF(E8 < Config!$B$4, Config!$B$4, E8) -> 850 | H8: =G8 * B8 * ( (LN(1 + ($A$5 * F8))^ $A$8 )/(1 + $A$2 * LN(1 + ($A$5 * F8))) + ($A$11 * LN(1 + ($A$5 * F8))^ $A$14) - $A$17) -> 400.89565 | I8: =H8 * (1 - Config!$B$9) -> 340.76131 | J8: =H8 * (1 + Config!$B$10) -> 501.11957 | K8: =IF(I8<0,"-","") & INT(ABS(I8)/10000) & "g " & INT(MOD(ABS(I8),10000)/100) & "s " & ROUND(MOD(ABS(I8),100),0) & "c" -> 0g 3s 41c | L8: =IF(H8<0,"-","") & INT(ABS(H8)/10000) & "g " & INT(MOD(ABS(H8),10000)/100) & "s " & ROUND(MOD(ABS(H8),100),0) & "c" -> 0g 4s 1c | M8: =IF(J8<0,"-","") & INT(ABS(J8)/10000) & "g " & INT(MOD(ABS(J8),10000)/100) & "s " & ROUND(MOD(ABS(J8),100),0) & "c" -> 0g 5s 1c | N8: =D8 -> Small Egg
B9: =IF(C9=0, Config!$B$15*Config!$B$20*Config!$B$50, IF(C9=1, Config!$B$15*Config!$B$21*Config!$B$51, IF(C9=2, Config!$B$15*Config!$B$22*Config!$B$52, IF(C9=3, Config!$B$15*Config!$B$23*Config!$B$53, IF(C9=4, Config!$B$15*Config!$B$24*Config!$B$54, IF(C9=5, Config!$B$15*Config!$B$25*Config!$B$55, IF(C9=6, Config!$B$15*Config!$B$26*Config!$B$56, IF(C9=7, Config!$B$15*Config!$B$27*Config!$B$57, "")))))))) -> 0.8 | C9: 1 | D9: Meaty Bat Wing | E9: 4 | F9: 5 | G9: =IF(E9 < Config!$B$4, Config!$B$4, E9) -> 850 | H9: =G9 * B9 * ( (LN(1 + ($A$5 * F9))^ $A$8 )/(1 + $A$2 * LN(1 + ($A$5 * F9))) + ($A$11 * LN(1 + ($A$5 * F9))^ $A$14) - $A$17) -> 400.89565 | I9: =H9 * (1 - Config!$B$9) -> 340.76131 | J9: =H9 * (1 + Config!$B$10) -> 501.11957 | K9: =IF(I9<0,"-","") & INT(ABS(I9)/10000) & "g " & INT(MOD(ABS(I9),10000)/100) & "s " & ROUND(MOD(ABS(I9),100),0) & "c" -> 0g 3s 41c | L9: =IF(H9<0,"-","") & INT(ABS(H9)/10000) & "g " & INT(MOD(ABS(H9),10000)/100) & "s " & ROUND(MOD(ABS(H9),100),0) & "c" -> 0g 4s 1c | M9: =IF(J9<0,"-","") & INT(ABS(J9)/10000) & "g " & INT(MOD(ABS(J9),10000)/100) & "s " & ROUND(MOD(ABS(J9),100),0) & "c" -> 0g 5s 1c | N9: =D9 -> Meaty Bat Wing
A10: c | B10: =IF(C10=0, Config!$B$15*Config!$B$20*Config!$B$50, IF(C10=1, Config!$B$15*Config!$B$21*Config!$B$51, IF(C10=2, Config!$B$15*Config!$B$22*Config!$B$52, IF(C10=3, Config!$B$15*Config!$B$23*Config!$B$53, IF(C10=4, Config!$B$15*Config!$B$24*Config!$B$54, IF(C10=5, Config!$B$15*Config!$B$25*Config!$B$55, IF(C10=6, Config!$B$15*Config!$B$26*Config!$B$56, IF(C10=7, Config!$B$15*Config!$B$27*Config!$B$57, "")))))))) -> 0.8 | C10: 1 | D10: Lynx Meat | E10: 5 | F10: 5 | G10: =IF(E10 < Config!$B$4, Config!$B$4, E10) -> 850 | H10: =G10 * B10 * ( (LN(1 + ($A$5 * F10))^ $A$8 )/(1 + $A$2 * LN(1 + ($A$5 * F10))) + ($A$11 * LN(1 + ($A$5 * F10))^ $A$14) - $A$17) -> 400.89565 | I10: =H10 * (1 - Config!$B$9) -> 340.76131 | J10: =H10 * (1 + Config!$B$10) -> 501.11957 | K10: =IF(I10<0,"-","") & INT(ABS(I10)/10000) & "g " & INT(MOD(ABS(I10),10000)/100) & "s " & ROUND(MOD(ABS(I10),100),0) & "c" -> 0g 3s 41c | L10: =IF(H10<0,"-","") & INT(ABS(H10)/10000) & "g " & INT(MOD(ABS(H10),10000)/100) & "s " & ROUND(MOD(ABS(H10),100),0) & "c" -> 0g 4s 1c | M10: =IF(J10<0,"-","") & INT(ABS(J10)/10000) & "g " & INT(MOD(ABS(J10),10000)/100) & "s " & ROUND(MOD(ABS(J10),100),0) & "c" -> 0g 5s 1c | N10: =D10 -> Lynx Meat
A11: 0.05 | B11: =IF(C11=0, Config!$B$15*Config!$B$20*Config!$B$50, IF(C11=1, Config!$B$15*Config!$B$21*Config!$B$51, IF(C11=2, Config!$B$15*Config!$B$22*Config!$B$52, IF(C11=3, Config!$B$15*Config!$B$23*Config!$B$53, IF(C11=4, Config!$B$15*Config!$B$24*Config!$B$54, IF(C11=5, Config!$B$15*Config!$B$25*Config!$B$55, IF(C11=6, Config!$B$15*Config!$B$26*Config!$B$56, IF(C11=7, Config!$B$15*Config!$B$27*Config!$B$57, "")))))))) -> 0.8 | C11: 1 | D11: Bat Flesh | E11: 5 | F11: 5 | G11: =IF(E11 < Config!$B$4, Config!$B$4, E11) -> 850 | H11: =G11 * B11 * ( (LN(1 + ($A$5 * F11))^ $A$8 )/(1 + $A$2 * LN(1 + ($A$5 * F11))) + ($A$11 * LN(1 + ($A$5 * F11))^ $A$14) - $A$17) -> 400.89565 | I11: =H11 * (1 - Config!$B$9) -> 340.76131 | J11: =H11 * (1 + Config!$B$10) -> 501.11957 | K11: =IF(I11<0,"-","") & INT(ABS(I11)/10000) & "g " & INT(MOD(ABS(I11),10000)/100) & "s " & ROUND(MOD(ABS(I11),100),0) & "c" -> 0g 3s 41c | L11: =IF(H11<0,"-","") & INT(ABS(H11)/10000) & "g " & INT(MOD(ABS(H11),10000)/100) & "s " & ROUND(MOD(ABS(H11),100),0) & "c" -> 0g 4s 1c | M11: =IF(J11<0,"-","") & INT(ABS(J11)/10000) & "g " & INT(MOD(ABS(J11),10000)/100) & "s " & ROUND(MOD(ABS(J11),100),0) & "c" -> 0g 5s 1c | N11: =D11 -> Bat Flesh
B12: =IF(C12=0, Config!$B$15*Config!$B$20*Config!$B$50, IF(C12=1, Config!$B$15*Config!$B$21*Config!$B$51, IF(C12=2, Config!$B$15*Config!$B$22*Config!$B$52, IF(C12=3, Config!$B$15*Config!$B$23*Config!$B$53, IF(C12=4, Config!$B$15*Config!$B$24*Config!$B$54, IF(C12=5, Config!$B$15*Config!$B$25*Config!$B$55, IF(C12=6, Config!$B$15*Config!$B$26*Config!$B$56, IF(C12=7, Config!$B$15*Config!$B$27*Config!$B$57, "")))))))) -> 0.8 | C12: 1 | D12: Scorpid Stinger | E12: 8 | F12: 8 | G12: =IF(E12 < Config!$B$4, Config!$B$4, E12) -> 850 | H12: =G12 * B12 * ( (LN(1 + ($A$5 * F12))^ $A$8 )/(1 + $A$2 * LN(1 + ($A$5 * F12))) + ($A$11 * LN(1 + ($A$5 * F12))^ $A$14) - $A$17) -> 826.93951 | I12: =H12 * (1 - Config!$B$9) -> 702.89858 | J12: =H12 * (1 + Config!$B$10) -> 1033.6744 | K12: =IF(I12<0,"-","") & INT(ABS(I12)/10000) & "g " & INT(MOD(ABS(I12),10000)/100) & "s " & ROUND(MOD(ABS(I12),100),0) & "c" -> 0g 7s 3c | L12: =IF(H12<0,"-","") & INT(ABS(H12)/10000) & "g " & INT(MOD(ABS(H12),10000)/100) & "s " & ROUND(MOD(ABS(H12),100),0) & "c" -> 0g 8s 27c | M12: =IF(J12<0,"-","") & INT(ABS(J12)/10000) & "g " & INT(MOD(ABS(J12),10000)/100) & "s " & ROUND(MOD(ABS(J12),100),0) & "c" -> 0g 10s 34c | N12: =D12 -> Scorpid Stinger
A13: r | B13: =IF(C13=0, Config!$B$15*Config!$B$20*Config!$B$50, IF(C13=1, Config!$B$15*Config!$B$21*Config!$B$51, IF(C13=2, Config!$B$15*Config!$B$22*Config!$B$52, IF(C13=3, Config!$B$15*Config!$B$23*Config!$B$53, IF(C13=4, Config!$B$15*Config!$B$24*Config!$B$54, IF(C13=5, Config!$B$15*Config!$B$25*Config!$B$55, IF(C13=6, Config!$B$15*Config!$B$26*Config!$B$56, IF(C13=7, Config!$B$15*Config!$B$27*Config!$B$57, "")))))))) -> 0.8 | C13: 1 | D13: Stringy Vulture Meat | E13: 17 | F13: 10 | G13: =IF(E13 < Config!$B$4, Config!$B$4, E13) -> 850 | H13: =G13 * B13 * ( (LN(1 + ($A$5 * F13))^ $A$8 )/(1 + $A$2 * LN(1 + ($A$5 * F13))) + ($A$11 * LN(1 + ($A$5 * F13))^ $A$14) - $A$17) -> 1110.7427 | I13: =H13 * (1 - Config!$B$9) -> 944.13126 | J13: =H13 * (1 + Config!$B$10) -> 1388.4283 | K13: =IF(I13<0,"-","") & INT(ABS(I13)/10000) & "g " & INT(MOD(ABS(I13),10000)/100) & "s " & ROUND(MOD(ABS(I13),100),0) & "c" -> 0g 9s 44c | L13: =IF(H13<0,"-","") & INT(ABS(H13)/10000) & "g " & INT(MOD(ABS(H13),10000)/100) & "s " & ROUND(MOD(ABS(H13),100),0) & "c" -> 0g 11s 11c | M13: =IF(J13<0,"-","") & INT(ABS(J13)/10000) & "g " & INT(MOD(ABS(J13),10000)/100) & "s " & ROUND(MOD(ABS(J13),100),0) & "c" -> 0g 13s 88c | N13: =D13 -> Stringy Vulture Meat
A14: 3.2 | B14: =IF(C14=0, Config!$B$15*Config!$B$20*Config!$B$50, IF(C14=1, Config!$B$15*Config!$B$21*Config!$B$51, IF(C14=2, Config!$B$15*Config!$B$22*Config!$B$52, IF(C14=3, Config!$B$15*Config!$B$23*Config!$B$53, IF(C14=4, Config!$B$15*Config!$B$24*Config!$B$54, IF(C14=5, Config!$B$15*Config!$B$25*Config!$B$55, IF(C14=6, Config!$B$15*Config!$B$26*Config!$B$56, IF(C14=7, Config!$B$15*Config!$B$27*Config!$B$57, "")))))))) -> 0.8 | C14: 1 | D14: Coyote Meat | E14: 10 | F14: 10 | G14: =IF(E14 < Config!$B$4, Config!$B$4, E14) -> 850 | H14: =G14 * B14 * ( (LN(1 + ($A$5 * F14))^ $A$8 )/(1 + $A$2 * LN(1 + ($A$5 * F14))) + ($A$11 * LN(1 + ($A$5 * F14))^ $A$14) - $A$17) -> 1110.7427 | I14: =H14 * (1 - Config!$B$9) -> 944.13126 | J14: =H14 * (1 + Config!$B$10) -> 1388.4283 | K14: =IF(I14<0,"-","") & INT(ABS(I14)/10000) & "g " & INT(MOD(ABS(I14),10000)/100) & "s " & ROUND(MOD(ABS(I14),100),0) & "c" -> 0g 9s 44c | L14: =IF(H14<0,"-","") & INT(ABS(H14)/10000) & "g " & INT(MOD(ABS(H14),10000)/100) & "s " & ROUND(MOD(ABS(H14),100),0) & "c" -> 0g 11s 11c | M14: =IF(J14<0,"-","") & INT(ABS(J14)/10000) & "g " & INT(MOD(ABS(J14),10000)/100) & "s " & ROUND(MOD(ABS(J14),100),0) & "c" -> 0g 13s 88c | N14: =D14 -> Coyote Meat
B15: =IF(C15=0, Config!$B$15*Config!$B$20*Config!$B$50, IF(C15=1, Config!$B$15*Config!$B$21*Config!$B$51, IF(C15=2, Config!$B$15*Config!$B$22*Config!$B$52, IF(C15=3, Config!$B$15*Config!$B$23*Config!$B$53, IF(C15=4, Config!$B$15*Config!$B$24*Config!$B$54, IF(C15=5, Config!$B$15*Config!$B$25*Config!$B$55, IF(C15=6, Config!$B$15*Config!$B$26*Config!$B$56, IF(C15=7, Config!$B$15*Config!$B$27*Config!$B$57, "")))))))) -> 0.8 | C15: 1 | D15: Boar Intestines | E15: 18 | F15: 10 | G15: =IF(E15 < Config!$B$4, Config!$B$4, E15) -> 850 | H15: =G15 * B15 * ( (LN(1 + ($A$5 * F15))^ $A$8 )/(1 + $A$2 * LN(1 + ($A$5 * F15))) + ($A$11 * LN(1 + ($A$5 * F15))^ $A$14) - $A$17) -> 1110.7427 | I15: =H15 * (1 - Config!$B$9) -> 944.13126 | J15: =H15 * (1 + Config!$B$10) -> 1388.4283 | K15: =IF(I15<0,"-","") & INT(ABS(I15)/10000) & "g " & INT(MOD(ABS(I15),10000)/100) & "s " & ROUND(MOD(ABS(I15),100),0) & "c" -> 0g 9s 44c | L15: =IF(H15<0,"-","") & INT(ABS(H15)/10000) & "g " & INT(MOD(ABS(H15),10000)/100) & "s " & ROUND(MOD(ABS(H15),100),0) & "c" -> 0g 11s 11c | M15: =IF(J15<0,"-","") & INT(ABS(J15)/10000) & "g " & INT(MOD(ABS(J15),10000)/100) & "s " & ROUND(MOD(ABS(J15),100),0) & "c" -> 0g 13s 88c | N15: =D15 -> Boar Intestines
A16: offset | B16: =IF(C16=0, Config!$B$15*Config!$B$20*Config!$B$50, IF(C16=1, Config!$B$15*Config!$B$21*Config!$B$51, IF(C16=2, Config!$B$15*Config!$B$22*Config!$B$52, IF(C16=3, Config!$B$15*Config!$B$23*Config!$B$53, IF(C16=4, Config!$B$15*Config!$B$24*Config!$B$54, IF(C16=5, Config!$B$15*Config!$B$25*Config!$B$55, IF(C16=6, Config!$B$15*Config!$B$26*Config!$B$56, IF(C16=7, Config!$B$15*Config!$B$27*Config!$B$57, "")))))))) -> 0.8 | C16: 1 | D16: Spider Ichor | E16: 16 | F16: 10 | G16: =IF(E16 < Config!$B$4, Config!$B$4, E16) -> 850 | H16: =G16 * B16 * ( (LN(1 + ($A$5 * F16))^ $A$8 )/(1 + $A$2 * LN(1 + ($A$5 * F16))) + ($A$11 * LN(1 + ($A$5 * F16))^ $A$14) - $A$17) -> 1110.7427 | I16: =H16 * (1 - Config!$B$9) -> 944.13126 | J16: =H16 * (1 + Config!$B$10) -> 1388.4283 | K16: =IF(I16<0,"-","") & INT(ABS(I16)/10000) & "g " & INT(MOD(ABS(I16),10000)/100) & "s " & ROUND(MOD(ABS(I16),100),0) & "c" -> 0g 9s 44c | L16: =IF(H16<0,"-","") & INT(ABS(H16)/10000) & "g " & INT(MOD(ABS(H16),10000)/100) & "s " & ROUND(MOD(ABS(H16),100),0) & "c" -> 0g 11s 11c | M16: =IF(J16<0,"-","") & INT(ABS(J16)/10000) & "g " & INT(MOD(ABS(J16),10000)/100) & "s " & ROUND(MOD(ABS(J16),100),0) & "c" -> 0g 13s 88c | N16: =D16 -> Spider Ichor
A17: 0.1 | B17: =IF(C17=0, Config!$B$15*Config!$B$20*Config!$B$50, IF(C17=1, Config!$B$15*Config!$B$21*Config!$B$51, IF(C17=2, Config!$B$15*Config!$B$22*Config!$B$52, IF(C17=3, Config!$B$15*Config!$B$23*Config!$B$53, IF(C17=4, Config!$B$15*Config!$B$24*Config!$B$54, IF(C17=5, Config!$B$15*Config!$B$25*Config!$B$55, IF(C17=6, Config!$B$15*Config!$B$26*Config!$B$56, IF(C17=7, Config!$B$15*Config!$B$27*Config!$B$57, "")))))))) -> 0.8 | C17: 1 | D17: Kodo Meat | E17: 7 | F17: 10 | G17: =IF(E17 < Config!$B$4, Config!$B$4, E17) -> 850 | H17: =G17 * B17 * ( (LN(1 + ($A$5 * F17))^ $A$8 )/(1 + $A$2 * LN(1 + ($A$5 * F17))) + ($A$11 * LN(1 + ($A$5 * F17))^ $A$14) - $A$17) -> 1110.7427 | I17: =H17 * (1 - Config!$B$9) -> 944.13126 | J17: =H17 * (1 + Config!$B$10) -> 1388.4283 | K17: =IF(I17<0,"-","") & INT(ABS(I17)/10000) & "g " & INT(MOD(ABS(I17),10000)/100) & "s " & ROUND(MOD(ABS(I17),100),0) & "c" -> 0g 9s 44c | L17: =IF(H17<0,"-","") & INT(ABS(H17)/10000) & "g " & INT(MOD(ABS(H17),10000)/100) & "s " & ROUND(MOD(ABS(H17),100),0) & "c" -> 0g 11s 11c | M17: =IF(J17<0,"-","") & INT(ABS(J17)/10000) & "g " & INT(MOD(ABS(J17),10000)/100) & "s " & ROUND(MOD(ABS(J17),100),0) & "c" -> 0g 13s 88c | N17: =D17 -> Kodo Meat
B18: =IF(C18=0, Config!$B$15*Config!$B$20*Config!$B$50, IF(C18=1, Config!$B$15*Config!$B$21*Config!$B$51, IF(C18=2, Config!$B$15*Config!$B$22*Config!$B$52, IF(C18=3, Config!$B$15*Config!$B$23*Config!$B$53, IF(C18=4, Config!$B$15*Config!$B$24*Config!$B$54, IF(C18=5, Config!$B$15*Config!$B$25*Config!$B$55, IF(C18=6, Config!$B$15*Config!$B$26*Config!$B$56, IF(C18=7, Config!$B$15*Config!$B$27*Config!$B$57, "")))))))) -> 0.8 | C18: 1 | D18: Strider Meat | E18: 9 | F18: 10 | G18: =IF(E18 < Config!$B$4, Config!$B$4, E18) -> 850 | H18: =G18 * B18 * ( (LN(1 + ($A$5 * F18))^ $A$8 )/(1 + $A$2 * LN(1 + ($A$5 * F18))) + ($A$11 * LN(1 + ($A$5 * F18))^ $A$14) - $A$17) -> 1110.7427 | I18: =H18 * (1 - Config!$B$9) -> 944.13126 | J18: =H18 * (1 + Config!$B$10) -> 1388.4283 | K18: =IF(I18<0,"-","") & INT(ABS(I18)/10000) & "g " & INT(MOD(ABS(I18),10000)/100) & "s " & ROUND(MOD(ABS(I18),100),0) & "c" -> 0g 9s 44c | L18: =IF(H18<0,"-","") & INT(ABS(H18)/10000) & "g " & INT(MOD(ABS(H18),10000)/100) & "s " & ROUND(MOD(ABS(H18),100),0) & "c" -> 0g 11s 11c | M18: =IF(J18<0,"-","") & INT(ABS(J18)/10000) & "g " & INT(MOD(ABS(J18),10000)/100) & "s " & ROUND(MOD(ABS(J18),100),0) & "c" -> 0g 13s 88c | N18: =D18 -> Strider Meat
B19: =IF(C19=0, Config!$B$15*Config!$B$20*Config!$B$50, IF(C19=1, Config!$B$15*Config!$B$21*Config!$B$51, IF(C19=2, Config!$B$15*Config!$B$22*Config!$B$52, IF(C19=3, Config!$B$15*Config!$B$23*Config!$B$53, IF(C19=4, Config!$B$15*Config!$B$24*Config!$B$54, IF(C19=5, Config!$B$15*Config!$B$25*Config!$B$55, IF(C19=6, Config!$B$15*Config!$B$26*Config!$B$56, IF(C19=7, Config!$B$15*Config!$B$27*Config!$B$57, "")))))))) -> 0.8 | C19: 1 | D19: Murloc Eye | E19: 16 | F19: 11 | G19: =IF(E19 < Config!$B$4, Config!$B$4, E19) -> 850 | H19: =G19 * B19 * ( (LN(1 + ($A$5 * F19))^ $A$8 )/(1 + $A$2 * LN(1 + ($A$5 * F19))) + ($A$11 * LN(1 + ($A$5 * F19))^ $A$14) - $A$17) -> 1250.4548 | I19: =H19 * (1 - Config!$B$9) -> 1062.8866 | J19: =H19 * (1 + Config!$B$10) -> 1563.0685 | K19: =IF(I19<0,"-","") & INT(ABS(I19)/10000) & "g " & INT(MOD(ABS(I19),10000)/100) & "s " & ROUND(MOD(ABS(I19),100),0) & "c" -> 0g 10s 63c | L19: =IF(H19<0,"-","") & INT(ABS(H19)/10000) & "g " & INT(MOD(ABS(H19),10000)/100) & "s " & ROUND(MOD(ABS(H19),100),0) & "c" -> 0g 12s 50c | M19: =IF(J19<0,"-","") & INT(ABS(J19)/10000) & "g " & INT(MOD(ABS(J19),10000)/100) & "s " & ROUND(MOD(ABS(J19),100),0) & "c" -> 0g 15s 63c | N19: =D19 -> Murloc Eye
B20: =IF(C20=0, Config!$B$15*Config!$B$20*Config!$B$50, IF(C20=1, Config!$B$15*Config!$B$21*Config!$B$51, IF(C20=2, Config!$B$15*Config!$B$22*Config!$B$52, IF(C20=3, Config!$B$15*Config!$B$23*Config!$B$53, IF(C20=4, Config!$B$15*Config!$B$24*Config!$B$54, IF(C20=5, Config!$B$15*Config!$B$25*Config!$B$55, IF(C20=6, Config!$B$15*Config!$B$26*Config!$B$56, IF(C20=7, Config!$B$15*Config!$B$27*Config!$B$57, "")))))))) -> 0.8 | C20: 1 | D20: Bear Meat | E20: 15 | F20: 11 | G20: =IF(E20 < Config!$B$4, Config!$B$4, E20) -> 850 | H20: =G20 * B20 * ( (LN(1 + ($A$5 * F20))^ $A$8 )/(1 + $A$2 * LN(1 + ($A$5 * F20))) + ($A$11 * LN(1 + ($A$5 * F20))^ $A$14) - $A$17) -> 1250.4548 | I20: =H20 * (1 - Config!$B$9) -> 1062.8866 | J20: =H20 * (1 + Config!$B$10) -> 1563.0685 | K20: =IF(I20<0,"-","") & INT(ABS(I20)/10000) & "g " & INT(MOD(ABS(I20),10000)/100) & "s " & ROUND(MOD(ABS(I20),100),0) & "c" -> 0g 10s 63c | L20: =IF(H20<0,"-","") & INT(ABS(H20)/10000) & "g " & INT(MOD(ABS(H20),10000)/100) & "s " & ROUND(MOD(ABS(H20),100),0) & "c" -> 0g 12s 50c | M20: =IF(J20<0,"-","") & INT(ABS(J20)/10000) & "g " & INT(MOD(ABS(J20),10000)/100) & "s " & ROUND(MOD(ABS(J20),100),0) & "c" -> 0g 15s 63c | N20: =D20 -> Bear Meat
B21: =IF(C21=0, Config!$B$15*Config!$B$20*Config!$B$50, IF(C21=1, Config!$B$15*Config!$B$21*Config!$B$51, IF(C21=2, Config!$B$15*Config!$B$22*Config!$B$52, IF(C21=3, Config!$B$15*Config!$B$23*Config!$B$53, IF(C21=4, Config!$B$15*Config!$B$24*Config!$B$54, IF(C21=5, Config!$B$15*Config!$B$25*Config!$B$55, IF(C21=6, Config!$B$15*Config!$B$26*Config!$B$56, IF(C21=7, Config!$B$15*Config!$B$27*Config!$B$57, "")))))))) -> 0.8 | C21: 1 | D21: Goretusk Liver | E21: 15 | F21: 12 | G21: =IF(E21 < Config!$B$4, Config!$B$4, E21) -> 850 | H21: =G21 * B21 * ( (LN(1 + ($A$5 * F21))^ $A$8 )/(1 + $A$2 * LN(1 + ($A$5 * F21))) + ($A$11 * LN(1 + ($A$5 * F21))^ $A$14) - $A$17) -> 1388.3239 | I21: =H21 * (1 - Config!$B$9) -> 1180.0753 | J21: =H21 * (1 + Config!$B$10) -> 1735.4049 | K21: =IF(I21<0,"-","") & INT(ABS(I21)/10000) & "g " & INT(MOD(ABS(I21),10000)/100) & "s " & ROUND(MOD(ABS(I21),100),0) & "c" -> 0g 11s 80c | L21: =IF(H21<0,"-","") & INT(ABS(H21)/10000) & "g " & INT(MOD(ABS(H21),10000)/100) & "s " & ROUND(MOD(ABS(H21),100),0) & "c" -> 0g 13s 88c | M21: =IF(J21<0,"-","") & INT(ABS(J21)/10000) & "g " & INT(MOD(ABS(J21),10000)/100) & "s " & ROUND(MOD(ABS(J21),100),0) & "c" -> 0g 17s 35c | N21: =D21 -> Goretusk Liver
B22: =IF(C22=0, Config!$B$15*Config!$B$20*Config!$B$50, IF(C22=1, Config!$B$15*Config!$B$21*Config!$B$51, IF(C22=2, Config!$B$15*Config!$B$22*Config!$B$52, IF(C22=3, Config!$B$15*Config!$B$23*Config!$B$53, IF(C22=4, Config!$B$15*Config!$B$24*Config!$B$54, IF(C22=5, Config!$B$15*Config!$B$25*Config!$B$55, IF(C22=6, Config!$B$15*Config!$B$26*Config!$B$56, IF(C22=7, Config!$B$15*Config!$B$27*Config!$B$57, "")))))))) -> 0.8 | C22: 1 | D22: Goretusk Snout | E22: 27 | F22: 12 | G22: =IF(E22 < Config!$B$4, Config!$B$4, E22) -> 850 | H22: =G22 * B22 * ( (LN(1 + ($A$5 * F22))^ $A$8 )/(1 + $A$2 * LN(1 + ($A$5 * F22))) + ($A$11 * LN(1 + ($A$5 * F22))^ $A$14) - $A$17) -> 1388.3239 | I22: =H22 * (1 - Config!$B$9) -> 1180.0753 | J22: =H22 * (1 + Config!$B$10) -> 1735.4049 | K22: =IF(I22<0,"-","") & INT(ABS(I22)/10000) & "g " & INT(MOD(ABS(I22),10000)/100) & "s " & ROUND(MOD(ABS(I22),100),0) & "c" -> 0g 11s 80c | L22: =IF(H22<0,"-","") & INT(ABS(H22)/10000) & "g " & INT(MOD(ABS(H22),10000)/100) & "s " & ROUND(MOD(ABS(H22),100),0) & "c" -> 0g 13s 88c | M22: =IF(J22<0,"-","") & INT(ABS(J22)/10000) & "g " & INT(MOD(ABS(J22),10000)/100) & "s " & ROUND(MOD(ABS(J22),100),0) & "c" -> 0g 17s 35c | N22: =D22 -> Goretusk Snout
B23: =IF(C23=0, Config!$B$15*Config!$B$20*Config!$B$50, IF(C23=1, Config!$B$15*Config!$B$21*Config!$B$51, IF(C23=2, Config!$B$15*Config!$B$22*Config!$B$52, IF(C23=3, Config!$B$15*Config!$B$23*Config!$B$53, IF(C23=4, Config!$B$15*Config!$B$24*Config!$B$54, IF(C23=5, Config!$B$15*Config!$B$25*Config!$B$55, IF(C23=6, Config!$B$15*Config!$B$26*Config!$B$56, IF(C23=7, Config!$B$15*Config!$B$27*Config!$B$57, "")))))))) -> 0.8 | C23: 1 | D23: Crawler Meat | E23: 12 | F23: 13 | G23: =IF(E23 < Config!$B$4, Config!$B$4, E23) -> 850 | H23: =G23 * B23 * ( (LN(1 + ($A$5 * F23))^ $A$8 )/(1 + $A$2 * LN(1 + ($A$5 * F23))) + ($A$11 * LN(1 + ($A$5 * F23))^ $A$14) - $A$17) -> 1524.203 | I23: =H23 * (1 - Config!$B$9) -> 1295.5725 | J23: =H23 * (1 + Config!$B$10) -> 1905.2537 | K23: =IF(I23<0,"-","") & INT(ABS(I23)/10000) & "g " & INT(MOD(ABS(I23),10000)/100) & "s " & ROUND(MOD(ABS(I23),100),0) & "c" -> 0g 12s 96c | L23: =IF(H23<0,"-","") & INT(ABS(H23)/10000) & "g " & INT(MOD(ABS(H23),10000)/100) & "s " & ROUND(MOD(ABS(H23),100),0) & "c" -> 0g 15s 24c | M23: =IF(J23<0,"-","") & INT(ABS(J23)/10000) & "g " & INT(MOD(ABS(J23),10000)/100) & "s " & ROUND(MOD(ABS(J23),100),0) & "c" -> 0g 19s 5c | N23: =D23 -> Crawler Meat
B24: =IF(C24=0, Config!$B$15*Config!$B$20*Config!$B$50, IF(C24=1, Config!$B$15*Config!$B$21*Config!$B$51, IF(C24=2, Config!$B$15*Config!$B$22*Config!$B$52, IF(C24=3, Config!$B$15*Config!$B$23*Config!$B$53, IF(C24=4, Config!$B$15*Config!$B$24*Config!$B$54, IF(C24=5, Config!$B$15*Config!$B$25*Config!$B$55, IF(C24=6, Config!$B$15*Config!$B$26*Config!$B$56, IF(C24=7, Config!$B$15*Config!$B$27*Config!$B$57, "")))))))) -> 0.8 | C24: 1 | D24: Crawler Claw | E24: 11 | F24: 13 | G24: =IF(E24 < Config!$B$4, Config!$B$4, E24) -> 850 | H24: =G24 * B24 * ( (LN(1 + ($A$5 * F24))^ $A$8 )/(1 + $A$2 * LN(1 + ($A$5 * F24))) + ($A$11 * LN(1 + ($A$5 * F24))^ $A$14) - $A$17) -> 1524.203 | I24: =H24 * (1 - Config!$B$9) -> 1295.5725 | J24: =H24 * (1 + Config!$B$10) -> 1905.2537 | K24: =IF(I24<0,"-","") & INT(ABS(I24)/10000) & "g " & INT(MOD(ABS(I24),10000)/100) & "s " & ROUND(MOD(ABS(I24),100),0) & "c" -> 0g 12s 96c | L24: =IF(H24<0,"-","") & INT(ABS(H24)/10000) & "g " & INT(MOD(ABS(H24),10000)/100) & "s " & ROUND(MOD(ABS(H24),100),0) & "c" -> 0g 15s 24c | M24: =IF(J24<0,"-","") & INT(ABS(J24)/10000) & "g " & INT(MOD(ABS(J24),10000)/100) & "s " & ROUND(MOD(ABS(J24),100),0) & "c" -> 0g 19s 5c | N24: =D24 -> Crawler Claw
B25: =IF(C25=0, Config!$B$15*Config!$B$20*Config!$B$50, IF(C25=1, Config!$B$15*Config!$B$21*Config!$B$51, IF(C25=2, Config!$B$15*Config!$B$22*Config!$B$52, IF(C25=3, Config!$B$15*Config!$B$23*Config!$B$53, IF(C25=4, Config!$B$15*Config!$B$24*Config!$B$54, IF(C25=5, Config!$B$15*Config!$B$25*Config!$B$55, IF(C25=6, Config!$B$15*Config!$B$26*Config!$B$56, IF(C25=7, Config!$B$15*Config!$B$27*Config!$B$57, "")))))))) -> 0.8 | C25: 1 | D25: Boar Ribs | E25: 15 | F25: 14 | G25: =IF(E25 < Config!$B$4, Config!$B$4, E25) -> 850 | H25: =G25 * B25 * ( (LN(1 + ($A$5 * F25))^ $A$8 )/(1 + $A$2 * LN(1 + ($A$5 * F25))) + ($A$11 * LN(1 + ($A$5 * F25))^ $A$14) - $A$17) -> 1658.0131 | I25: =H25 * (1 - Config!$B$9) -> 1409.3111 | J25: =H25 * (1 + Config!$B$10) -> 2072.5163 | K25: =IF(I25<0,"-","") & INT(ABS(I25)/10000) & "g " & INT(MOD(ABS(I25),10000)/100) & "s " & ROUND(MOD(ABS(I25),100),0) & "c" -> 0g 14s 9c | L25: =IF(H25<0,"-","") & INT(ABS(H25)/10000) & "g " & INT(MOD(ABS(H25),10000)/100) & "s " & ROUND(MOD(ABS(H25),100),0) & "c" -> 0g 16s 58c | M25: =IF(J25<0,"-","") & INT(ABS(J25)/10000) & "g " & INT(MOD(ABS(J25),10000)/100) & "s " & ROUND(MOD(ABS(J25),100),0) & "c" -> 0g 20s 73c | N25: =D25 -> Boar Ribs
B26: =IF(C26=0, Config!$B$15*Config!$B$20*Config!$B$50, IF(C26=1, Config!$B$15*Config!$B$21*Config!$B$51, IF(C26=2, Config!$B$15*Config!$B$22*Config!$B$52, IF(C26=3, Config!$B$15*Config!$B$23*Config!$B$53, IF(C26=4, Config!$B$15*Config!$B$24*Config!$B$54, IF(C26=5, Config!$B$15*Config!$B$25*Config!$B$55, IF(C26=6, Config!$B$15*Config!$B$26*Config!$B$56, IF(C26=7, Config!$B$15*Config!$B$27*Config!$B$57, "")))))))) -> 0.8 | C26: 1 | D26: Crocolisk Meat | E26: 16 | F26: 14 | G26: =IF(E26 < Config!$B$4, Config!$B$4, E26) -> 850 | H26: =G26 * B26 * ( (LN(1 + ($A$5 * F26))^ $A$8 )/(1 + $A$2 * LN(1 + ($A$5 * F26))) + ($A$11 * LN(1 + ($A$5 * F26))^ $A$14) - $A$17) -> 1658.0131 | I26: =H26 * (1 - Config!$B$9) -> 1409.3111 | J26: =H26 * (1 + Config!$B$10) -> 2072.5163 | K26: =IF(I26<0,"-","") & INT(ABS(I26)/10000) & "g " & INT(MOD(ABS(I26),10000)/100) & "s " & ROUND(MOD(ABS(I26),100),0) & "c" -> 0g 14s 9c | L26: =IF(H26<0,"-","") & INT(ABS(H26)/10000) & "g " & INT(MOD(ABS(H26),10000)/100) & "s " & ROUND(MOD(ABS(H26),100),0) & "c" -> 0g 16s 58c | M26: =IF(J26<0,"-","") & INT(ABS(J26)/10000) & "g " & INT(MOD(ABS(J26),10000)/100) & "s " & ROUND(MOD(ABS(J26),100),0) & "c" -> 0g 20s 73c | N26: =D26 -> Crocolisk Meat
B27: =IF(C27=0, Config!$B$15*Config!$B$20*Config!$B$50, IF(C27=1, Config!$B$15*Config!$B$21*Config!$B$51, IF(C27=2, Config!$B$15*Config!$B$22*Config!$B$52, IF(C27=3, Config!$B$15*Config!$B$23*Config!$B$53, IF(C27=4, Config!$B$15*Config!$B$24*Config!$B$54, IF(C27=5, Config!$B$15*Config!$B$25*Config!$B$55, IF(C27=6, Config!$B$15*Config!$B$26*Config!$B$56, IF(C27=7, Config!$B$15*Config!$B$27*Config!$B$57, "")))))))) -> 0.8 | C27: 1 | D27: Clam Meat | E27: 16 | F27: 14 | G27: =IF(E27 < Config!$B$4, Config!$B$4, E27) -> 850 | H27: =G27 * B27 * ( (LN(1 + ($A$5 * F27))^ $A$8 )/(1 + $A$2 * LN(1 + ($A$5 * F27))) + ($A$11 * LN(1 + ($A$5 * F27))^ $A$14) - $A$17) -> 1658.0131 | I27: =H27 * (1 - Config!$B$9) -> 1409.3111 | J27: =H27 * (1 + Config!$B$10) -> 2072.5163 | K27: =IF(I27<0,"-","") & INT(ABS(I27)/10000) & "g " & INT(MOD(ABS(I27),10000)/100) & "s " & ROUND(MOD(ABS(I27),100),0) & "c" -> 0g 14s 9c | L27: =IF(H27<0,"-","") & INT(ABS(H27)/10000) & "g " & INT(MOD(ABS(H27),10000)/100) & "s " & ROUND(MOD(ABS(H27),100),0) & "c" -> 0g 16s 58c | M27: =IF(J27<0,"-","") & INT(ABS(J27)/10000) & "g " & INT(MOD(ABS(J27),10000)/100) & "s " & ROUND(MOD(ABS(J27),100),0) & "c" -> 0g 20s 73c | N27: =D27 -> Clam Meat
B28: =IF(C28=0, Config!$B$15*Config!$B$20*Config!$B$50, IF(C28=1, Config!$B$15*Config!$B$21*Config!$B$51, IF(C28=2, Config!$B$15*Config!$B$22*Config!$B$52, IF(C28=3, Config!$B$15*Config!$B$23*Config!$B$53, IF(C28=4, Config!$B$15*Config!$B$24*Config!$B$54, IF(C28=5, Config!$B$15*Config!$B$25*Config!$B$55, IF(C28=6, Config!$B$15*Config!$B$26*Config!$B$56, IF(C28=7, Config!$B$15*Config!$B$27*Config!$B$57, "")))))))) -> 0.8 | C28: 1 | D28: Tough Condor Meat | E28: 78 | F28: 15 | G28: =IF(E28 < Config!$B$4, Config!$B$4, E28) -> 850 | H28: =G28 * B28 * ( (LN(1 + ($A$5 * F28))^ $A$8 )/(1 + $A$2 * LN(1 + ($A$5 * F28))) + ($A$11 * LN(1 + ($A$5 * F28))^ $A$14) - $A$17) -> 1789.721 | I28: =H28 * (1 - Config!$B$9) -> 1521.2629 | J28: =H28 * (1 + Config!$B$10) -> 2237.1513 | K28: =IF(I28<0,"-","") & INT(ABS(I28)/10000) & "g " & INT(MOD(ABS(I28),10000)/100) & "s " & ROUND(MOD(ABS(I28),100),0) & "c" -> 0g 15s 21c | L28: =IF(H28<0,"-","") & INT(ABS(H28)/10000) & "g " & INT(MOD(ABS(H28),10000)/100) & "s " & ROUND(MOD(ABS(H28),100),0) & "c" -> 0g 17s 90c | M28: =IF(J28<0,"-","") & INT(ABS(J28)/10000) & "g " & INT(MOD(ABS(J28),10000)/100) & "s " & ROUND(MOD(ABS(J28),100),0) & "c" -> 0g 22s 37c | N28: =D28 -> Tough Condor Meat
B29: =IF(C29=0, Config!$B$15*Config!$B$20*Config!$B$50, IF(C29=1, Config!$B$15*Config!$B$21*Config!$B$51, IF(C29=2, Config!$B$15*Config!$B$22*Config!$B$52, IF(C29=3, Config!$B$15*Config!$B$23*Config!$B$53, IF(C29=4, Config!$B$15*Config!$B$24*Config!$B$54, IF(C29=5, Config!$B$15*Config!$B$25*Config!$B$55, IF(C29=6, Config!$B$15*Config!$B$26*Config!$B$56, IF(C29=7, Config!$B$15*Config!$B$27*Config!$B$57, "")))))))) -> 0.8 | C29: 1 | D29: Crisp Spider Meat | E29: 50 | F29: 15 | G29: =IF(E29 < Config!$B$4, Config!$B$4, E29) -> 850 | H29: =G29 * B29 * ( (LN(1 + ($A$5 * F29))^ $A$8 )/(1 + $A$2 * LN(1 + ($A$5 * F29))) + ($A$11 * LN(1 + ($A$5 * F29))^ $A$14) - $A$17) -> 1789.721 | I29: =H29 * (1 - Config!$B$9) -> 1521.2629 | J29: =H29 * (1 + Config!$B$10) -> 2237.1513 | K29: =IF(I29<0,"-","") & INT(ABS(I29)/10000) & "g " & INT(MOD(ABS(I29),10000)/100) & "s " & ROUND(MOD(ABS(I29),100),0) & "c" -> 0g 15s 21c | L29: =IF(H29<0,"-","") & INT(ABS(H29)/10000) & "g " & INT(MOD(ABS(H29),10000)/100) & "s " & ROUND(MOD(ABS(H29),100),0) & "c" -> 0g 17s 90c | M29: =IF(J29<0,"-","") & INT(ABS(J29)/10000) & "g " & INT(MOD(ABS(J29),10000)/100) & "s " & ROUND(MOD(ABS(J29),100),0) & "c" -> 0g 22s 37c | N29: =D29 -> Crisp Spider Meat
... B133: =IF(C133=0, Config!$B$15*Config!$B$20*Config!$B$50, IF(C133=1, Config!$B$15*Config!$B$21*Config!$B$51, IF(C133=2, Config!$B$15*Config!$B$22*Config!$B$52, IF(C133=3, Config!$B$15*Config!$B$23*Config!$B$53, IF(C133=4, Config!$B$15*Config!$B$24*Config!$B$54, IF(C133=5, Config!$B$15*Config!$B$25*Config!$B$55, IF(C133=6, Config!$B$15*Config!$B$26*Config!$B$56, IF(C133=7, Config!$B$15*Config!$B$27*Config!$B$57, "")))))))) -> 0.8 | C133: 1 | D133: Slippery Eel | E133: 62 | F133: 80 | G133: =IF(E133 < Config!$B$4, Config!$B$4, E133) -> 850 | H133: =G133 * B133 * ( (LN(1 + ($A$5 * F133))^ $A$8 )/(1 + $A$2 * LN(1 + ($A$5 * F133))) + ($A$11 * LN(1 + ($A$5 * F133))^ $A$14) - $A$17) -> 7567.9956 | I133: =H133 * (1 - Config!$B$9) -> 6432.7962 | J133: =H133 * (1 + Config!$B$10) -> 9459.9944 | K133: =IF(I133<0,"-","") & INT(ABS(I133)/10000) & "g " & INT(MOD(ABS(I133),10000)/100) & "s " & ROUND(MOD(ABS(I133),100),0) & "c" -> 0g 64s 33c | L133: =IF(H133<0,"-","") & INT(ABS(H133)/10000) & "g " & INT(MOD(ABS(H133),10000)/100) & "s " & ROUND(MOD(ABS(H133),100),0) & "c" -> 0g 75s 68c | M133: =IF(J133<0,"-","") & INT(ABS(J133)/10000) & "g " & INT(MOD(ABS(J133),10000)/100) & "s " & ROUND(MOD(ABS(J133),100),0) & "c" -> 0g 94s 60c | N133: =D133 -> Slippery Eel

Sheet Herb
A1: a | B1: Quality Multiplier | C1: Quality | D1: NAME | E1: vendor price | F1: itemLevel | G1: Min Price | H1: Avg Price | I1: Low | J1: High | K1: Low End | L1: Average | M1: High End | N1: NAME
A2: 1.8 | B2: =IF(C2=0, Config!$B$15*Config!$B$20*Config!$B$50, IF(C2=1, Config!$B$15*Config!$B$21*Config!$B$51, IF(C2=2, Config!$B$15*Config!$B$22*Config!$B$52, IF(C2=3, Config!$B$15*Config!$B$23*Config!$B$53, IF(C2=4, Config!$B$15*Config!$B$24*Config!$B$54, IF(C2=5, Config!$B$15*Config!$B$25*Config!$B$55, IF(C2=6, Config!$B$15*Config!$B$26*Config!$B$56, IF(C2=7, Config!$B$15*Config!$B$27*Config!$B$57, "")))))))) -> 0.8 | C2: 1 | D2: Bloodthistle | E2: 30 | F2: 5 | G2: =IF(E2 < Config!$B$4, Config!$B$4, E2) -> 850 | H2: =G2 * B2 * ( (LN(1 + ($A$5 * F2))^$A$8)/(1 + $A$2 * LN(1 + ($A$5 * F2))) - $A$17) -> 569.9986 | I2: =H2 * (1 - Config!$B$9) -> 484.49881 | J2: =H2 * (1 + Config!$B$10) -> 712.49825 | K2: =IF(I2<0,"-","") & INT(ABS(I2)/10000) & "g " & INT(MOD(ABS(I2),10000)/100) & "s " & ROUND(MOD(ABS(I2),100),0) & "c" -> 0g 4s 84c | L2: =IF(H2<0,"-","") & INT(ABS(H2)/10000) & "g " & INT(MOD(ABS(H2),10000)/100) & "s " & ROUND(MOD(ABS(H2),100),0) & "c" -> 0g 5s 70c | M2: =IF(J2<0,"-","") & INT(ABS(J2)/10000) & "g " & INT(MOD(ABS(J2),10000)/100) & "s " & ROUND(MOD(ABS(J2),100),0) & "c" -> 0g 7s 12c | N2: =D2 -> Bloodthistle
B3: =IF(C3=0, Config!$B$15*Config!$B$20*Config!$B$50, IF(C3=1, Config!$B$15*Config!$B$21*Config!$B$51, IF(C3=2, Config!$B$15*Config!$B$22*Config!$B$52, IF(C3=3, Config!$B$15*Config!$B$23*Config!$B$53, IF(C3=4, Config!$B$15*Config!$B$24*Config!$B$54, IF(C3=5, Config!$B$15*Config!$B$25*Config!$B$55, IF(C3=6, Config!$B$15*Config!$B$26*Config!$B$56, IF(C3=7, Config!$B$15*Config!$B$27*Config!$B$57, "")))))))) -> 0.8 | C3: 1 | D3: Peacebloom | E3: 10 | F3: 5 | G3: =IF(E3 < Config!$B$4, Config!$B$4, E3) -> 850 | H3: =G3 * B3 * ( (LN(1 + ($A$5 * F3))^$A$8)/(1 + $A$2 * LN(1 + ($A$5 * F3))) - $A$17) -> 569.9986 | I3: =H3 * (1 - Config!$B$9) -> 484.49881 | J3: =H3 * (1 + Config!$B$10) -> 712.49825 | K3: =IF(I3<0,"-","") & INT(ABS(I3)/10000) & "g " & INT(MOD(ABS(I3),10000)/100) & "s " & ROUND(MOD(ABS(I3),100),0) & "c" -> 0g 4s 84c | L3: =IF(H3<0,"-","") & INT(ABS(H3)/10000) & "g " & INT(MOD(ABS(H3),10000)/100) & "s " & ROUND(MOD(ABS(H3),100),0) & "c" -> 0g 5s 70c | M3: =IF(J3<0,"-","") & INT(ABS(J3)/10000) & "g " & INT(MOD(ABS(J3),10000)/100) & "s " & ROUND(MOD(ABS(J3),100),0) & "c" -> 0g 7s 12c | N3: =D3 -> Peacebloom
A4: b | B4: =IF(C4=0, Config!$B$15*Config!$B$20*Config!$B$50, IF(C4=1, Config!$B$15*Config!$B$21*Config!$B$51, IF(C4=2, Config!$B$15*Config!$B$22*Config!$B$52, IF(C4=3, Config!$B$15*Config!$B$23*Config!$B$53, IF(C4=4, Config!$B$15*Config!$B$24*Config!$B$54, IF(C4=5, Config!$B$15*Config!$B$25*Config!$B$55, IF(C4=6, Config!$B$15*Config!$B$26*Config!$B$56, IF(C4=7, Config!$B$15*Config!$B$27*Config!$B$57, "")))))))) -> 0.8 | C4: 1 | D4: Silverleaf | E4: 10 | F4: 5 | G4: =IF(E4 < Config!$B$4, Config!$B$4, E4) -> 850 | H4: =G4 * B4 * ( (LN(1 + ($A$5 * F4))^$A$8)/(1 + $A$2 * LN(1 + ($A$5 * F4))) - $A$17) -> 569.9986 | I4: =H4 * (1 - Config!$B$9) -> 484.49881 | J4: =H4 * (1 + Config!$B$10) -> 712.49825 | K4: =IF(I4<0,"-","") & INT(ABS(I4)/10000) & "g " & INT(MOD(ABS(I4),10000)/100) & "s " & ROUND(MOD(ABS(I4),100),0) & "c" -> 0g 4s 84c | L4: =IF(H4<0,"-","") & INT(ABS(H4)/10000) & "g " & INT(MOD(ABS(H4),10000)/100) & "s " & ROUND(MOD(ABS(H4),100),0) & "c" -> 0g 5s 70c | M4: =IF(J4<0,"-","") & INT(ABS(J4)/10000) & "g " & INT(MOD(ABS(J4),10000)/100) & "s " & ROUND(MOD(ABS(J4),100),0) & "c" -> 0g 7s 12c | N4: =D4 -> Silverleaf
A5: 5 | B5: =IF(C5=0, Config!$B$15*Config!$B$20*Config!$B$50, IF(C5=1, Config!$B$15*Config!$B$21*Config!$B$51, IF(C5=2, Config!$B$15*Config!$B$22*Config!$B$52, IF(C5=3, Config!$B$15*Config!$B$23*Config!$B$53, IF(C5=4, Config!$B$15*Config!$B$24*Config!$B$54, IF(C5=5, Config!$B$15*Config!$B$25*Config!$B$55, IF(C5=6, Config!$B$15*Config!$B$26*Config!$B$56, IF(C5=7, Config!$B$15*Config!$B$27*Config!$B$57, "")))))))) -> 0.8 | C5: 1 | D5: Mageroyal | E5: 20 | F5: 10 | G5: =IF(E5 < Config!$B$4, Config!$B$4, E5) -> 850 | H5: =G5 * B5 * ( (LN(1 + ($A$5 * F5))^$A$8)/(1 + $A$2 * LN(1 + ($A$5 * F5))) - $A$17) -> 2261.127 | I5: =H5 * (1 - Config!$B$9) -> 1921.9579 | J5: =H5 * (1 + Config!$B$10) -> 2826.4087 | K5: =IF(I5<0,"-","") & INT(ABS(I5)/10000) & "g " & INT(MOD(ABS(I5),10000)/100) & "s " & ROUND(MOD(ABS(I5),100),0) & "c" -> 0g 19s 22c | L5: =IF(H5<0,"-","") & INT(ABS(H5)/10000) & "g " & INT(MOD(ABS(H5),10000)/100) & "s " & ROUND(MOD(ABS(H5),100),0) & "c" -> 0g 22s 61c | M5: =IF(J5<0,"-","") & INT(ABS(J5)/10000) & "g " & INT(MOD(ABS(J5),10000)/100) & "s " & ROUND(MOD(ABS(J5),100),0) & "c" -> 0g 28s 26c | N5: =D5 -> Mageroyal
B6: =IF(C6=0, Config!$B$15*Config!$B$20*Config!$B$50, IF(C6=1, Config!$B$15*Config!$B$21*Config!$B$51, IF(C6=2, Config!$B$15*Config!$B$22*Config!$B$52, IF(C6=3, Config!$B$15*Config!$B$23*Config!$B$53, IF(C6=4, Config!$B$15*Config!$B$24*Config!$B$54, IF(C6=5, Config!$B$15*Config!$B$25*Config!$B$55, IF(C6=6, Config!$B$15*Config!$B$26*Config!$B$56, IF(C6=7, Config!$B$15*Config!$B$27*Config!$B$57, "")))))))) -> 0.8 | C6: 1 | D6: Earthroot | E6: 20 | F6: 10 | G6: =IF(E6 < Config!$B$4, Config!$B$4, E6) -> 850 | H6: =G6 * B6 * ( (LN(1 + ($A$5 * F6))^$A$8)/(1 + $A$2 * LN(1 + ($A$5 * F6))) - $A$17) -> 2261.127 | I6: =H6 * (1 - Config!$B$9) -> 1921.9579 | J6: =H6 * (1 + Config!$B$10) -> 2826.4087 | K6: =IF(I6<0,"-","") & INT(ABS(I6)/10000) & "g " & INT(MOD(ABS(I6),10000)/100) & "s " & ROUND(MOD(ABS(I6),100),0) & "c" -> 0g 19s 22c | L6: =IF(H6<0,"-","") & INT(ABS(H6)/10000) & "g " & INT(MOD(ABS(H6),10000)/100) & "s " & ROUND(MOD(ABS(H6),100),0) & "c" -> 0g 22s 61c | M6: =IF(J6<0,"-","") & INT(ABS(J6)/10000) & "g " & INT(MOD(ABS(J6),10000)/100) & "s " & ROUND(MOD(ABS(J6),100),0) & "c" -> 0g 28s 26c | N6: =D6 -> Earthroot
A7: p | B7: =IF(C7=0, Config!$B$15*Config!$B$20*Config!$B$50, IF(C7=1, Config!$B$15*Config!$B$21*Config!$B$51, IF(C7=2, Config!$B$15*Config!$B$22*Config!$B$52, IF(C7=3, Config!$B$15*Config!$B$23*Config!$B$53, IF(C7=4, Config!$B$15*Config!$B$24*Config!$B$54, IF(C7=5, Config!$B$15*Config!$B$25*Config!$B$55, IF(C7=6, Config!$B$15*Config!$B$26*Config!$B$56, IF(C7=7, Config!$B$15*Config!$B$27*Config!$B$57, "")))))))) -> 0.8 | C7: 1 | D7: Swiftthistle | E7: 15 | F7: 15 | G7: =IF(E7 < Config!$B$4, Config!$B$4, E7) -> 850 | H7: =G7 * B7 * ( (LN(1 + ($A$5 * F7))^$A$8)/(1 + $A$2 * LN(1 + ($A$5 * F7))) - $A$17) -> 3423.739 | I7: =H7 * (1 - Config!$B$9) -> 2910.1782 | J7: =H7 * (1 + Config!$B$10) -> 4279.6738 | K7: =IF(I7<0,"-","") & INT(ABS(I7)/10000) & "g " & INT(MOD(ABS(I7),10000)/100) & "s " & ROUND(MOD(ABS(I7),100),0) & "c" -> 0g 29s 10c | L7: =IF(H7<0,"-","") & INT(ABS(H7)/10000) & "g " & INT(MOD(ABS(H7),10000)/100) & "s " & ROUND(MOD(ABS(H7),100),0) & "c" -> 0g 34s 24c | M7: =IF(J7<0,"-","") & INT(ABS(J7)/10000) & "g " & INT(MOD(ABS(J7),10000)/100) & "s " & ROUND(MOD(ABS(J7),100),0) & "c" -> 0g 42s 80c | N7: =D7 -> Swiftthistle
A8: 3 | B8: =IF(C8=0, Config!$B$15*Config!$B$20*Config!$B$50, IF(C8=1, Config!$B$15*Config!$B$21*Config!$B$51, IF(C8=2, Config!$B$15*Config!$B$22*Config!$B$52, IF(C8=3, Config!$B$15*Config!$B$23*Config!$B$53, IF(C8=4, Config!$B$15*Config!$B$24*Config!$B$54, IF(C8=5, Config!$B$15*Config!$B$25*Config!$B$55, IF(C8=6, Config!$B$15*Config!$B$26*Config!$B$56, IF(C8=7, Config!$B$15*Config!$B$27*Config!$B$57, "")))))))) -> 0.8 | C8: 1 | D8: Briarthorn | E8: 25 | F8: 15 | G8: =IF(E8 < Config!$B$4, Config!$B$4, E8) -> 850 | H8: =G8 * B8 * ( (LN(1 + ($A$5 * F8))^$A$8)/(1 + $A$2 * LN(1 + ($A$5 * F8))) - $A$17) -> 3423.739 | I8: =H8 * (1 - Config!$B$9) -> 2910.1782 | J8: =H8 * (1 + Config!$B$10) -> 4279.6738 | K8: =IF(I8<0,"-","") & INT(ABS(I8)/10000) & "g " & INT(MOD(ABS(I8),10000)/100) & "s " & ROUND(MOD(ABS(I8),100),0) & "c" -> 0g 29s 10c | L8: =IF(H8<0,"-","") & INT(ABS(H8)/10000) & "g " & INT(MOD(ABS(H8),10000)/100) & "s " & ROUND(MOD(ABS(H8),100),0) & "c" -> 0g 34s 24c | M8: =IF(J8<0,"-","") & INT(ABS(J8)/10000) & "g " & INT(MOD(ABS(J8),10000)/100) & "s " & ROUND(MOD(ABS(J8),100),0) & "c" -> 0g 42s 80c | N8: =D8 -> Briarthorn
B9: =IF(C9=0, Config!$B$15*Config!$B$20*Config!$B$50, IF(C9=1, Config!$B$15*Config!$B$21*Config!$B$51, IF(C9=2, Config!$B$15*Config!$B$22*Config!$B$52, IF(C9=3, Config!$B$15*Config!$B$23*Config!$B$53, IF(C9=4, Config!$B$15*Config!$B$24*Config!$B$54, IF(C9=5, Config!$B$15*Config!$B$25*Config!$B$55, IF(C9=6, Config!$B$15*Config!$B$26*Config!$B$56, IF(C9=7, Config!$B$15*Config!$B$27*Config!$B$57, "")))))))) -> 0.8 | C9: 1 | D9: Bruiseweed | E9: 25 | F9: 20 | G9: =IF(E9 < Config!$B$4, Config!$B$4, E9) -> 850 | H9: =G9 * B9 * ( (LN(1 + ($A$5 * F9))^$A$8)/(1 + $A$2 * LN(1 + ($A$5 * F9))) - $A$17) -> 4325.8812 | I9: =H9 * (1 - Config!$B$9) -> 3676.999 | J9: =H9 * (1 + Config!$B$10) -> 5407.3515 | K9: =IF(I9<0,"-","") & INT(ABS(I9)/10000) & "g " & INT(MOD(ABS(I9),10000)/100) & "s " & ROUND(MOD(ABS(I9),100),0) & "c" -> 0g 36s 77c | L9: =IF(H9<0,"-","") & INT(ABS(H9)/10000) & "g " & INT(MOD(ABS(H9),10000)/100) & "s " & ROUND(MOD(ABS(H9),100),0) & "c" -> 0g 43s 26c | M9: =IF(J9<0,"-","") & INT(ABS(J9)/10000) & "g " & INT(MOD(ABS(J9),10000)/100) & "s " & ROUND(MOD(ABS(J9),100),0) & "c" -> 0g 54s 7c | N9: =D9 -> Bruiseweed
B10: =IF(C10=0, Config!$B$15*Config!$B$20*Config!$B$50, IF(C10=1, Config!$B$15*Config!$B$21*Config!$B$51, IF(C10=2, Config!$B$15*Config!$B$22*Config!$B$52, IF(C10=3, Config!$B$15*Config!$B$23*Config!$B$53, IF(C10=4, Config!$B$15*Config!$B$24*Config!$B$54, IF(C10=5, Config!$B$15*Config!$B$25*Config!$B$55, IF(C10=6, Config!$B$15*Config!$B$26*Config!$B$56, IF(C10=7, Config!$B$15*Config!$B$27*Config!$B$57, "")))))))) -> 0.8 | C10: 1 | D10: Stranglekelp | E10: 100 | F10: 20 | G10: =IF(E10 < Config!$B$4, Config!$B$4, E10) -> 850 | H10: =G10 * B10 * ( (LN(1 + ($A$5 * F10))^$A$8)/(1 + $A$2 * LN(1 + ($A$5 * F10))) - $A$17) -> 4325.8812 | I10: =H10 * (1 - Config!$B$9) -> 3676.999 | J10: =H10 * (1 + Config!$B$10) -> 5407.3515 | K10: =IF(I10<0,"-","") & INT(ABS(I10)/10000) & "g " & INT(MOD(ABS(I10),10000)/100) & "s " & ROUND(MOD(ABS(I10),100),0) & "c" -> 0g 36s 77c | L10: =IF(H10<0,"-","") & INT(ABS(H10)/10000) & "g " & INT(MOD(ABS(H10),10000)/100) & "s " & ROUND(MOD(ABS(H10),100),0) & "c" -> 0g 43s 26c | M10: =IF(J10<0,"-","") & INT(ABS(J10)/10000) & "g " & INT(MOD(ABS(J10),10000)/100) & "s " & ROUND(MOD(ABS(J10),100),0) & "c" -> 0g 54s 7c | N10: =D10 -> Stranglekelp
B11: =IF(C11=0, Config!$B$15*Config!$B$20*Config!$B$50, IF(C11=1, Config!$B$15*Config!$B$21*Config!$B$51, IF(C11=2, Config!$B$15*Config!$B$22*Config!$B$52, IF(C11=3, Config!$B$15*Config!$B$23*Config!$B$53, IF(C11=4, Config!$B$15*Config!$B$24*Config!$B$54, IF(C11=5, Config!$B$15*Config!$B$25*Config!$B$55, IF(C11=6, Config!$B$15*Config!$B$26*Config!$B$56, IF(C11=7, Config!$B$15*Config!$B$27*Config!$B$57, "")))))))) -> 0.8 | C11: 1 | D11: Wild Steelbloom | E11: 50 | F11: 22 | G11: =IF(E11 < Config!$B$4, Config!$B$4, E11) -> 850 | H11: =G11 * B11 * ( (LN(1 + ($A$5 * F11))^$A$8)/(1 + $A$2 * LN(1 + ($A$5 * F11))) - $A$17) -> 4638.8633 | I11: =H11 * (1 - Config!$B$9) -> 3943.0338 | J11: =H11 * (1 + Config!$B$10) -> 5798.5791 | K11: =IF(I11<0,"-","") & INT(ABS(I11)/10000) & "g " & INT(MOD(ABS(I11),10000)/100) & "s " & ROUND(MOD(ABS(I11),100),0) & "c" -> 0g 39s 43c | L11: =IF(H11<0,"-","") & INT(ABS(H11)/10000) & "g " & INT(MOD(ABS(H11),10000)/100) & "s " & ROUND(MOD(ABS(H11),100),0) & "c" -> 0g 46s 39c | M11: =IF(J11<0,"-","") & INT(ABS(J11)/10000) & "g " & INT(MOD(ABS(J11),10000)/100) & "s " & ROUND(MOD(ABS(J11),100),0) & "c" -> 0g 57s 99c | N11: =D11 -> Wild Steelbloom
B12: =IF(C12=0, Config!$B$15*Config!$B$20*Config!$B$50, IF(C12=1, Config!$B$15*Config!$B$21*Config!$B$51, IF(C12=2, Config!$B$15*Config!$B$22*Config!$B$52, IF(C12=3, Config!$B$15*Config!$B$23*Config!$B$53, IF(C12=4, Config!$B$15*Config!$B$24*Config!$B$54, IF(C12=5, Config!$B$15*Config!$B$25*Config!$B$55, IF(C12=6, Config!$B$15*Config!$B$26*Config!$B$56, IF(C12=7, Config!$B$15*Config!$B$27*Config!$B$57, "")))))))) -> 0.8 | C12: 1 | D12: Grave Moss | E12: 25 | F12: 22 | G12: =IF(E12 < Config!$B$4, Config!$B$4, E12) -> 850 | H12: =G12 * B12 * ( (LN(1 + ($A$5 * F12))^$A$8)/(1 + $A$2 * LN(1 + ($A$5 * F12))) - $A$17) -> 4638.8633 | I12: =H12 * (1 - Config!$B$9) -> 3943.0338 | J12: =H12 * (1 + Config!$B$10) -> 5798.5791 | K12: =IF(I12<0,"-","") & INT(ABS(I12)/10000) & "g " & INT(MOD(ABS(I12),10000)/100) & "s " & ROUND(MOD(ABS(I12),100),0) & "c" -> 0g 39s 43c | L12: =IF(H12<0,"-","") & INT(ABS(H12)/10000) & "g " & INT(MOD(ABS(H12),10000)/100) & "s " & ROUND(MOD(ABS(H12),100),0) & "c" -> 0g 46s 39c | M12: =IF(J12<0,"-","") & INT(ABS(J12)/10000) & "g " & INT(MOD(ABS(J12),10000)/100) & "s " & ROUND(MOD(ABS(J12),100),0) & "c" -> 0g 57s 99c | N12: =D12 -> Grave Moss
B13: =IF(C13=0, Config!$B$15*Config!$B$20*Config!$B$50, IF(C13=1, Config!$B$15*Config!$B$21*Config!$B$51, IF(C13=2, Config!$B$15*Config!$B$22*Config!$B$52, IF(C13=3, Config!$B$15*Config!$B$23*Config!$B$53, IF(C13=4, Config!$B$15*Config!$B$24*Config!$B$54, IF(C13=5, Config!$B$15*Config!$B$25*Config!$B$55, IF(C13=6, Config!$B$15*Config!$B$26*Config!$B$56, IF(C13=7, Config!$B$15*Config!$B$27*Config!$B$57, "")))))))) -> 0.8 | C13: 1 | D13: Kingsblood | E13: 30 | F13: 24 | G13: =IF(E13 < Config!$B$4, Config!$B$4, E13) -> 850 | H13: =G13 * B13 * ( (LN(1 + ($A$5 * F13))^$A$8)/(1 + $A$2 * LN(1 + ($A$5 * F13))) - $A$17) -> 4930.7098 | I13: =H13 * (1 - Config!$B$9) -> 4191.1033 | J13: =H13 * (1 + Config!$B$10) -> 6163.3872 | K13: =IF(I13<0,"-","") & INT(ABS(I13)/10000) & "g " & INT(MOD(ABS(I13),10000)/100) & "s " & ROUND(MOD(ABS(I13),100),0) & "c" -> 0g 41s 91c | L13: =IF(H13<0,"-","") & INT(ABS(H13)/10000) & "g " & INT(MOD(ABS(H13),10000)/100) & "s " & ROUND(MOD(ABS(H13),100),0) & "c" -> 0g 49s 31c | M13: =IF(J13<0,"-","") & INT(ABS(J13)/10000) & "g " & INT(MOD(ABS(J13),10000)/100) & "s " & ROUND(MOD(ABS(J13),100),0) & "c" -> 0g 61s 63c | N13: =D13 -> Kingsblood
B14: =IF(C14=0, Config!$B$15*Config!$B$20*Config!$B$50, IF(C14=1, Config!$B$15*Config!$B$21*Config!$B$51, IF(C14=2, Config!$B$15*Config!$B$22*Config!$B$52, IF(C14=3, Config!$B$15*Config!$B$23*Config!$B$53, IF(C14=4, Config!$B$15*Config!$B$24*Config!$B$54, IF(C14=5, Config!$B$15*Config!$B$25*Config!$B$55, IF(C14=6, Config!$B$15*Config!$B$26*Config!$B$56, IF(C14=7, Config!$B$15*Config!$B$27*Config!$B$57, "")))))))) -> 0.8 | C14: 1 | D14: Liferoot | E14: 75 | F14: 30 | G14: =IF(E14 < Config!$B$4, Config!$B$4, E14) -> 850 | H14: =G14 * B14 * ( (LN(1 + ($A$5 * F14))^$A$8)/(1 + $A$2 * LN(1 + ($A$5 * F14))) - $A$17) -> 5705.8017 | I14: =H14 * (1 - Config!$B$9) -> 4849.9315 | J14: =H14 * (1 + Config!$B$10) -> 7132.2521 | K14: =IF(I14<0,"-","") & INT(ABS(I14)/10000) & "g " & INT(MOD(ABS(I14),10000)/100) & "s " & ROUND(MOD(ABS(I14),100),0) & "c" -> 0g 48s 50c | L14: =IF(H14<0,"-","") & INT(ABS(H14)/10000) & "g " & INT(MOD(ABS(H14),10000)/100) & "s " & ROUND(MOD(ABS(H14),100),0) & "c" -> 0g 57s 6c | M14: =IF(J14<0,"-","") & INT(ABS(J14)/10000) & "g " & INT(MOD(ABS(J14),10000)/100) & "s " & ROUND(MOD(ABS(J14),100),0) & "c" -> 0g 71s 32c | N14: =D14 -> Liferoot
B15: =IF(C15=0, Config!$B$15*Config!$B$20*Config!$B$50, IF(C15=1, Config!$B$15*Config!$B$21*Config!$B$51, IF(C15=2, Config!$B$15*Config!$B$22*Config!$B$52, IF(C15=3, Config!$B$15*Config!$B$23*Config!$B$53, IF(C15=4, Config!$B$15*Config!$B$24*Config!$B$54, IF(C15=5, Config!$B$15*Config!$B$25*Config!$B$55, IF(C15=6, Config!$B$15*Config!$B$26*Config!$B$56, IF(C15=7, Config!$B$15*Config!$B$27*Config!$B$57, "")))))))) -> 0.8 | C15: 1 | D15: Fadeleaf | E15: 125 | F15: 32 | G15: =IF(E15 < Config!$B$4, Config!$B$4, E15) -> 850 | H15: =G15 * B15 * ( (LN(1 + ($A$5 * F15))^$A$8)/(1 + $A$2 * LN(1 + ($A$5 * F15))) - $A$17) -> 5937.1145 | I15: =H15 * (1 - Config!$B$9) -> 5046.5473 | J15: =H15 * (1 + Config!$B$10) -> 7421.3932 | K15: =IF(I15<0,"-","") & INT(ABS(I15)/10000) & "g " & INT(MOD(ABS(I15),10000)/100) & "s " & ROUND(MOD(ABS(I15),100),0) & "c" -> 0g 50s 47c | L15: =IF(H15<0,"-","") & INT(ABS(H15)/10000) & "g " & INT(MOD(ABS(H15),10000)/100) & "s " & ROUND(MOD(ABS(H15),100),0) & "c" -> 0g 59s 37c | M15: =IF(J15<0,"-","") & INT(ABS(J15)/10000) & "g " & INT(MOD(ABS(J15),10000)/100) & "s " & ROUND(MOD(ABS(J15),100),0) & "c" -> 0g 74s 21c | N15: =D15 -> Fadeleaf
A16: offset | B16: =IF(C16=0, Config!$B$15*Config!$B$20*Config!$B$50, IF(C16=1, Config!$B$15*Config!$B$21*Config!$B$51, IF(C16=2, Config!$B$15*Config!$B$22*Config!$B$52, IF(C16=3, Config!$B$15*Config!$B$23*Config!$B$53, IF(C16=4, Config!$B$15*Config!$B$24*Config!$B$54, IF(C16=5, Config!$B$15*Config!$B$25*Config!$B$55, IF(C16=6, Config!$B$15*Config!$B$26*Config!$B$56, IF(C16=7, Config!$B$15*Config!$B$27*Config!$B$57, "")))))))) -> 0.8 | C16: 1 | D16: Goldthorn | E16: 150 | F16: 34 | G16: =IF(E16 < Config!$B$4, Config!$B$4, E16) -> 850 | H16: =G16 * B16 * ( (LN(1 + ($A$5 * F16))^$A$8)/(1 + $A$2 * LN(1 + ($A$5 * F16))) - $A$17) -> 6157.313 | I16: =H16 * (1 - Config!$B$9) -> 5233.716 | J16: =H16 * (1 + Config!$B$10) -> 7696.6412 | K16: =IF(I16<0,"-","") & INT(ABS(I16)/10000) & "g " & INT(MOD(ABS(I16),10000)/100) & "s " & ROUND(MOD(ABS(I16),100),0) & "c" -> 0g 52s 34c | L16: =IF(H16<0,"-","") & INT(ABS(H16)/10000) & "g " & INT(MOD(ABS(H16),10000)/100) & "s " & ROUND(MOD(ABS(H16),100),0) & "c" -> 0g 61s 57c | M16: =IF(J16<0,"-","") & INT(ABS(J16)/10000) & "g " & INT(MOD(ABS(J16),10000)/100) & "s " & ROUND(MOD(ABS(J16),100),0) & "c" -> 0g 76s 97c | N16: =D16 -> Goldthorn
A17: 4.2 | B17: =IF(C17=0, Config!$B$15*Config!$B$20*Config!$B$50, IF(C17=1, Config!$B$15*Config!$B$21*Config!$B$51, IF(C17=2, Config!$B$15*Config!$B$22*Config!$B$52, IF(C17=3, Config!$B$15*Config!$B$23*Config!$B$53, IF(C17=4, Config!$B$15*Config!$B$24*Config!$B$54, IF(C17=5, Config!$B$15*Config!$B$25*Config!$B$55, IF(C17=6, Config!$B$15*Config!$B$26*Config!$B$56, IF(C17=7, Config!$B$15*Config!$B$27*Config!$B$57, "")))))))) -> 0.8 | C17: 1 | D17: Khadgar's Whisker | E17: 175 | F17: 37 | G17: =IF(E17 < Config!$B$4, Config!$B$4, E17) -> 850 | H17: =G17 * B17 * ( (LN(1 + ($A$5 * F17))^$A$8)/(1 + $A$2 * LN(1 + ($A$5 * F17))) - $A$17) -> 6469.1493 | I17: =H17 * (1 - Config!$B$9) -> 5498.7769 | J17: =H17 * (1 + Config!$B$10) -> 8086.4366 | K17: =IF(I17<0,"-","") & INT(ABS(I17)/10000) & "g " & INT(MOD(ABS(I17),10000)/100) & "s " & ROUND(MOD(ABS(I17),100),0) & "c" -> 0g 54s 99c | L17: =IF(H17<0,"-","") & INT(ABS(H17)/10000) & "g " & INT(MOD(ABS(H17),10000)/100) & "s " & ROUND(MOD(ABS(H17),100),0) & "c" -> 0g 64s 69c | M17: =IF(J17<0,"-","") & INT(ABS(J17)/10000) & "g " & INT(MOD(ABS(J17),10000)/100) & "s " & ROUND(MOD(ABS(J17),100),0) & "c" -> 0g 80s 86c | N17: =D17 -> Khadgar's Whisker
